{"text_format":"1","workbook":"xlsx","n_sheets":5,"sheets":["ProjectData","DropDowns","CTI INPUTS","DATA CALCULATIONS","Summary"],"not_rendered":{"charts":13,"images":37,"macros":1,"external_links":0,"defined_names":2,"comments":0,"pivot_tables":0},"unopened":[],"bounds":{"document_bytes":16777216,"sheet_cells":100000,"rows_first":2000,"rows_last":500,"rows_between":2000,"halvings":0,"cell_chars":16384,"cell_head_chars":4096},"cells_cut":0,"cells_raw":0,"read":"whole","date_system":"1900"}

{"sheet":"ProjectData","index":0,"n_rows":53,"n_cols":11,"rows_kept":53,"cut":false,"hidden":false,"merged":[[11,5,11,7],[16,1,16,3],[16,5,16,7],[39,4,39,5],[39,6,39,7],[21,1,21,2],[21,5,21,6],[12,5,12,7],[22,3,34,11],[51,4,51,5],[51,6,51,7],[51,8,51,9],[51,10,51,11],[52,4,52,5],[52,6,52,7],[52,8,52,9],[52,10,52,11],[49,4,49,5],[49,6,49,7],[49,8,49,9],[49,10,49,11],[50,4,50,5],[50,6,50,7],[50,8,50,9],[50,10,50,11],[47,4,47,5],[47,6,47,7],[47,8,47,9],[47,10,47,11],[48,4,48,5],[48,6,48,7],[48,8,48,9],[48,10,48,11],[45,4,45,5],[45,6,45,7],[45,8,45,9],[45,10,45,11],[46,4,46,5],[46,6,46,7],[46,8,46,9],[46,10,46,11],[43,8,43,9],[43,10,43,11],[44,4,44,5],[44,6,44,7],[44,8,44,9],[44,10,44,11],[43,6,43,7],[51,2,51,3],[52,2,52,3],[41,4,41,5],[41,6,41,7],[41,8,41,9],[41,2,41,3],[42,2,42,3],[43,2,43,3],[44,2,44,3],[47,2,47,3],[48,2,48,3],[49,2,49,3],[50,2,50,3],[45,2,45,3],[46,2,46,3],[43,4,43,5],[41,10,41,11],[42,4,42,5],[42,6,42,7],[42,8,42,9],[42,10,42,11],[2,1,2,11],[15,5,15,7],[40,2,40,3],[40,4,40,5],[40,6,40,7],[40,8,40,9],[40,10,40,11],[38,2,39,3],[39,8,39,9],[39,10,39,11],[6,5,6,7],[21,9,21,10],[10,8,18,11],[12,1,12,3],[15,1,15,3],[11,1,11,3]]}
[]
[]
[null,"TM: TOUGH SUPPORT SAVINGS CALCULATOR"]
[]
[]
[]
[null,null,null,null,"Project Name:","Miller SNB5-6"]
[]
[null,"Project Charateristics:",null,"                                     "]
[]
[]
[null,"Tray Installation Rates (USD/HR):",null,null,null,"Tray Support Finish:"]
[null,100,null,null,null,"Zinc"]
[]
[]
[null,"Tray Trapeze Support Span (ft):",null,null,null,"Tray Cover Requirement:"]
[null,5,null,null,null,"Not Required"]
[]
[null,"Straight Sections:"]
[]
[]
[null,"All Height X 10ft Long"]
[null,"Width (in)","Linear FT"]
[null,"2in"]
[null,"4in"]
[null,"6in"]
[null,"8in"]
[null,"10in"]
[null,"12in",15360]
[null,"16in"]
[null,"18in",4880]
[null,"20in"]
[null,"24in"]
[null,"30in"]
[null,"36in"]
[]
[null,"Fitting Sections:"]
[]
[null,null,{"$error":"#VALUE!"}]
[null,{"$error":"#VALUE!"},null,null,{"$error":"#VALUE!"},null,{"$error":"#VALUE!"},null,{"$error":"#VALUE!"},null,{"$error":"#VALUE!"}]
[null,"Width (in)","45 HB",null,"90 HB",null,"Verticals *",null,"Horizontal Tee *",null,"Horizontal Cross *"]
[null,"2in"]
[null,"4in"]
[null,"6in"]
[null,"8in"]
[null,"10in"]
[null,"12in",null,null,5,null,12,null,60,null,10]
[null,"16in"]
[null,"18in"]
[null,"20in"]
[null,"24in"]
[null,"30in"]
[null,"36in"]

{"sheet":"DropDowns","index":1,"n_rows":6,"n_cols":5,"rows_kept":6,"cut":false,"hidden":true,"merged":[]}
["Support Span","Finish","Labor Rates","Covers","Finish Cost"]
[5,"Zinc",50,"Required",{"$f":"1","v":1}]
[6,"Hot Dip",75,"Not Required",{"$f":"2.5","v":2.5}]
[null,"Stainless",100,null,{"$f":"4","v":4}]
[null,"Painted",125,null,{"$f":"3","v":3}]
[null,null,150]

{"sheet":"CTI INPUTS","index":2,"n_rows":69,"n_cols":35,"rows_kept":69,"cut":false,"hidden":true,"merged":[[10,26,10,29],[10,31,10,34],[25,11,25,14],[25,16,25,19],[25,21,25,24],[25,26,25,29],[25,31,25,34],[10,11,10,14],[10,16,10,19],[10,21,10,24]]}
[]
[]
[null,"SUPPORT SPAN (FT)",{"$f":"ProjectData!B17","v":5}]
[null,"Material Finish Factor"]
[null,"can","HOUR ($)"]
[null,"TRAY INSTALLER",{"$f":"ProjectData!B13","v":100}]
[]
[null,"Zinc","Hot Dip","Stainless","Painted"]
[null,1,2.5,4,3]
[]
[null,"SUPPORT  ITEMS","Base Cost ($)",{"$f":"ProjectData!F13","v":"Zinc"},null,null,null,null,null,null,null,"C2G 45 FITTING",null,null,null,null,"C2G 90 FITTING",null,null,null,null,"VERTICAL BENDS",null,null,null,null,"HORIZONTAL TEE",null,null,null,null,"HORIZONTAL CROSS"]
[null,"SQUARE WASHER  (PC)",1,{"$f":"_xlfn.IFS($D$11=$C$8,$C$9*C12,$D$11=$D$8,$D$9*C12,$D$11=$E$8,$E$9*C12,$D$11=$B$8,$B$9*C12)","v":1},null,null,null,null,null,null,null,"TRAY WIDTH","CUTS  QTY","WSKIT (kits)","WSKIT (pcs)",null,"TRAY WIDTH","CUTS  QTY","WSKIT (kits)","WSKIT (pcs)",null,"TRAY WIDTH","CUTS  QTY","WSKIT (kits)","WSKIT (pcs)",null,"TRAY WIDTH","CUTS  QTY","WSKIT (kits)","WSKIT (pcs)",null,"TRAY WIDTH","CUTS  QTY","WSKIT (kits)","WSKIT (pcs)"]
[null,"FLAT WASHER  (PC)",0.15,{"$f":"_xlfn.IFS($D$11=$C$8,$C$9*C13,$D$11=$D$8,$D$9*C13,$D$11=$E$8,$E$9*C13,$D$11=$B$8,$B$9*C13)","v":0.15},null,null,null,null,null,null,null,2,6,1,4,null,2,6,1,4,null,2,18,0,0,null,2,10,3,12,null,2,20,6,24]
[null,"HEX NUT  (PC)",0.25,{"$f":"_xlfn.IFS($D$11=$C$8,$C$9*C14,$D$11=$D$8,$D$9*C14,$D$11=$E$8,$E$9*C14,$D$11=$B$8,$B$9*C14)","v":0.25},null,null,null,null,null,null,null,4,8,1,4,null,4,16,2,8,null,4,36,0,0,null,4,12,3,12,null,4,24,6,24]
[null,"WIRE  (FT)",1,{"$f":"_xlfn.IFS($D$11=$C$8,$C$9*C15,$D$11=$D$8,$D$9*C15,$D$11=$E$8,$E$9*C15,$D$11=$B$8,$B$9*C15)","v":1},null,null,null,null,null,null,null,6,20,2,8,null,6,30,3,12,null,6,36,0,0,null,6,13,3,12,null,6,26,6,24]
[null,"WIRE CLAMP  (PR)",4,{"$f":"_xlfn.IFS($D$11=$C$8,$C$9*C16,$D$11=$D$8,$D$9*C16,$D$11=$E$8,$E$9*C16,$D$11=$B$8,$B$9*C16)","v":4},null,null,null,null,null,null,null,8,24,2,8,null,8,48,4,16,null,8,36,0,0,null,8,14,3,12,null,8,28,6,24]
[null,"STRUT 12G  (FT)",4.5,{"$f":"_xlfn.IFS($D$11=$C$8,$C$9*C17,$D$11=$D$8,$D$9*C17,$D$11=$E$8,$E$9*C17,$D$11=$B$8,$B$9*C17)","v":4.5},null,null,null,null,null,null,null,10,42,3,12,null,10,70,5,20,null,10,36,0,0,null,10,15,3,12,null,10,30,6,24]
[null,"3/8\" ATR  (FT)",1.7,{"$f":"_xlfn.IFS($D$11=$C$8,$C$9*C18,$D$11=$D$8,$D$9*C18,$D$11=$E$8,$E$9*C18,$D$11=$B$8,$B$9*C18)","v":1.7},null,null,null,null,null,null,null,12,48,3,12,null,12,96,6,24,null,12,36,0,0,null,12,16,4,16,null,12,32,8,32]
[null,"URH-06  (PC)",4.99,{"$f":"_xlfn.IFS($D$11=$C$8,$C$9*C19,$D$11=$D$8,$D$9*C19,$D$11=$E$8,$E$9*C19,$D$11=$B$8,$B$9*C19)","v":4.99},null,null,null,null,null,null,null,16,60,3,12,null,16,140,7,28,null,16,36,0,0,null,16,18,4,16,null,16,36,8,32]
[null,"URH-08  (PC)",5.82,{"$f":"_xlfn.IFS($D$11=$C$8,$C$9*C20,$D$11=$D$8,$D$9*C20,$D$11=$E$8,$E$9*C20,$D$11=$B$8,$B$9*C20)","v":5.82},null,null,null,null,null,null,null,18,88,4,16,null,18,176,8,32,null,18,36,0,0,null,18,19,4,16,null,18,38,8,32]
[null,"URH-10  (PC)",6.65,{"$f":"_xlfn.IFS($D$11=$C$8,$C$9*C21,$D$11=$D$8,$D$9*C21,$D$11=$E$8,$E$9*C21,$D$11=$B$8,$B$9*C21)","v":6.65},null,null,null,null,null,null,null,20,96,4,16,null,20,216,9,36,null,20,36,0,0,null,20,20,4,16,null,20,40,8,32]
[null,"URH-12  (PC)",7.47,{"$f":"_xlfn.IFS($D$11=$C$8,$C$9*C22,$D$11=$D$8,$D$9*C22,$D$11=$E$8,$E$9*C22,$D$11=$B$8,$B$9*C22)","v":7.47},null,null,null,null,null,null,null,24,140,5,20,null,24,308,11,44,null,24,36,0,0,null,24,22,4,16,null,24,44,8,32]
[null,"URH-16  (PC)",9.14,{"$f":"_xlfn.IFS($D$11=$C$8,$C$9*C23,$D$11=$D$8,$D$9*C23,$D$11=$E$8,$E$9*C23,$D$11=$B$8,$B$9*C23)","v":9.14},null,null,null,null,null,null,null,30,216,6,24,null,30,468,13,52,null,30,36,0,0,null,30,25,4,16,null,30,50,8,32]
[null,"URH-18  (PC)",9.9700000000000006,{"$f":"_xlfn.IFS($D$11=$C$8,$C$9*C24,$D$11=$D$8,$D$9*C24,$D$11=$E$8,$E$9*C24,$D$11=$B$8,$B$9*C24)","v":9.9700000000000006},null,null,null,null,null,null,null,36,294,7,28,null,36,588,14,56,null,36,36,0,0,null,36,28,5,20,null,36,56,10,40]
[null,"URH-20  (PC)",10.81,{"$f":"_xlfn.IFS($D$11=$C$8,$C$9*C25,$D$11=$D$8,$D$9*C25,$D$11=$E$8,$E$9*C25,$D$11=$B$8,$B$9*C25)","v":10.81}]
[null,"URH-22  (PC)",12.45,{"$f":"_xlfn.IFS($D$11=$C$8,$C$9*C26,$D$11=$D$8,$D$9*C26,$D$11=$E$8,$E$9*C26,$D$11=$B$8,$B$9*C26)","v":12.45},null,null,null,null,null,null,null,"C2G 45 FITTING FABRICATION TIME (MIN)",null,null,null,null,"C2G 90 FITTING FABRICATION TIME (MIN)",null,null,null,null,"VERTICAL BENDS FABRICATION TIME (MIN)",null,null,null,null,"HORIZONTAL TEE FABRICATION TIME (MIN)",null,null,null,null,"HORIZONTAL CROSS FABRICATION TIME (MIN)"]
[null,"URH-24  (PC)",12.45,{"$f":"_xlfn.IFS($D$11=$C$8,$C$9*C27,$D$11=$D$8,$D$9*C27,$D$11=$E$8,$E$9*C27,$D$11=$B$8,$B$9*C27)","v":12.45},null,null,null,null,null,null,null,"TRAY WIDTH","CUTS  TIME","WSKIT TIME",null,null,"TRAY WIDTH","CUTS  TIME","WSKIT TIME",null,null,"TRAY WIDTH","CUTS  TIME","WSKIT TIME",null,null,"TRAY WIDTH","CUTS  TIME","WSKIT TIME",null,null,"TRAY WIDTH","CUTS  TIME","WSKIT TIME"]
[null,"URH-28  (PC)",14.09,{"$f":"_xlfn.IFS($D$11=$C$8,$C$9*C28,$D$11=$D$8,$D$9*C28,$D$11=$E$8,$E$9*C28,$D$11=$B$8,$B$9*C28)","v":14.09},null,null,null,null,null,null,null,2,0.3,0.5,null,null,2,0.3,0.5,null,null,2,0.9,0,null,null,2,0.5,1.5,null,null,2,1,3]
[null,"URH-34  (PC)",16.57,{"$f":"_xlfn.IFS($D$11=$C$8,$C$9*C29,$D$11=$D$8,$D$9*C29,$D$11=$E$8,$E$9*C29,$D$11=$B$8,$B$9*C29)","v":16.57},null,null,null,null,null,null,null,4,0.4,0.5,null,null,4,0.8,1,null,null,4,1.8,0,null,null,4,0.6,1.5,null,null,4,1.2,3]
[null,"URH-40  (PC)",19.05,{"$f":"_xlfn.IFS($D$11=$C$8,$C$9*C30,$D$11=$D$8,$D$9*C30,$D$11=$E$8,$E$9*C30,$D$11=$B$8,$B$9*C30)","v":19.05},null,null,null,null,null,null,null,6,1,1,null,null,6,1.5,1.5,null,null,6,1.8,0,null,null,6,0.65,1.5,null,null,6,1.3,3]
[null,null,null,null,null,null,null,null,null,null,null,8,1.2,1,null,null,8,1.9,2,null,null,8,1.8,0,null,null,8,0.7,1.5,null,null,8,1.4,3]
[null,"INSTALLATION ","TIME (MIN)",null,null,null,null,null,null,null,null,10,2.1,1.5,null,null,10,3.5,2.5,null,null,10,1.8,0,null,null,10,0.75,1.5,null,null,10,1.5,3]
[null,"WSKIT / KIT",0.5,null,null,null,null,null,null,null,null,12,2.4,1.5,null,null,12,4.8,3,null,null,12,1.8,0,null,null,12,0.8,2,null,null,12,1.6,4]
[null,"POSI-LOK / PIECE",0.2,null,null,null,null,null,null,null,null,16,3,1.5,null,null,16,7,3.5,null,null,16,1.8,0,null,null,16,0.9,2,null,null,16,1.8,4]
[null,"HOLD DOWN CLAMP / KIT",0.5,null,null,null,null,null,null,null,null,18,4.4000000000000004,2,null,null,18,8.8000000000000007,4,null,null,18,1.8,0,null,null,18,0.95,2,null,null,18,1.9,4]
[null,"SRC CLIP / PIECE",0.05,null,null,null,null,null,null,null,null,20,4.8,2,null,null,20,10.8,4.5,null,null,20,1.8,0,null,null,20,1,2,null,null,20,2,4]
[null,"STRUT TRAPEZE ",4,null,null,null,null,null,null,null,null,24,7,2.5,null,null,24,15.4,5.5,null,null,24,1.8,0,null,null,24,1.1000000000000001,2,null,null,24,2.2000000000000002,4]
[null,"URH TRAPEZE",3,null,null,null,null,null,null,null,null,30,10.8,3,null,null,30,23.4,6.5,null,null,30,1.8,0,null,null,30,1.25,2,null,null,30,2.5,4]
[null,"WIRE TRAPEZE",2,null,null,null,null,null,null,null,null,36,14.7,3.5,null,null,36,29.4,7,null,null,36,1.8,0,null,null,36,1.4,2.5,null,null,36,2.8,5]
[]
[null,"HOLD DOWN CLAMPS","WEIGHT (LBS)","COST ($)"]
[null,"FLXW HOLD DOWN",null,2.0099999999999998]
[null,"25HX CAP SCREW (PC)",null,0.7]
[null,"25NC CHANNEL NUT (PC)",null,0.9]
[null,"SRC STRUT CLIP (PC)",null,2.75]
[]
[null,"ALL THRTEADED ROD","FT / SUPPORT"]
[null,"3/8\" ATR",4]
[]
[null,"WIRE HANGER","FT / SUPPORT"]
[null,"3/8\" ATR",6]
[]
[]
[null,"COVER INSTALLATION ","TIME (MIN)"]
[null,"HDKIT / 10FT COVER",5]
[null,"SNAP-ON / 10FT COVER",0.5]
[]
[null,"URH TRAY INSTALLATION","TIME (MIN)"]
[null,"URH TAB BENDING",0.1]
[]
[null,"ACCESSORIES ","COST ($)"]
[null,"WSKIT SPLICE (KIT)",1]
[null,"POSI-LOK SPLICE (PC)",6.29]
[null,"FLXW + HARDWARE (PC)",4.5]
[null,"SRC CLIP (PC)",3.12]
[]
[]
[null,"URH LINEAR FEET","COST ($)"]
[null,"URH COST PER 1FT",7.07]

{"sheet":"DATA CALCULATIONS","index":3,"n_rows":297,"n_cols":99,"rows_kept":297,"cut":false,"hidden":true,"merged":[[294,7,294,9],[295,7,295,9],[295,12,295,14],[294,12,294,14],[293,12,293,14],[290,12,290,14],[289,12,289,14],[288,12,288,14],[281,1,281,3],[283,12,283,14],[282,12,282,14],[281,12,281,14],[286,7,286,10],[286,12,286,15],[287,7,287,10],[293,7,293,9],[292,7,292,10],[292,12,292,15],[287,12,287,15],[291,7,291,10],[291,12,291,15],[288,7,288,9],[289,7,289,9],[290,7,290,9],[272,12,272,16],[272,1,272,5],[279,7,279,10],[282,1,282,3],[283,1,283,3],[284,1,284,3],[273,1,273,4],[279,1,279,4],[278,1,278,4],[278,7,278,10],[277,12,277,14],[276,12,276,14],[275,12,275,14],[274,12,274,14],[274,7,274,9],[275,7,275,9],[276,7,276,9],[277,7,277,9],[280,7,280,9],[281,7,281,9],[282,7,282,9],[283,7,283,9],[273,7,273,10],[280,12,280,14],[162,8,162,13],[158,8,158,13],[172,8,172,10],[272,7,272,10],[274,1,274,3],[275,1,275,3],[276,1,276,3],[277,1,277,3],[280,1,280,3],[279,12,279,15],[273,12,273,15],[211,1,211,2],[212,1,212,2],[174,1,174,2],[175,1,175,2],[188,8,188,10],[190,8,190,10],[175,8,175,10],[177,8,177,10],[179,8,179,10],[184,8,184,10],[186,8,186,10],[177,1,177,2],[194,1,194,2],[170,16,170,18],[176,16,176,18],[178,16,178,18],[184,16,184,18],[186,16,186,18],[164,16,164,18],[167,16,167,21],[169,16,169,18],[171,16,171,18],[173,16,173,21],[174,16,174,18],[251,23,251,25],[251,27,251,29],[251,56,251,58],[251,60,251,62],[255,60,255,63],[236,60,236,63],[217,60,217,63],[149,1,149,2],[157,1,157,2],[163,1,163,2],[165,1,165,2],[168,1,168,2],[217,35,217,36],[236,35,236,36],[255,35,255,36],[217,45,217,46],[236,45,236,46],[255,45,255,46],[173,1,173,2],[176,1,176,2],[179,1,179,2],[184,1,184,2],[236,38,236,39],[236,41,236,43],[236,48,236,50],[236,52,236,54],[236,56,236,58],[236,65,236,67],[239,1,250,1],[108,10,108,20],[236,1,236,3],[236,10,236,11],[236,17,236,18],[236,20,236,21],[236,23,236,25],[236,27,236,29],[187,1,187,2],[192,1,192,2],[195,1,195,2],[197,1,197,2],[199,1,199,2],[200,1,200,2],[208,1,208,2],[205,1,205,2],[207,1,207,2],[213,1,213,2],[138,1,138,2],[156,16,156,18],[3,44,3,45],[3,46,3,47],[3,76,3,78],[3,33,3,34],[3,83,3,85],[18,83,18,85],[3,91,3,94],[18,91,18,93],[39,91,39,94],[18,33,18,35],[18,80,18,82],[18,87,18,89],[22,33,22,35],[22,37,22,39],[37,33,37,35],[37,37,37,39],[22,53,22,54],[37,83,37,85],[37,80,37,82],[22,91,22,94],[22,87,22,90],[22,73,22,75],[22,76,22,78],[39,73,39,75],[56,76,56,78],[73,73,73,75],[73,76,73,78],[73,87,73,90],[56,91,56,94],[73,91,73,94],[90,73,90,75],[90,76,90,78],[90,87,90,90],[90,91,90,94],[22,80,22,82],[22,83,22,85],[39,80,39,82],[39,83,39,85],[56,80,56,82],[39,87,39,90],[56,87,56,90],[88,83,88,85],[88,80,88,82],[71,80,71,82],[71,87,71,89],[71,83,71,85],[73,63,73,64],[90,63,90,64],[22,66,22,68],[22,69,22,71],[39,66,39,68],[39,69,39,71],[56,66,56,68],[56,69,56,71],[73,66,73,68],[73,69,73,71],[90,66,90,68],[90,69,90,71],[2,21,2,22],[2,26,2,27],[3,21,3,22],[3,40,3,42],[18,40,18,42],[2,37,2,39],[2,40,2,42],[18,37,18,39],[18,30,18,32],[3,24,3,25],[255,41,255,43],[255,48,255,50],[255,52,255,54],[255,56,255,58],[255,65,255,67],[258,1,269,1],[270,23,270,25],[270,27,270,29],[270,56,270,58],[270,60,270,62],[255,1,255,3],[255,10,255,11],[255,17,255,18],[255,20,255,21],[255,23,255,25],[255,27,255,29],[255,38,255,39],[134,16,134,18],[217,38,217,39],[217,41,217,43],[217,48,217,50],[217,52,217,54],[217,56,217,58],[145,1,145,5],[150,1,150,5],[154,1,154,5],[159,1,159,5],[161,1,161,2],[160,1,160,2],[158,1,158,2],[156,1,156,2],[155,1,155,2],[153,1,153,2],[152,1,152,2],[151,1,151,2],[148,1,148,2],[147,1,147,2],[146,1,146,2],[167,8,167,10],[169,8,169,10],[166,8,166,10],[217,10,217,11],[217,17,217,18],[217,20,217,21],[203,1,203,2],[202,1,202,2],[201,16,201,17],[149,8,149,10],[165,8,165,10],[168,16,168,18],[166,16,166,18],[159,16,159,18],[161,16,161,18],[162,16,162,18],[163,16,163,18],[162,1,162,2],[166,1,166,2],[168,8,168,10],[154,16,154,18],[150,16,150,18],[154,8,154,13],[151,8,151,10],[158,16,158,18],[160,16,160,18],[165,16,165,18],[151,16,151,18],[152,16,152,18],[147,16,147,18],[148,16,148,18],[155,16,155,18],[157,16,157,18],[217,65,217,67],[220,1,231,1],[232,23,232,25],[232,27,232,29],[232,56,232,58],[232,60,232,62],[217,23,217,25],[217,27,217,29],[196,1,196,2],[206,1,206,2],[204,1,204,2],[207,16,207,17],[208,16,208,17],[209,16,209,17],[200,16,200,17],[210,16,210,17],[198,1,198,2],[217,1,217,3],[144,1,144,5],[144,8,144,13],[138,5,138,7],[140,5,140,7],[134,10,134,12],[140,1,140,2],[144,16,144,21],[161,8,161,10],[160,8,160,10],[157,8,157,10],[146,16,146,18],[145,16,145,21],[149,16,149,21],[153,16,153,21],[145,8,145,13],[150,8,150,13],[146,8,146,10],[155,8,155,10],[159,8,159,10],[156,8,156,10],[153,8,153,10],[152,8,152,10],[148,8,148,10],[147,8,147,10],[105,91,105,93],[22,96,22,98],[39,96,39,98],[56,96,56,98],[73,96,73,98],[90,96,90,98],[112,5,112,7],[114,5,114,7],[37,91,37,93],[54,91,54,93],[71,91,71,93],[88,91,88,93],[37,87,37,89],[39,33,39,35],[39,37,39,39],[39,59,39,61],[22,13,22,14],[39,13,39,14],[56,83,56,85],[73,80,73,82],[73,83,73,85],[90,80,90,82],[90,83,90,85],[22,59,22,61],[128,1,128,2],[22,24,22,25],[39,24,39,25],[18,7,18,8],[37,7,37,8],[3,1,3,3],[22,16,22,17],[22,19,22,20],[39,7,39,8],[42,1,53,1],[22,7,22,8],[25,1,36,1],[6,1,17,1],[39,16,39,17],[39,19,39,20],[22,10,22,11],[39,10,39,11],[56,16,56,17],[124,1,124,2],[116,5,116,7],[118,5,118,7],[118,1,118,2],[116,1,116,2],[22,1,22,3],[3,96,3,98],[3,66,3,68],[2,5,2,8],[3,7,3,8],[3,30,3,32],[3,37,3,39],[3,56,3,58],[3,73,3,75],[3,53,3,54],[3,80,3,82],[3,26,3,27],[2,24,2,25],[2,19,2,20],[3,50,3,51],[2,44,2,45],[2,46,2,47],[3,63,3,64],[3,87,3,90],[3,59,3,61],[3,69,3,71],[3,19,3,20],[3,10,3,11],[2,30,2,32],[2,33,2,35],[39,1,39,3],[54,87,54,89],[56,1,56,3],[56,7,56,8],[56,13,56,14],[56,10,56,11],[56,24,56,25],[56,33,56,35],[56,37,56,39],[56,59,56,61],[54,83,54,85],[56,50,56,51],[54,80,54,82],[54,7,54,8],[54,33,54,35],[54,37,54,39],[56,40,56,42],[54,30,54,32],[56,30,56,32],[39,50,39,51],[39,63,39,64],[56,63,56,64],[39,76,39,78],[56,73,56,75],[22,30,22,32],[37,30,37,32],[22,50,22,51],[22,56,22,58],[22,63,22,64],[76,1,87,1],[73,16,73,17],[73,19,73,20],[73,30,73,32],[73,40,73,42],[73,33,73,35],[73,37,73,39],[73,59,73,61],[59,1,70,1],[71,7,71,8],[71,33,71,35],[71,37,71,39],[73,1,73,3],[73,7,73,8],[71,30,71,32],[71,40,71,42],[73,10,73,11],[73,24,73,25],[39,30,39,32],[105,83,105,85],[22,44,22,45],[39,44,39,45],[56,44,56,45],[73,44,73,45],[105,87,105,89],[105,30,105,32],[105,40,105,42],[90,30,90,32],[90,40,90,42],[90,56,90,58],[90,33,90,35],[90,37,90,39],[90,59,90,61],[90,44,90,45],[90,53,90,54],[88,87,88,89],[88,30,88,32],[105,80,105,82],[88,33,88,35],[88,37,88,39],[73,50,73,51],[22,40,22,42],[37,40,37,42],[88,7,88,8],[39,40,39,42],[54,40,54,42],[56,19,56,20],[88,40,88,42],[90,50,90,51],[39,56,39,58],[56,56,56,58],[73,56,73,58],[39,53,39,54],[56,53,56,54],[73,53,73,54],[73,13,73,14],[105,7,105,8],[105,33,105,35],[105,37,105,39],[93,1,104,1],[90,1,90,3],[108,1,108,8],[110,10,110,13],[136,1,136,2],[136,5,136,7],[110,16,110,18],[126,1,126,2],[126,5,126,7],[122,1,122,2],[90,16,90,17],[90,19,90,20],[90,7,90,8],[90,13,90,14],[90,10,90,11],[90,24,90,25],[114,1,114,2],[112,1,112,2],[120,5,120,7],[128,5,128,7],[120,1,120,2],[202,16,202,17],[203,16,203,17],[205,16,205,17],[206,16,206,17],[193,1,193,2],[164,8,164,10],[163,8,163,10],[188,1,188,2],[191,1,191,2],[185,1,185,2],[183,1,183,2],[182,1,182,2],[186,1,186,2],[180,1,180,2],[178,1,178,2],[171,1,171,2],[169,1,169,2],[167,1,167,2],[164,1,164,2],[172,1,172,2],[191,16,191,17],[192,16,192,17],[193,16,193,17],[194,16,194,17],[195,16,195,17],[196,16,196,17],[198,16,198,17],[199,16,199,17],[183,8,183,10],[191,8,191,10],[187,8,187,10],[189,8,189,10],[185,8,185,10],[190,16,190,19],[187,16,187,18],[182,8,182,10],[182,16,182,18],[180,16,180,21],[183,16,183,18],[185,16,185,18],[173,8,173,10],[174,8,174,10],[176,8,176,10],[178,8,178,10],[180,8,180,10],[175,16,175,18],[177,16,177,18],[179,16,179,18]]}
[]
[null,"TOUGHMESH TSS DATA CALCULATION SHEET"]
[]
[null,"STRAIGHT SECTIONS",null,null,null,"SPLICE",null,"POSI-LOK",null,null,"COVER FIXINGS",null,null,"SUPPORT QTY","TSS: SUPPORT QTY",null,"SUPPORT L/FT","TSS: SUPPORT L/FT",null,"ATR HANGER",null,"TSS: ATR HANGER",null,null,"WIRE HANGER",null,"TSS: WIRE HANGER",null,null,null,"ATR HARDWARE QUANTITY",null,null,"TSS: ATR HARDWARE QUANTITY",null,null,null,"HOLD DOWN & HDWR QUANTITY",null,null,"TSS: HOLD DOWN & HDWR QUANTITY",null,null,null,"SRC CLIP",null,"TSS: SRC CLIP",null,null,null,"SPLICE INSTALLATION TIME (MIN)",null,null,"COVER INSTAL TIME (MIN)",null,null,"SUPPORT INSTALLATION TIME (MIN)",null,null,"TSS: SUPPORT INSTALLATION TIME (MIN)",null,null,null,"SPLICE INSTALLATION COST ($)",null,null,"SUPPORT INSTALLATION COST ($)",null,null,"TSS: SUPPORT INSTALLATION COST ($)",null,null,null,"SUPPORT COST ($)",null,null,"TSS: SUPPORT COST ($)",null,null,null,"ATR HARDWARE COST $",null,null,"TSS: ATR HARDWARE COST $",null,null,null,"HOLD DOWN CLAMPS & HARDWARE COST ($)",null,null,null,"TSS: HOLD DOWN CLAMPS & HARDWARE COST ($)",null,null,null,null,"SUPPORT WEIGHT (LBS)"]
[]
[null,"HEIGHT","WIDTH","LINEAR FT",null,"WSKIT (pcs)",null,"PLOKM (pcs)","WSKIT (pcs)",null,"HDKIT (pcs)","SNAP-ON",null,"ALL TYPES","ALL TYPES",null,"STRUT (FT)","STRUT (FT)",null,"LINEAR FT"," LBS","LINEAR FT"," LBS",null,"LINEAR FT"," LBS","LINEAR FT"," LBS",null,null,"SQ WSHR","FLT WSHR","HEX NUT","SQ WSHR","FLT WSHR","HEX NUT",null,"FLXW","25HX","25NC","FLXW","25HX","25NC",null,"QUANTITY (pc)","INSTAL (MIN)","QUANTITY (pc)","INSTAL (MIN)",null,null,"WSKIT","POSI-LOK + WSKIT",null,"HDKIT","SNAP-ON",null,"STRUT","URH","WIRE","STRUT","URH","WIRE",null,"WSKIT","POSI-LOK + WSKIT",null,"STRUT","URH","WIRE","STRUT","URH","WIRE",null,"STRUT","URH","WIRE","STRUT","URH","WIRE",null,"SQUARE WSHR","FLAT WSHR","HEX NUT","SQUARE WSHR","FLAT WSHR","HEX NUT",null,"FLXW","25HX","25NC","SRC CLIP","FLXW","25HX","25NC","SRC CLIP",null,"STRUT","URH","WIRE"]
[null,"2/4/6in","2in",{"$f":"ProjectData!C24","v":0},null,{"$f":"(D7/10)*8","v":0},null,{"$f":"(D7/10)*2","v":0},{"$f":"(D7/10)*0","v":0},null,{"$f":"(D7/10)*36","v":0},0,null,{"$f":"D7/('CTI INPUTS'!C3)","v":0},{"$f":"D7/10","v":0},null,{"$f":"(6*N7)/12","v":0},{"$f":"(6*O7)/12","v":0},null,{"$f":"N7*'CTI INPUTS'!$C$48","v":0},{"$f":"T7*('CTI INPUTS'!C14)","v":0},{"$f":"O7*'CTI INPUTS'!$C$48","v":0},{"$f":"V7*('CTI INPUTS'!$C$14)","v":0},null,{"$f":"N7*'CTI INPUTS'!C51","v":0},{"$f":"Y7*('CTI INPUTS'!C15)","v":0},{"$f":"O7*'CTI INPUTS'!$C$51","v":0},{"$f":"AA7*('CTI INPUTS'!E15)","v":0},null,null,{"$f":"N7*4","v":0},{"$f":"N7*4","v":0},{"$f":"N7*4","v":0},{"$f":"O7*4","v":0},{"$f":"O7*4","v":0},{"$f":"O7*4","v":0},null,{"$f":"N7*2","v":0},{"$f":"N7*2","v":0},{"$f":"N7*2","v":0},{"$f":"O7*2","v":0},{"$f":"O7*2","v":0},{"$f":"O7*2","v":0},null,{"$f":"N7*1","v":0},{"$f":"AS7*'CTI INPUTS'!$C$36","v":0},{"$f":"O7*1","v":0},{"$f":"AU7*'CTI INPUTS'!$C$36","v":0},null,null,{"$f":"(F7/4)*'CTI INPUTS'!$C$33","v":0},{"$f":"(H7*'CTI INPUTS'!$C$34)+(I7*'CTI INPUTS'!$C$33)","v":0},null,{"$f":"(D7/10)*'CTI INPUTS'!C55","v":0},{"$f":"(D7/10)*'CTI INPUTS'!C56","v":0},null,{"$f":"N7*'CTI INPUTS'!$C$37","v":0},{"$f":"N7*'CTI INPUTS'!$C$38","v":0},{"$f":"N7*'CTI INPUTS'!$C$39","v":0},{"$f":"O7*'CTI INPUTS'!$C$37","v":0},{"$f":"O7*'CTI INPUTS'!$C$38","v":0},{"$f":"O7*'CTI INPUTS'!$C$39","v":0},null,{"$f":"(AY7*'CTI INPUTS'!C6)/60","v":0},{"$f":"(AZ7*'CTI INPUTS'!C6)/60","v":0},null,{"$f":"(N7*'CTI INPUTS'!$C$37)*(('CTI INPUTS'!$C$6)/60)","v":0},{"$f":"(BF7/60)*'CTI INPUTS'!$C$6","v":0},{"$f":"(BG7/60)*'CTI INPUTS'!$C$6","v":0},{"$f":"(O7*'CTI INPUTS'!$C$37)*(('CTI INPUTS'!$C$6)/60)","v":0},{"$f":"(BI7/60)*'CTI INPUTS'!$C$6","v":0},{"$f":"(BJ7/60)*'CTI INPUTS'!$C$6","v":0},null,{"$f":"(Q7*('CTI INPUTS'!$D$17))+(T7*('CTI INPUTS'!$D$18))+(AE7*('CTI INPUTS'!$D$12))+(AF7*('CTI INPUTS'!$D$13))+(AG7*('CTI INPUTS'!$D$14))","v":0},{"$f":"(N7*('CTI INPUTS'!$D$19))+(T7*('CTI INPUTS'!$D$18))+(AG7*('CTI INPUTS'!$D$14))","v":0},{"$f":"(Y7*'CTI INPUTS'!$D$15)+(N7*'CTI INPUTS'!$D$16)","v":0},{"$f":"(R7*('CTI INPUTS'!$D$17))+(V7*('CTI INPUTS'!$D$18))+(AH7*('CTI INPUTS'!$D$12))+(AI7*('CTI INPUTS'!$D$13))+(AJ7*('CTI INPUTS'!$D$14))","v":0},{"$f":"(O7*('CTI INPUTS'!$D$19))+(V7*('CTI INPUTS'!$D$18))+(AJ7*('CTI INPUTS'!$D$14))","v":0},{"$f":"(AA7*'CTI INPUTS'!$D$15)+(O7*'CTI INPUTS'!$D$16)","v":0},null,{"$f":"(AE7*('CTI INPUTS'!$D$12))","v":0},{"$f":"(AF7*('CTI INPUTS'!$D$13))","v":0},{"$f":"(AG7*('CTI INPUTS'!$D$14))","v":0},{"$f":"(AH7*('CTI INPUTS'!$D$12))","v":0},{"$f":"(AI7*('CTI INPUTS'!$D$13))","v":0},{"$f":"(AJ7*('CTI INPUTS'!$D$14))","v":0},null,{"$f":"AL7*'CTI INPUTS'!$D$42","v":0},{"$f":"AM7*'CTI INPUTS'!$D$43","v":0},{"$f":"AN7*'CTI INPUTS'!$D$44","v":0},{"$f":"AS7*'CTI INPUTS'!$D$45","v":0},{"$f":"AO7*'CTI INPUTS'!$D$42","v":0},{"$f":"AP7*'CTI INPUTS'!$D$43","v":0},{"$f":"AQ7*'CTI INPUTS'!$D$44","v":0},{"$f":"AU7*'CTI INPUTS'!$D$45","v":0}]
[null,null,"4in",{"$f":"ProjectData!C25","v":0},null,{"$f":"(D8/10)*16","v":0},null,0,{"$f":"(D8/10)*0","v":0},null,{"$f":"(D8/10)*36","v":0},0,null,{"$f":"D8/('CTI INPUTS'!C3)","v":0},{"$f":"D8/10","v":0},null,{"$f":"(8*N8)/12","v":0},{"$f":"(8*O8)/12","v":0},null,{"$f":"N8*'CTI INPUTS'!C48","v":0},{"$f":"T8*('CTI INPUTS'!C14)","v":0},{"$f":"O8*'CTI INPUTS'!$C$48","v":0},{"$f":"V8*('CTI INPUTS'!$C$14)","v":0},null,{"$f":"N8*'CTI INPUTS'!C51","v":0},{"$f":"Y8*('CTI INPUTS'!C15)","v":0},{"$f":"O8*'CTI INPUTS'!$C$51","v":0},{"$f":"AA8*('CTI INPUTS'!E15)","v":0},null,null,{"$f":"N8*4","v":0},{"$f":"N8*4","v":0},{"$f":"N8*4","v":0},{"$f":"O8*4","v":0},{"$f":"O8*4","v":0},{"$f":"O8*4","v":0},null,0,0,{"$f":"N8*2","v":0},{"$f":"O8*2","v":0},{"$f":"O8*2","v":0},{"$f":"O8*2","v":0},null,{"$f":"N8*2","v":0},{"$f":"AS8*'CTI INPUTS'!C36","v":0},{"$f":"O8*2","v":0},{"$f":"AU8*'CTI INPUTS'!$C$36","v":0},null,null,{"$f":"(F8/4)*'CTI INPUTS'!$C$33","v":0},{"$f":"(H8*'CTI INPUTS'!$C$34)+(I8*'CTI INPUTS'!$C$33)","v":0},null,{"$f":"(D8/10)*'CTI INPUTS'!C55","v":0},{"$f":"(D8/10)*'CTI INPUTS'!C56","v":0},null,{"$f":"N8*'CTI INPUTS'!$C$37","v":0},{"$f":"N8*'CTI INPUTS'!$C$38","v":0},{"$f":"N8*'CTI INPUTS'!$C$39","v":0},{"$f":"O8*'CTI INPUTS'!$C$37","v":0},{"$f":"O8*'CTI INPUTS'!$C$38","v":0},{"$f":"O8*'CTI INPUTS'!$C$39","v":0},null,{"$f":"(AY8*'CTI INPUTS'!C6)/60","v":0},{"$f":"(AZ8*'CTI INPUTS'!C6)/60","v":0},null,{"$f":"(N8*'CTI INPUTS'!C37)*(('CTI INPUTS'!C6)/60)","v":0},{"$f":"(BF8/60)*'CTI INPUTS'!C6","v":0},{"$f":"(BG8/60)*'CTI INPUTS'!C6","v":0},{"$f":"(O8*'CTI INPUTS'!$C$37)*(('CTI INPUTS'!$C$6)/60)","v":0},{"$f":"(BI8/60)*'CTI INPUTS'!$C$6","v":0},{"$f":"(BJ8/60)*'CTI INPUTS'!$C$6","v":0},null,{"$f":"(Q8*('CTI INPUTS'!$D$17))+(T8*('CTI INPUTS'!$D$18))+(AE8*('CTI INPUTS'!$D$12))+(AF8*('CTI INPUTS'!$D$13))+(AG8*('CTI INPUTS'!$D$14))","v":0},{"$f":"(N8*('CTI INPUTS'!$D$19))+(T8*('CTI INPUTS'!$D$18))+(AG8*('CTI INPUTS'!$D$14))","v":0},{"$f":"(Y8*'CTI INPUTS'!$D$15)+(N8*'CTI INPUTS'!$D$16)","v":0},{"$f":"(R8*('CTI INPUTS'!$D$17))+(V8*('CTI INPUTS'!$D$18))+(AH8*('CTI INPUTS'!$D$12))+(AI8*('CTI INPUTS'!$D$13))+(AJ8*('CTI INPUTS'!$D$14))","v":0},{"$f":"(O8*('CTI INPUTS'!$D$19))+(V8*('CTI INPUTS'!$D$18))+(AJ8*('CTI INPUTS'!$D$14))","v":0},{"$f":"(AA8*'CTI INPUTS'!$D$15)+(O8*'CTI INPUTS'!$D$16)","v":0},null,{"$f":"(AE8*('CTI INPUTS'!$D$12))","v":0},{"$f":"(AF8*('CTI INPUTS'!$D$13))","v":0},{"$f":"(AG8*('CTI INPUTS'!$D$14))","v":0},{"$f":"(AH8*('CTI INPUTS'!$D$12))","v":0},{"$f":"(AI8*('CTI INPUTS'!$D$13))","v":0},{"$f":"(AJ8*('CTI INPUTS'!$D$14))","v":0},null,{"$f":"AL8*'CTI INPUTS'!$D$42","v":0},{"$f":"AM8*'CTI INPUTS'!$D$43","v":0},{"$f":"AN8*'CTI INPUTS'!$D$44","v":0},{"$f":"AS8*'CTI INPUTS'!$D$45","v":0},{"$f":"AO8*'CTI INPUTS'!$D$42","v":0},{"$f":"AP8*'CTI INPUTS'!$D$43","v":0},{"$f":"AQ8*'CTI INPUTS'!$D$44","v":0},{"$f":"AU8*'CTI INPUTS'!$D$45","v":0}]
[null,null,"6in",{"$f":"ProjectData!C26","v":0},null,{"$f":"(D9/10)*16","v":0},null,0,{"$f":"(D9/10)*0","v":0},null,{"$f":"(D9/10)*36","v":0},0,null,{"$f":"D9/('CTI INPUTS'!C3)","v":0},0,null,{"$f":"(10*N9)/12","v":0},{"$f":"(10*O9)/12","v":0},null,{"$f":"N9*'CTI INPUTS'!C48","v":0},{"$f":"T9*('CTI INPUTS'!C14)","v":0},{"$f":"O9*'CTI INPUTS'!$C$48","v":0},{"$f":"V9*('CTI INPUTS'!$C$14)","v":0},null,{"$f":"N9*'CTI INPUTS'!C51","v":0},{"$f":"Y9*('CTI INPUTS'!C15)","v":0},{"$f":"O9*'CTI INPUTS'!$C$51","v":0},{"$f":"AA9*('CTI INPUTS'!E15)","v":0},null,null,0,0,0,0,0,0,null,0,0,0,0,0,0,null,{"$f":"N9*2","v":0},{"$f":"AS9*'CTI INPUTS'!C36","v":0},{"$f":"O9*2","v":0},{"$f":"AU9*'CTI INPUTS'!$C$36","v":0},null,null,{"$f":"(F9/4)*'CTI INPUTS'!$C$33","v":0},{"$f":"(H9*'CTI INPUTS'!$C$34)+(I9*'CTI INPUTS'!$C$33)","v":0},null,{"$f":"(D9/10)*'CTI INPUTS'!C55","v":0},{"$f":"(D9/10)*'CTI INPUTS'!C56","v":0},null,{"$f":"N9*'CTI INPUTS'!$C$37","v":0},{"$f":"N9*'CTI INPUTS'!$C$38","v":0},{"$f":"N9*'CTI INPUTS'!$C$39","v":0},{"$f":"O9*'CTI INPUTS'!$C$37","v":0},{"$f":"O9*'CTI INPUTS'!$C$38","v":0},{"$f":"O9*'CTI INPUTS'!$C$39","v":0},null,{"$f":"(AY9*'CTI INPUTS'!C6)/60","v":0},{"$f":"(AZ9*'CTI INPUTS'!C6)/60","v":0},null,{"$f":"(N9*'CTI INPUTS'!C37)*(('CTI INPUTS'!C6)/60)","v":0},{"$f":"(BF9/60)*'CTI INPUTS'!C6","v":0},{"$f":"(BG9/60)*'CTI INPUTS'!C6","v":0},{"$f":"(O9*'CTI INPUTS'!$C$37)*(('CTI INPUTS'!$C$6)/60)","v":0},{"$f":"(BI9/60)*'CTI INPUTS'!$C$6","v":0},{"$f":"(BJ9/60)*'CTI INPUTS'!$C$6","v":0},null,{"$f":"(Q9*('CTI INPUTS'!$D$17))+(T9*('CTI INPUTS'!$D$18))+(AE9*('CTI INPUTS'!$D$12))+(AF9*('CTI INPUTS'!$D$13))+(AG9*('CTI INPUTS'!$D$14))","v":0},{"$f":"(N9*('CTI INPUTS'!$D$19))+(T9*('CTI INPUTS'!$D$18))+(AG9*('CTI INPUTS'!$D$14))","v":0},{"$f":"(Y9*'CTI INPUTS'!$D$15)+(N9*'CTI INPUTS'!$D$16)","v":0},{"$f":"(R9*('CTI INPUTS'!$D$17))+(V9*('CTI INPUTS'!$D$18))+(AH9*('CTI INPUTS'!$D$12))+(AI9*('CTI INPUTS'!$D$13))+(AJ9*('CTI INPUTS'!$D$14))","v":0},{"$f":"(O9*('CTI INPUTS'!$D$19))+(V9*('CTI INPUTS'!$D$18))+(AJ9*('CTI INPUTS'!$D$14))","v":0},{"$f":"(AA9*'CTI INPUTS'!$D$15)+(O9*'CTI INPUTS'!$D$16)","v":0},null,{"$f":"(AE9*('CTI INPUTS'!$D$12))","v":0},{"$f":"(AF9*('CTI INPUTS'!$D$13))","v":0},{"$f":"(AG9*('CTI INPUTS'!$D$14))","v":0},{"$f":"(AH9*('CTI INPUTS'!$D$12))","v":0},{"$f":"(AI9*('CTI INPUTS'!$D$13))","v":0},{"$f":"(AJ9*('CTI INPUTS'!$D$14))","v":0},null,{"$f":"AL9*'CTI INPUTS'!$D$42","v":0},{"$f":"AM9*'CTI INPUTS'!$D$43","v":0},{"$f":"AN9*'CTI INPUTS'!$D$44","v":0},{"$f":"AS9*'CTI INPUTS'!$D$45","v":0},{"$f":"AO9*'CTI INPUTS'!$D$42","v":0},{"$f":"AP9*'CTI INPUTS'!$D$43","v":0},{"$f":"AQ9*'CTI INPUTS'!$D$44","v":0},{"$f":"AU9*'CTI INPUTS'!$D$45","v":0}]
[null,null,"8in",{"$f":"ProjectData!C27","v":0},null,{"$f":"(D10/10)*20","v":0},null,0,{"$f":"(D10/10)*4","v":0},null,0,0,null,{"$f":"D10/('CTI INPUTS'!C3)","v":0},0,null,{"$f":"(12*N10)/12","v":0},{"$f":"(12*O10)/12","v":0},null,{"$f":"N10*'CTI INPUTS'!C48","v":0},{"$f":"T10*('CTI INPUTS'!C14)","v":0},{"$f":"O10*'CTI INPUTS'!$C$48","v":0},{"$f":"V10*('CTI INPUTS'!$C$14)","v":0},null,{"$f":"N10*'CTI INPUTS'!C51","v":0},{"$f":"Y10*('CTI INPUTS'!C15)","v":0},{"$f":"O10*'CTI INPUTS'!$C$51","v":0},{"$f":"AA10*('CTI INPUTS'!E15)","v":0},null,null,0,0,0,0,0,0,null,0,0,0,0,0,0,null,{"$f":"N10*2","v":0},{"$f":"AS10*'CTI INPUTS'!C36","v":0},0,{"$f":"AU10*'CTI INPUTS'!$C$36","v":0},null,null,{"$f":"(F10/4)*'CTI INPUTS'!$C$33","v":0},{"$f":"(H10*'CTI INPUTS'!$C$34)+(I10*'CTI INPUTS'!$C$33)","v":0},null,{"$f":"(D10/10)*'CTI INPUTS'!C55","v":0},{"$f":"(D10/10)*'CTI INPUTS'!C56","v":0},null,{"$f":"N10*'CTI INPUTS'!$C$37","v":0},{"$f":"N10*'CTI INPUTS'!$C$38","v":0},{"$f":"N10*'CTI INPUTS'!$C$39","v":0},{"$f":"O10*'CTI INPUTS'!$C$37","v":0},{"$f":"O10*'CTI INPUTS'!$C$38","v":0},{"$f":"O10*'CTI INPUTS'!$C$39","v":0},null,{"$f":"(AY10*'CTI INPUTS'!C6)/60","v":0},{"$f":"(AZ10*'CTI INPUTS'!C6)/60","v":0},null,{"$f":"(N10*'CTI INPUTS'!C37)*(('CTI INPUTS'!C6)/60)","v":0},{"$f":"(BF10/60)*'CTI INPUTS'!C6","v":0},{"$f":"(BG10/60)*'CTI INPUTS'!C6","v":0},{"$f":"(O10*'CTI INPUTS'!$C$37)*(('CTI INPUTS'!$C$6)/60)","v":0},{"$f":"(BI10/60)*'CTI INPUTS'!$C$6","v":0},{"$f":"(BJ10/60)*'CTI INPUTS'!$C$6","v":0},null,{"$f":"(Q10*('CTI INPUTS'!$D$17))+(T10*('CTI INPUTS'!$D$18))+(AE10*('CTI INPUTS'!$D$12))+(AF10*('CTI INPUTS'!$D$13))+(AG10*('CTI INPUTS'!$D$14))","v":0},{"$f":"(N10*('CTI INPUTS'!$D$19))+(T10*('CTI INPUTS'!$D$18))+(AG10*('CTI INPUTS'!$D$14))","v":0},{"$f":"(Y10*'CTI INPUTS'!$D$15)+(N10*'CTI INPUTS'!$D$16)","v":0},{"$f":"(R10*('CTI INPUTS'!$D$17))+(V10*('CTI INPUTS'!$D$18))+(AH10*('CTI INPUTS'!$D$12))+(AI10*('CTI INPUTS'!$D$13))+(AJ10*('CTI INPUTS'!$D$14))","v":0},{"$f":"(O10*('CTI INPUTS'!$D$19))+(V10*('CTI INPUTS'!$D$18))+(AJ10*('CTI INPUTS'!$D$14))","v":0},{"$f":"(AA10*'CTI INPUTS'!$D$15)+(O10*'CTI INPUTS'!$D$16)","v":0},null,{"$f":"(AE10*('CTI INPUTS'!$D$12))","v":0},{"$f":"(AF10*('CTI INPUTS'!$D$13))","v":0},{"$f":"(AG10*('CTI INPUTS'!$D$14))","v":0},{"$f":"(AH10*('CTI INPUTS'!$D$12))","v":0},{"$f":"(AI10*('CTI INPUTS'!$D$13))","v":0},{"$f":"(AJ10*('CTI INPUTS'!$D$14))","v":0},null,{"$f":"AL10*'CTI INPUTS'!$D$42","v":0},{"$f":"AM10*'CTI INPUTS'!$D$43","v":0},{"$f":"AN10*'CTI INPUTS'!$D$44","v":0},{"$f":"AS10*'CTI INPUTS'!$D$45","v":0},{"$f":"AO10*'CTI INPUTS'!$D$42","v":0},{"$f":"AP10*'CTI INPUTS'!$D$43","v":0},{"$f":"AQ10*'CTI INPUTS'!$D$44","v":0},{"$f":"AU10*'CTI INPUTS'!$D$45","v":0}]
[null,null,"10in",{"$f":"ProjectData!C28","v":0},null,{"$f":"(D11/10)*20","v":0},null,0,{"$f":"(D11/10)*4","v":0},null,0,0,null,{"$f":"D11/('CTI INPUTS'!C3)","v":0},0,null,{"$f":"(14*N11)/12","v":0},{"$f":"(14*O11)/12","v":0},null,{"$f":"N11*'CTI INPUTS'!C48","v":0},{"$f":"T11*('CTI INPUTS'!C14)","v":0},{"$f":"O11*'CTI INPUTS'!$C$48","v":0},{"$f":"V11*('CTI INPUTS'!$C$14)","v":0},null,{"$f":"N11*'CTI INPUTS'!C51","v":0},{"$f":"Y11*('CTI INPUTS'!C15)","v":0},{"$f":"O11*'CTI INPUTS'!$C$51","v":0},{"$f":"AA11*('CTI INPUTS'!E15)","v":0},null,null,0,0,0,0,0,0,null,0,0,0,0,0,0,null,{"$f":"N11*2","v":0},{"$f":"AS11*'CTI INPUTS'!C36","v":0},0,{"$f":"AU11*'CTI INPUTS'!$C$36","v":0},null,null,{"$f":"(F11/4)*'CTI INPUTS'!$C$33","v":0},{"$f":"(H11*'CTI INPUTS'!$C$34)+(I11*'CTI INPUTS'!$C$33)","v":0},null,{"$f":"(D11/10)*'CTI INPUTS'!C55","v":0},{"$f":"(D11/10)*'CTI INPUTS'!C56","v":0},null,{"$f":"N11*'CTI INPUTS'!$C$37","v":0},{"$f":"N11*'CTI INPUTS'!$C$38","v":0},{"$f":"N11*'CTI INPUTS'!$C$39","v":0},{"$f":"O11*'CTI INPUTS'!$C$37","v":0},{"$f":"O11*'CTI INPUTS'!$C$38","v":0},{"$f":"O11*'CTI INPUTS'!$C$39","v":0},null,{"$f":"(AY11*'CTI INPUTS'!C6)/60","v":0},{"$f":"(AZ11*'CTI INPUTS'!C6)/60","v":0},null,{"$f":"(N11*'CTI INPUTS'!C37)*(('CTI INPUTS'!C6)/60)","v":0},{"$f":"(BF11/60)*'CTI INPUTS'!C6","v":0},{"$f":"(BG11/60)*'CTI INPUTS'!C6","v":0},{"$f":"(O11*'CTI INPUTS'!$C$37)*(('CTI INPUTS'!$C$6)/60)","v":0},{"$f":"(BI11/60)*'CTI INPUTS'!$C$6","v":0},{"$f":"(BJ11/60)*'CTI INPUTS'!$C$6","v":0},null,{"$f":"(Q11*('CTI INPUTS'!$D$17))+(T11*('CTI INPUTS'!$D$18))+(AE11*('CTI INPUTS'!$D$12))+(AF11*('CTI INPUTS'!$D$13))+(AG11*('CTI INPUTS'!$D$14))","v":0},{"$f":"(N11*('CTI INPUTS'!$D$19))+(T11*('CTI INPUTS'!$D$18))+(AG11*('CTI INPUTS'!$D$14))","v":0},{"$f":"(Y11*'CTI INPUTS'!$D$15)+(N11*'CTI INPUTS'!$D$16)","v":0},{"$f":"(R11*('CTI INPUTS'!$D$17))+(V11*('CTI INPUTS'!$D$18))+(AH11*('CTI INPUTS'!$D$12))+(AI11*('CTI INPUTS'!$D$13))+(AJ11*('CTI INPUTS'!$D$14))","v":0},{"$f":"(O11*('CTI INPUTS'!$D$19))+(V11*('CTI INPUTS'!$D$18))+(AJ11*('CTI INPUTS'!$D$14))","v":0},{"$f":"(AA11*'CTI INPUTS'!$D$15)+(O11*'CTI INPUTS'!$D$16)","v":0},null,{"$f":"(AE11*('CTI INPUTS'!$D$12))","v":0},{"$f":"(AF11*('CTI INPUTS'!$D$13))","v":0},{"$f":"(AG11*('CTI INPUTS'!$D$14))","v":0},{"$f":"(AH11*('CTI INPUTS'!$D$12))","v":0},{"$f":"(AI11*('CTI INPUTS'!$D$13))","v":0},{"$f":"(AJ11*('CTI INPUTS'!$D$14))","v":0},null,{"$f":"AL11*'CTI INPUTS'!$D$42","v":0},{"$f":"AM11*'CTI INPUTS'!$D$43","v":0},{"$f":"AN11*'CTI INPUTS'!$D$44","v":0},{"$f":"AS11*'CTI INPUTS'!$D$45","v":0},{"$f":"AO11*'CTI INPUTS'!$D$42","v":0},{"$f":"AP11*'CTI INPUTS'!$D$43","v":0},{"$f":"AQ11*'CTI INPUTS'!$D$44","v":0},{"$f":"AU11*'CTI INPUTS'!$D$45","v":0}]
[null,null,"12in",{"$f":"ProjectData!C29","v":15360},null,{"$f":"(D12/10)*24","v":36864},null,3072,{"$f":"(D12/10)*4","v":6144},null,55296,0,null,{"$f":"D12/('CTI INPUTS'!C3)","v":3072},1536,null,{"$f":"(16*N12)/12","v":4096},{"$f":"(16*O12)/12","v":2048},null,{"$f":"N12*'CTI INPUTS'!C48","v":12288},{"$f":"T12*('CTI INPUTS'!C14)","v":3072},{"$f":"O12*'CTI INPUTS'!$C$48","v":6144},{"$f":"V12*('CTI INPUTS'!$C$14)","v":1536},null,{"$f":"N12*'CTI INPUTS'!C51","v":18432},{"$f":"Y12*('CTI INPUTS'!C15)","v":18432},{"$f":"O12*'CTI INPUTS'!$C$51","v":9216},{"$f":"AA12*('CTI INPUTS'!E15)","v":0},null,null,12288,12288,12288,6144,6144,6144,null,6144,6144,6144,3072,3072,3072,null,6144,{"$f":"AS12*'CTI INPUTS'!C36","v":307.20000000000005},3072,{"$f":"AU12*'CTI INPUTS'!$C$36","v":153.60000000000002},null,null,{"$f":"(F12/4)*'CTI INPUTS'!$C$33","v":4608},{"$f":"(H12*'CTI INPUTS'!$C$34)+(I12*'CTI INPUTS'!$C$33)","v":3686.4},null,{"$f":"(D12/10)*'CTI INPUTS'!C55","v":7680},{"$f":"(D12/10)*'CTI INPUTS'!C56","v":768},null,{"$f":"N12*'CTI INPUTS'!$C$37","v":12288},{"$f":"N12*'CTI INPUTS'!$C$38","v":9216},{"$f":"N12*'CTI INPUTS'!$C$39","v":6144},{"$f":"O12*'CTI INPUTS'!$C$37","v":6144},{"$f":"O12*'CTI INPUTS'!$C$38","v":4608},{"$f":"O12*'CTI INPUTS'!$C$39","v":3072},null,{"$f":"(AY12*'CTI INPUTS'!C6)/60","v":7680},{"$f":"(AZ12*'CTI INPUTS'!C6)/60","v":6144},null,{"$f":"(N12*'CTI INPUTS'!C37)*(('CTI INPUTS'!C6)/60)","v":20480},{"$f":"(BF12/60)*'CTI INPUTS'!C6","v":15360},{"$f":"(BG12/60)*'CTI INPUTS'!C6","v":10240},{"$f":"(O12*'CTI INPUTS'!$C$37)*(('CTI INPUTS'!$C$6)/60)","v":10240},{"$f":"(BI12/60)*'CTI INPUTS'!$C$6","v":7680},{"$f":"(BJ12/60)*'CTI INPUTS'!$C$6","v":5120},null,{"$f":"(Q12*('CTI INPUTS'!$D$17))+(T12*('CTI INPUTS'!$D$18))+(AE12*('CTI INPUTS'!$D$12))+(AF12*('CTI INPUTS'!$D$13))+(AG12*('CTI INPUTS'!$D$14))","v":56524.799999999996},{"$f":"(N12*('CTI INPUTS'!$D$19))+(T12*('CTI INPUTS'!$D$18))+(AG12*('CTI INPUTS'!$D$14))","v":39290.879999999997},{"$f":"(Y12*'CTI INPUTS'!$D$15)+(N12*'CTI INPUTS'!$D$16)","v":30720},{"$f":"(R12*('CTI INPUTS'!$D$17))+(V12*('CTI INPUTS'!$D$18))+(AH12*('CTI INPUTS'!$D$12))+(AI12*('CTI INPUTS'!$D$13))+(AJ12*('CTI INPUTS'!$D$14))","v":28262.399999999998},{"$f":"(O12*('CTI INPUTS'!$D$19))+(V12*('CTI INPUTS'!$D$18))+(AJ12*('CTI INPUTS'!$D$14))","v":19645.439999999999},{"$f":"(AA12*'CTI INPUTS'!$D$15)+(O12*'CTI INPUTS'!$D$16)","v":15360},null,{"$f":"(AE12*('CTI INPUTS'!$D$12))","v":12288},{"$f":"(AF12*('CTI INPUTS'!$D$13))","v":1843.1999999999998},{"$f":"(AG12*('CTI INPUTS'!$D$14))","v":3072},{"$f":"(AH12*('CTI INPUTS'!$D$12))","v":6144},{"$f":"(AI12*('CTI INPUTS'!$D$13))","v":921.59999999999991},{"$f":"(AJ12*('CTI INPUTS'!$D$14))","v":1536},null,{"$f":"AL12*'CTI INPUTS'!$D$42","v":12349.439999999999},{"$f":"AM12*'CTI INPUTS'!$D$43","v":4300.7999999999993},{"$f":"AN12*'CTI INPUTS'!$D$44","v":5529.6},{"$f":"AS12*'CTI INPUTS'!$D$45","v":16896},{"$f":"AO12*'CTI INPUTS'!$D$42","v":6174.7199999999993},{"$f":"AP12*'CTI INPUTS'!$D$43","v":2150.3999999999996},{"$f":"AQ12*'CTI INPUTS'!$D$44","v":2764.8},{"$f":"AU12*'CTI INPUTS'!$D$45","v":8448}]
[null,null,"16in",{"$f":"ProjectData!C30","v":0},null,{"$f":"(D13/10)*24","v":0},null,0,{"$f":"(D13/10)*8","v":0},null,0,0,null,{"$f":"D13/('CTI INPUTS'!C3)","v":0},0,null,{"$f":"(20*N13)/12","v":0},{"$f":"(20*O13)/12","v":0},null,{"$f":"N13*'CTI INPUTS'!C48","v":0},{"$f":"T13*('CTI INPUTS'!C14)","v":0},{"$f":"O13*'CTI INPUTS'!$C$48","v":0},{"$f":"V13*('CTI INPUTS'!$C$14)","v":0},null,{"$f":"N13*'CTI INPUTS'!C51","v":0},{"$f":"Y13*('CTI INPUTS'!C15)","v":0},{"$f":"O13*'CTI INPUTS'!$C$51","v":0},{"$f":"AA13*('CTI INPUTS'!E15)","v":0},null,null,0,0,0,0,0,0,null,0,0,0,0,0,0,null,0,{"$f":"AS13*'CTI INPUTS'!C36","v":0},0,{"$f":"AU13*'CTI INPUTS'!$C$36","v":0},null,null,{"$f":"(F13/4)*'CTI INPUTS'!$C$33","v":0},{"$f":"(H13*'CTI INPUTS'!$C$34)+(I13*'CTI INPUTS'!$C$33)","v":0},null,{"$f":"(D13/10)*'CTI INPUTS'!C55","v":0},{"$f":"(D13/10)*'CTI INPUTS'!C56","v":0},null,{"$f":"N13*'CTI INPUTS'!$C$37","v":0},{"$f":"N13*'CTI INPUTS'!$C$38","v":0},{"$f":"N13*'CTI INPUTS'!$C$39","v":0},{"$f":"O13*'CTI INPUTS'!$C$37","v":0},{"$f":"O13*'CTI INPUTS'!$C$38","v":0},{"$f":"O13*'CTI INPUTS'!$C$39","v":0},null,{"$f":"(AY13*'CTI INPUTS'!C6)/60","v":0},{"$f":"(AZ13*'CTI INPUTS'!C6)/60","v":0},null,{"$f":"(N13*'CTI INPUTS'!C37)*(('CTI INPUTS'!C6)/60)","v":0},{"$f":"(BF13/60)*'CTI INPUTS'!C6","v":0},{"$f":"(BG13/60)*'CTI INPUTS'!C6","v":0},{"$f":"(O13*'CTI INPUTS'!$C$37)*(('CTI INPUTS'!$C$6)/60)","v":0},{"$f":"(BI13/60)*'CTI INPUTS'!$C$6","v":0},{"$f":"(BJ13/60)*'CTI INPUTS'!$C$6","v":0},null,{"$f":"(Q13*('CTI INPUTS'!$D$17))+(T13*('CTI INPUTS'!$D$18))+(AE13*('CTI INPUTS'!$D$12))+(AF13*('CTI INPUTS'!$D$13))+(AG13*('CTI INPUTS'!$D$14))","v":0},{"$f":"(N13*('CTI INPUTS'!$D$19))+(T13*('CTI INPUTS'!$D$18))+(AG13*('CTI INPUTS'!$D$14))","v":0},{"$f":"(Y13*'CTI INPUTS'!$D$15)+(N13*'CTI INPUTS'!$D$16)","v":0},{"$f":"(R13*('CTI INPUTS'!$D$17))+(V13*('CTI INPUTS'!$D$18))+(AH13*('CTI INPUTS'!$D$12))+(AI13*('CTI INPUTS'!$D$13))+(AJ13*('CTI INPUTS'!$D$14))","v":0},{"$f":"(O13*('CTI INPUTS'!$D$19))+(V13*('CTI INPUTS'!$D$18))+(AJ13*('CTI INPUTS'!$D$14))","v":0},{"$f":"(AA13*'CTI INPUTS'!$D$15)+(O13*'CTI INPUTS'!$D$16)","v":0},null,{"$f":"(AE13*('CTI INPUTS'!$D$12))","v":0},{"$f":"(AF13*('CTI INPUTS'!$D$13))","v":0},{"$f":"(AG13*('CTI INPUTS'!$D$14))","v":0},{"$f":"(AH13*('CTI INPUTS'!$D$12))","v":0},{"$f":"(AI13*('CTI INPUTS'!$D$13))","v":0},{"$f":"(AJ13*('CTI INPUTS'!$D$14))","v":0},null,{"$f":"AL13*'CTI INPUTS'!$D$42","v":0},{"$f":"AM13*'CTI INPUTS'!$D$43","v":0},{"$f":"AN13*'CTI INPUTS'!$D$44","v":0},{"$f":"AS13*'CTI INPUTS'!$D$45","v":0},{"$f":"AO13*'CTI INPUTS'!$D$42","v":0},{"$f":"AP13*'CTI INPUTS'!$D$43","v":0},{"$f":"AQ13*'CTI INPUTS'!$D$44","v":0},{"$f":"AU13*'CTI INPUTS'!$D$45","v":0}]
[null,null,"18in",{"$f":"ProjectData!C31","v":4880},null,{"$f":"(D14/10)*24","v":11712},null,976,{"$f":"(D14/10)*8","v":3904},null,17568,0,null,{"$f":"D14/('CTI INPUTS'!C3)","v":976},488,null,{"$f":"(22*N14)/12","v":1789.3333333333333},{"$f":"(22*O14)/12","v":894.66666666666663},null,{"$f":"N14*'CTI INPUTS'!C48","v":3904},{"$f":"T14*('CTI INPUTS'!C14)","v":976},{"$f":"O14*'CTI INPUTS'!$C$48","v":1952},{"$f":"V14*('CTI INPUTS'!$C$14)","v":488},null,{"$f":"N14*'CTI INPUTS'!C51","v":5856},{"$f":"Y14*('CTI INPUTS'!C15)","v":5856},{"$f":"O14*'CTI INPUTS'!$C$51","v":2928},{"$f":"AA14*('CTI INPUTS'!E15)","v":0},null,null,3904,3904,3904,1952,1952,1952,null,1952,1952,1952,976,976,976,null,1952,{"$f":"AS14*'CTI INPUTS'!C36","v":97.600000000000009},976,{"$f":"AU14*'CTI INPUTS'!$C$36","v":48.800000000000004},null,null,{"$f":"(F14/4)*'CTI INPUTS'!$C$33","v":1464},{"$f":"(H14*'CTI INPUTS'!$C$34)+(I14*'CTI INPUTS'!$C$33)","v":2147.1999999999998},null,{"$f":"(D14/10)*'CTI INPUTS'!C55","v":2440},{"$f":"(D14/10)*'CTI INPUTS'!C56","v":244},null,{"$f":"N14*'CTI INPUTS'!$C$37","v":3904},{"$f":"N14*'CTI INPUTS'!$C$38","v":2928},{"$f":"N14*'CTI INPUTS'!$C$39","v":1952},{"$f":"O14*'CTI INPUTS'!$C$37","v":1952},{"$f":"O14*'CTI INPUTS'!$C$38","v":1464},{"$f":"O14*'CTI INPUTS'!$C$39","v":976},null,{"$f":"(AY14*'CTI INPUTS'!C6)/60","v":2440},{"$f":"(AZ14*'CTI INPUTS'!C6)/60","v":3578.6666666666661},null,{"$f":"(N14*'CTI INPUTS'!C37)*(('CTI INPUTS'!C6)/60)","v":6506.666666666667},{"$f":"(BF14/60)*'CTI INPUTS'!C6","v":4880},{"$f":"(BG14/60)*'CTI INPUTS'!C6","v":3253.333333333333},{"$f":"(O14*'CTI INPUTS'!$C$37)*(('CTI INPUTS'!$C$6)/60)","v":3253.3333333333335},{"$f":"(BI14/60)*'CTI INPUTS'!$C$6","v":2440},{"$f":"(BJ14/60)*'CTI INPUTS'!$C$6","v":1626.6666666666665},null,{"$f":"(Q14*('CTI INPUTS'!$D$17))+(T14*('CTI INPUTS'!$D$18))+(AE14*('CTI INPUTS'!$D$12))+(AF14*('CTI INPUTS'!$D$13))+(AG14*('CTI INPUTS'!$D$14))","v":20154.399999999998},{"$f":"(N14*('CTI INPUTS'!$D$19))+(T14*('CTI INPUTS'!$D$18))+(AG14*('CTI INPUTS'!$D$14))","v":12483.04},{"$f":"(Y14*'CTI INPUTS'!$D$15)+(N14*'CTI INPUTS'!$D$16)","v":9760},{"$f":"(R14*('CTI INPUTS'!$D$17))+(V14*('CTI INPUTS'!$D$18))+(AH14*('CTI INPUTS'!$D$12))+(AI14*('CTI INPUTS'!$D$13))+(AJ14*('CTI INPUTS'!$D$14))","v":10077.199999999999},{"$f":"(O14*('CTI INPUTS'!$D$19))+(V14*('CTI INPUTS'!$D$18))+(AJ14*('CTI INPUTS'!$D$14))","v":6241.52},{"$f":"(AA14*'CTI INPUTS'!$D$15)+(O14*'CTI INPUTS'!$D$16)","v":4880},null,{"$f":"(AE14*('CTI INPUTS'!$D$12))","v":3904},{"$f":"(AF14*('CTI INPUTS'!$D$13))","v":585.6},{"$f":"(AG14*('CTI INPUTS'!$D$14))","v":976},{"$f":"(AH14*('CTI INPUTS'!$D$12))","v":1952},{"$f":"(AI14*('CTI INPUTS'!$D$13))","v":292.8},{"$f":"(AJ14*('CTI INPUTS'!$D$14))","v":488},null,{"$f":"AL14*'CTI INPUTS'!$D$42","v":3923.5199999999995},{"$f":"AM14*'CTI INPUTS'!$D$43","v":1366.3999999999999},{"$f":"AN14*'CTI INPUTS'!$D$44","v":1756.8},{"$f":"AS14*'CTI INPUTS'!$D$45","v":5368},{"$f":"AO14*'CTI INPUTS'!$D$42","v":1961.7599999999998},{"$f":"AP14*'CTI INPUTS'!$D$43","v":683.19999999999993},{"$f":"AQ14*'CTI INPUTS'!$D$44","v":878.4},{"$f":"AU14*'CTI INPUTS'!$D$45","v":2684}]
[null,null,"20in",{"$f":"ProjectData!C32","v":0},null,{"$f":"(D15/10)*28","v":0},null,0,{"$f":"(D15/10)*8","v":0},null,0,0,null,{"$f":"D15/('CTI INPUTS'!C3)","v":0},0,null,{"$f":"(24*N15)/12","v":0},{"$f":"(24*O15)/12","v":0},null,{"$f":"N15*'CTI INPUTS'!C48","v":0},{"$f":"T15*('CTI INPUTS'!C14)","v":0},{"$f":"O15*'CTI INPUTS'!$C$48","v":0},{"$f":"V15*('CTI INPUTS'!$C$14)","v":0},null,{"$f":"N15*'CTI INPUTS'!C51","v":0},{"$f":"Y15*('CTI INPUTS'!C15)","v":0},{"$f":"O15*'CTI INPUTS'!$C$51","v":0},{"$f":"AA15*('CTI INPUTS'!E15)","v":0},null,null,0,0,0,0,0,0,null,0,0,0,0,0,0,null,0,{"$f":"AS15*'CTI INPUTS'!C36","v":0},0,{"$f":"AU15*'CTI INPUTS'!$C$36","v":0},null,null,{"$f":"(F15/4)*'CTI INPUTS'!$C$33","v":0},{"$f":"(H15*'CTI INPUTS'!$C$34)+(I15*'CTI INPUTS'!$C$33)","v":0},null,{"$f":"(D15/10)*'CTI INPUTS'!C55","v":0},{"$f":"(D15/10)*'CTI INPUTS'!C56","v":0},null,{"$f":"N15*'CTI INPUTS'!$C$37","v":0},{"$f":"N15*'CTI INPUTS'!$C$38","v":0},{"$f":"N15*'CTI INPUTS'!$C$39","v":0},{"$f":"O15*'CTI INPUTS'!$C$37","v":0},{"$f":"O15*'CTI INPUTS'!$C$38","v":0},{"$f":"O15*'CTI INPUTS'!$C$39","v":0},null,{"$f":"(AY15*'CTI INPUTS'!C6)/60","v":0},{"$f":"(AZ15*'CTI INPUTS'!C6)/60","v":0},null,{"$f":"(N15*'CTI INPUTS'!C37)*(('CTI INPUTS'!C6)/60)","v":0},{"$f":"(BF15/60)*'CTI INPUTS'!C6","v":0},{"$f":"(BG15/60)*'CTI INPUTS'!C6","v":0},{"$f":"(O15*'CTI INPUTS'!$C$37)*(('CTI INPUTS'!$C$6)/60)","v":0},{"$f":"(BI15/60)*'CTI INPUTS'!$C$6","v":0},{"$f":"(BJ15/60)*'CTI INPUTS'!$C$6","v":0},null,{"$f":"(Q15*('CTI INPUTS'!$D$17))+(T15*('CTI INPUTS'!$D$18))+(AE15*('CTI INPUTS'!$D$12))+(AF15*('CTI INPUTS'!$D$13))+(AG15*('CTI INPUTS'!$D$14))","v":0},{"$f":"(N15*('CTI INPUTS'!$D$19))+(T15*('CTI INPUTS'!$D$18))+(AG15*('CTI INPUTS'!$D$14))","v":0},{"$f":"(Y15*'CTI INPUTS'!$D$15)+(N15*'CTI INPUTS'!$D$16)","v":0},{"$f":"(R15*('CTI INPUTS'!$D$17))+(V15*('CTI INPUTS'!$D$18))+(AH15*('CTI INPUTS'!$D$12))+(AI15*('CTI INPUTS'!$D$13))+(AJ15*('CTI INPUTS'!$D$14))","v":0},{"$f":"(O15*('CTI INPUTS'!$D$19))+(V15*('CTI INPUTS'!$D$18))+(AJ15*('CTI INPUTS'!$D$14))","v":0},{"$f":"(AA15*'CTI INPUTS'!$D$15)+(O15*'CTI INPUTS'!$D$16)","v":0},null,{"$f":"(AE15*('CTI INPUTS'!$D$12))","v":0},{"$f":"(AF15*('CTI INPUTS'!$D$13))","v":0},{"$f":"(AG15*('CTI INPUTS'!$D$14))","v":0},{"$f":"(AH15*('CTI INPUTS'!$D$12))","v":0},{"$f":"(AI15*('CTI INPUTS'!$D$13))","v":0},{"$f":"(AJ15*('CTI INPUTS'!$D$14))","v":0},null,{"$f":"AL15*'CTI INPUTS'!$D$42","v":0},{"$f":"AM15*'CTI INPUTS'!$D$43","v":0},{"$f":"AN15*'CTI INPUTS'!$D$44","v":0},{"$f":"AS15*'CTI INPUTS'!$D$45","v":0},{"$f":"AO15*'CTI INPUTS'!$D$42","v":0},{"$f":"AP15*'CTI INPUTS'!$D$43","v":0},{"$f":"AQ15*'CTI INPUTS'!$D$44","v":0},{"$f":"AU15*'CTI INPUTS'!$D$45","v":0}]
[null,null,"24in",{"$f":"ProjectData!C33","v":0},null,{"$f":"(D16/10)*28","v":0},null,0,{"$f":"(D16/10)*8","v":0},null,0,0,null,{"$f":"D16/('CTI INPUTS'!C3)","v":0},0,null,{"$f":"(28*N16)/12","v":0},{"$f":"(28*O16)/12","v":0},null,{"$f":"N16*'CTI INPUTS'!C48","v":0},{"$f":"T16*('CTI INPUTS'!C14)","v":0},{"$f":"O16*'CTI INPUTS'!$C$48","v":0},{"$f":"V16*('CTI INPUTS'!$C$14)","v":0},null,{"$f":"N16*'CTI INPUTS'!C51","v":0},{"$f":"Y16*('CTI INPUTS'!C15)","v":0},{"$f":"O16*'CTI INPUTS'!$C$51","v":0},{"$f":"AA16*('CTI INPUTS'!E15)","v":0},null,null,0,0,0,0,0,0,null,0,0,0,0,0,0,null,0,{"$f":"AS16*'CTI INPUTS'!C36","v":0},0,{"$f":"AU16*'CTI INPUTS'!$C$36","v":0},null,null,{"$f":"(F16/4)*'CTI INPUTS'!$C$33","v":0},{"$f":"(H16*'CTI INPUTS'!$C$34)+(I16*'CTI INPUTS'!$C$33)","v":0},null,{"$f":"(D16/10)*'CTI INPUTS'!C55","v":0},{"$f":"(D16/10)*'CTI INPUTS'!C56","v":0},null,{"$f":"N16*'CTI INPUTS'!$C$37","v":0},{"$f":"N16*'CTI INPUTS'!$C$38","v":0},{"$f":"N16*'CTI INPUTS'!$C$39","v":0},{"$f":"O16*'CTI INPUTS'!$C$37","v":0},{"$f":"O16*'CTI INPUTS'!$C$38","v":0},{"$f":"O16*'CTI INPUTS'!$C$39","v":0},null,{"$f":"(AY16*'CTI INPUTS'!C6)/60","v":0},{"$f":"(AZ16*'CTI INPUTS'!C6)/60","v":0},null,{"$f":"(N16*'CTI INPUTS'!C37)*(('CTI INPUTS'!C6)/60)","v":0},{"$f":"(BF16/60)*'CTI INPUTS'!C6","v":0},{"$f":"(BG16/60)*'CTI INPUTS'!C6","v":0},{"$f":"(O16*'CTI INPUTS'!$C$37)*(('CTI INPUTS'!$C$6)/60)","v":0},{"$f":"(BI16/60)*'CTI INPUTS'!$C$6","v":0},{"$f":"(BJ16/60)*'CTI INPUTS'!$C$6","v":0},null,{"$f":"(Q16*('CTI INPUTS'!$D$17))+(T16*('CTI INPUTS'!$D$18))+(AE16*('CTI INPUTS'!$D$12))+(AF16*('CTI INPUTS'!$D$13))+(AG16*('CTI INPUTS'!$D$14))","v":0},{"$f":"(N16*('CTI INPUTS'!$D$19))+(T16*('CTI INPUTS'!$D$18))+(AG16*('CTI INPUTS'!$D$14))","v":0},{"$f":"(Y16*'CTI INPUTS'!$D$15)+(N16*'CTI INPUTS'!$D$16)","v":0},{"$f":"(R16*('CTI INPUTS'!$D$17))+(V16*('CTI INPUTS'!$D$18))+(AH16*('CTI INPUTS'!$D$12))+(AI16*('CTI INPUTS'!$D$13))+(AJ16*('CTI INPUTS'!$D$14))","v":0},{"$f":"(O16*('CTI INPUTS'!$D$19))+(V16*('CTI INPUTS'!$D$18))+(AJ16*('CTI INPUTS'!$D$14))","v":0},{"$f":"(AA16*'CTI INPUTS'!$D$15)+(O16*'CTI INPUTS'!$D$16)","v":0},null,{"$f":"(AE16*('CTI INPUTS'!$D$12))","v":0},{"$f":"(AF16*('CTI INPUTS'!$D$13))","v":0},{"$f":"(AG16*('CTI INPUTS'!$D$14))","v":0},{"$f":"(AH16*('CTI INPUTS'!$D$12))","v":0},{"$f":"(AI16*('CTI INPUTS'!$D$13))","v":0},{"$f":"(AJ16*('CTI INPUTS'!$D$14))","v":0},null,{"$f":"AL16*'CTI INPUTS'!$D$42","v":0},{"$f":"AM16*'CTI INPUTS'!$D$43","v":0},{"$f":"AN16*'CTI INPUTS'!$D$44","v":0},{"$f":"AS16*'CTI INPUTS'!$D$45","v":0},{"$f":"AO16*'CTI INPUTS'!$D$42","v":0},{"$f":"AP16*'CTI INPUTS'!$D$43","v":0},{"$f":"AQ16*'CTI INPUTS'!$D$44","v":0},{"$f":"AU16*'CTI INPUTS'!$D$45","v":0}]
[null,null,"30in",{"$f":"ProjectData!C34","v":0},null,{"$f":"(D17/10)*32","v":0},null,0,{"$f":"(D17/10)*12","v":0},null,0,0,null,{"$f":"D17/('CTI INPUTS'!C3)","v":0},0,null,{"$f":"(34*N17)/12","v":0},{"$f":"(34*O17)/12","v":0},null,{"$f":"N17*'CTI INPUTS'!C48","v":0},{"$f":"T17*('CTI INPUTS'!C14)","v":0},{"$f":"O17*'CTI INPUTS'!$C$48","v":0},{"$f":"V17*('CTI INPUTS'!$C$14)","v":0},null,{"$f":"N17*'CTI INPUTS'!C51","v":0},{"$f":"Y17*('CTI INPUTS'!C15)","v":0},{"$f":"O17*'CTI INPUTS'!$C$51","v":0},{"$f":"AA17*('CTI INPUTS'!E15)","v":0},null,null,0,0,0,0,0,0,null,0,0,0,0,0,0,null,0,{"$f":"AS17*'CTI INPUTS'!C36","v":0},0,{"$f":"AU17*'CTI INPUTS'!$C$36","v":0},null,null,{"$f":"(F17/4)*'CTI INPUTS'!$C$33","v":0},{"$f":"(H17*'CTI INPUTS'!$C$34)+(I17*'CTI INPUTS'!$C$33)","v":0},null,{"$f":"(D17/10)*'CTI INPUTS'!C55","v":0},{"$f":"(D17/10)*'CTI INPUTS'!C56","v":0},null,{"$f":"N17*'CTI INPUTS'!$C$37","v":0},{"$f":"N17*'CTI INPUTS'!$C$38","v":0},{"$f":"N17*'CTI INPUTS'!$C$39","v":0},{"$f":"O17*'CTI INPUTS'!$C$37","v":0},{"$f":"O17*'CTI INPUTS'!$C$38","v":0},{"$f":"O17*'CTI INPUTS'!$C$39","v":0},null,{"$f":"(AY17*'CTI INPUTS'!C6)/60","v":0},{"$f":"(AZ17*'CTI INPUTS'!C6)/60","v":0},null,{"$f":"(N17*'CTI INPUTS'!C37)*(('CTI INPUTS'!C6)/60)","v":0},{"$f":"(BF17/60)*'CTI INPUTS'!C6","v":0},{"$f":"(BG17/60)*'CTI INPUTS'!C6","v":0},{"$f":"(O17*'CTI INPUTS'!$C$37)*(('CTI INPUTS'!$C$6)/60)","v":0},{"$f":"(BI17/60)*'CTI INPUTS'!$C$6","v":0},{"$f":"(BJ17/60)*'CTI INPUTS'!$C$6","v":0},null,{"$f":"(Q17*('CTI INPUTS'!$D$17))+(T17*('CTI INPUTS'!$D$18))+(AE17*('CTI INPUTS'!$D$12))+(AF17*('CTI INPUTS'!$D$13))+(AG17*('CTI INPUTS'!$D$14))","v":0},{"$f":"(N17*('CTI INPUTS'!$D$19))+(T17*('CTI INPUTS'!$D$18))+(AG17*('CTI INPUTS'!$D$14))","v":0},{"$f":"(Y17*'CTI INPUTS'!$D$15)+(N17*'CTI INPUTS'!$D$16)","v":0},{"$f":"(R17*('CTI INPUTS'!$D$17))+(V17*('CTI INPUTS'!$D$18))+(AH17*('CTI INPUTS'!$D$12))+(AI17*('CTI INPUTS'!$D$13))+(AJ17*('CTI INPUTS'!$D$14))","v":0},{"$f":"(O17*('CTI INPUTS'!$D$19))+(V17*('CTI INPUTS'!$D$18))+(AJ17*('CTI INPUTS'!$D$14))","v":0},{"$f":"(AA17*'CTI INPUTS'!$D$15)+(O17*'CTI INPUTS'!$D$16)","v":0},null,{"$f":"(AE17*('CTI INPUTS'!$D$12))","v":0},{"$f":"(AF17*('CTI INPUTS'!$D$13))","v":0},{"$f":"(AG17*('CTI INPUTS'!$D$14))","v":0},{"$f":"(AH17*('CTI INPUTS'!$D$12))","v":0},{"$f":"(AI17*('CTI INPUTS'!$D$13))","v":0},{"$f":"(AJ17*('CTI INPUTS'!$D$14))","v":0},null,{"$f":"AL17*'CTI INPUTS'!$D$42","v":0},{"$f":"AM17*'CTI INPUTS'!$D$43","v":0},{"$f":"AN17*'CTI INPUTS'!$D$44","v":0},{"$f":"AS17*'CTI INPUTS'!$D$45","v":0},{"$f":"AO17*'CTI INPUTS'!$D$42","v":0},{"$f":"AP17*'CTI INPUTS'!$D$43","v":0},{"$f":"AQ17*'CTI INPUTS'!$D$44","v":0},{"$f":"AU17*'CTI INPUTS'!$D$45","v":0}]
[null,null,"36in",{"$f":"ProjectData!C35","v":0},null,{"$f":"(D18/10)*32","v":0},null,0,{"$f":"(D18/10)*12","v":0},null,0,0,null,{"$f":"D18/('CTI INPUTS'!C3)","v":0},0,null,{"$f":"(40*N18)/12","v":0},{"$f":"(40*O18)/12","v":0},null,{"$f":"N18*'CTI INPUTS'!C48","v":0},{"$f":"T18*('CTI INPUTS'!C14)","v":0},{"$f":"O18*'CTI INPUTS'!$C$48","v":0},{"$f":"V18*('CTI INPUTS'!$C$14)","v":0},null,{"$f":"N18*'CTI INPUTS'!C51","v":0},{"$f":"Y18*('CTI INPUTS'!C15)","v":0},{"$f":"O18*'CTI INPUTS'!$C$51","v":0},{"$f":"AA18*('CTI INPUTS'!E15)","v":0},null,null,0,0,0,0,0,0,null,0,0,0,0,0,0,null,0,{"$f":"AS18*'CTI INPUTS'!C36","v":0},0,{"$f":"AU18*'CTI INPUTS'!$C$36","v":0},null,null,{"$f":"(F18/4)*'CTI INPUTS'!$C$33","v":0},{"$f":"(H18*'CTI INPUTS'!$C$34)+(I18*'CTI INPUTS'!$C$33)","v":0},null,{"$f":"(D18/10)*'CTI INPUTS'!C55","v":0},{"$f":"(D18/10)*'CTI INPUTS'!C56","v":0},null,{"$f":"N18*'CTI INPUTS'!$C$37","v":0},{"$f":"N18*'CTI INPUTS'!$C$38","v":0},{"$f":"N18*'CTI INPUTS'!$C$39","v":0},{"$f":"O18*'CTI INPUTS'!$C$37","v":0},{"$f":"O18*'CTI INPUTS'!$C$38","v":0},{"$f":"O18*'CTI INPUTS'!$C$39","v":0},null,{"$f":"(AY18*'CTI INPUTS'!C6)/60","v":0},{"$f":"(AZ18*'CTI INPUTS'!C6)/60","v":0},null,{"$f":"(N18*'CTI INPUTS'!C37)*(('CTI INPUTS'!C6)/60)","v":0},{"$f":"(BF18/60)*'CTI INPUTS'!C6","v":0},{"$f":"(BG18/60)*'CTI INPUTS'!C6","v":0},{"$f":"(O18*'CTI INPUTS'!$C$37)*(('CTI INPUTS'!$C$6)/60)","v":0},{"$f":"(BI18/60)*'CTI INPUTS'!$C$6","v":0},{"$f":"(BJ18/60)*'CTI INPUTS'!$C$6","v":0},null,{"$f":"(Q18*('CTI INPUTS'!$D$17))+(T18*('CTI INPUTS'!$D$18))+(AE18*('CTI INPUTS'!$D$12))+(AF18*('CTI INPUTS'!$D$13))+(AG18*('CTI INPUTS'!$D$14))","v":0},{"$f":"(N18*('CTI INPUTS'!$D$19))+(T18*('CTI INPUTS'!$D$18))+(AG18*('CTI INPUTS'!$D$14))","v":0},{"$f":"(Y18*'CTI INPUTS'!$D$15)+(N18*'CTI INPUTS'!$D$16)","v":0},{"$f":"(R18*('CTI INPUTS'!$D$17))+(V18*('CTI INPUTS'!$D$18))+(AH18*('CTI INPUTS'!$D$12))+(AI18*('CTI INPUTS'!$D$13))+(AJ18*('CTI INPUTS'!$D$14))","v":0},{"$f":"(O18*('CTI INPUTS'!$D$19))+(V18*('CTI INPUTS'!$D$18))+(AJ18*('CTI INPUTS'!$D$14))","v":0},{"$f":"(AA18*'CTI INPUTS'!$D$15)+(O18*'CTI INPUTS'!$D$16)","v":0},null,{"$f":"(AE18*('CTI INPUTS'!$D$12))","v":0},{"$f":"(AF18*('CTI INPUTS'!$D$13))","v":0},{"$f":"(AG18*('CTI INPUTS'!$D$14))","v":0},{"$f":"(AH18*('CTI INPUTS'!$D$12))","v":0},{"$f":"(AI18*('CTI INPUTS'!$D$13))","v":0},{"$f":"(AJ18*('CTI INPUTS'!$D$14))","v":0},null,{"$f":"AL18*'CTI INPUTS'!$D$42","v":0},{"$f":"AM18*'CTI INPUTS'!$D$43","v":0},{"$f":"AN18*'CTI INPUTS'!$D$44","v":0},{"$f":"AS18*'CTI INPUTS'!$D$45","v":0},{"$f":"AO18*'CTI INPUTS'!$D$42","v":0},{"$f":"AP18*'CTI INPUTS'!$D$43","v":0},{"$f":"AQ18*'CTI INPUTS'!$D$44","v":0},{"$f":"AU18*'CTI INPUTS'!$D$45","v":0}]
[null,null,"Totals",{"$f":"SUM(D7:D18)/10","v":2024},null,{"$f":"SUM(F7:F18)","v":48576},null,{"$f":"SUM((H7:H18)+(I7:I18))","v":14096},null,null,{"$f":"SUM(K7:K18)","v":72864},{"$f":"SUM(L7:L18)","v":0},null,{"$f":"SUM(N7:N18)","v":4048},{"$f":"SUM(O7:O18)","v":2024},null,{"$f":"SUM(Q7:Q18)","v":5885.333333333333},{"$f":"SUM(R7:R18)","v":2942.6666666666665},null,{"$f":"SUM(T7:T18)","v":16192},{"$f":"SUM(U7:U18)","v":4048},{"$f":"SUM(V7:V18)","v":8096},{"$f":"SUM(W7:W18)","v":2024},null,{"$f":"SUM(Y7:Y18)","v":24288},{"$f":"SUM(Z7:Z18)","v":24288},{"$f":"SUM(AA7:AA18)","v":12144},{"$f":"SUM(AB7:AB18)","v":0},null,null,{"$f":"SUM((AE7:AE18)+(AF7:AF18)+(AG7:AG18))","v":48576},null,null,{"$f":"SUM((AH7:AH18)+(AI7:AI18)+(AJ7:AJ18))","v":24288},null,null,null,{"$f":"SUM((AL7:AL18)+(AM7:AM18)+(AN7:AN18))","v":24288},null,null,{"$f":"SUM((AO7:AO18)+(AP7:AP18)+(AQ7:AQ18))","v":12144},null,null,null,{"$f":"SUM(AS7:AS18)","v":8096},{"$f":"SUM(AT7:AT18)","v":404.80000000000007},{"$f":"SUM(AU7:AU18)","v":4048},{"$f":"SUM(AV7:AV18)","v":202.40000000000003},null,null,{"$f":"SUM(AY7:AY18)","v":6072},{"$f":"SUM(AZ7:AZ18)","v":5833.6},null,{"$f":"SUM(BB7:BB18)","v":10120},{"$f":"SUM(BC7:BC18)","v":1012},null,{"$f":"SUM(BE7:BE18)","v":16192},12144,8096,8096,6072,4048,null,{"$f":"SUM(BL7:BL18)","v":10120},{"$f":"SUM(BM7:BM18)","v":9722.6666666666661},null,{"$f":"SUM(BO7:BO18)","v":26986.666666666668},20240,13493.333333333332,13493.333333333334,10120,6746.6666666666661,null,{"$f":"SUM(BV7:BV18)","v":76679.199999999997},51773.919999999998,40480,38339.599999999999,25886.959999999999,20240,null,{"$f":"SUM((CC7:CC18)+(CD7:CD18)+(CE7:CE18))","v":22668.800000000003},null,null,{"$f":"SUM((CF7:CF18)+(CG7:CG18)+(CH7:CH18))","v":11334.400000000001},null,null,null,{"$f":"SUM((CJ7:CJ18)+(CK7:CK18)+(CL7:CL18))","v":29226.559999999998},null,null,{"$f":"SUM(CM7:CM18)","v":22264},{"$f":"SUM((CN7:CN18)+(CO7:CO18)+(CP7:CP18))","v":14613.279999999999},null,null,{"$f":"SUM(CQ7:CQ18)","v":11132},null,{"$f":"SUM(CS7:CS18)","v":0},{"$f":"SUM(CT7:CT18)","v":0},{"$f":"SUM(CU7:CU18)","v":0}]
[]
[]
[]
[null,"HORIZONTAL 45 BEND",null,null,null,"SPLICE",null,"POSI-LOK",null,null,"FITTING FABRICATION",null,null,"SUPPORT QUANTITY",null,null,"STRUT (L/FT)",null,null,"ATR HANGER (L/FT)",null,null,null,null,"WIRE HANGER (L/FT)",null,null,null,null,null,"VE2 : ATR HARDWARE QUANTITY",null,null,"TSS : ATR HARDWARE QUANTITY",null,null,null,"HOLD DOWN & HDWR QUANTITY",null,null,"TSS: HOLD DOWN & HDWR QUANTITY",null,null,null,"H-DOWN CLIP QUANTITY",null,null,null,null,null,"SPLICE INSTALLATION TIME (MIN)",null,null,"FITTING FAB. TIME (MIN)",null,null,"VE2 : SUPPORT INSTAL TIME (MIN)",null,null,"TSS : SUPPORT INSTAL TIME (MIN)",null,null,null,"SPLICE INSTALLATION COST ($)",null,null,"SUPPORT INSTALLATION COST ($)",null,null,"TSS: SUPPORT INSTALLATION COST ($)",null,null,null,"SUPPORT COST ($)",null,null,"TSS: SUPPORT COST ($)",null,null,null,"ATR HARDWARE COST $",null,null,"TSS: ATR HARDWARE COST $",null,null,null,"HOLD DOWN CLAMPS & HARDWARE COST ($)",null,null,null,"TSS: HOLD DOWN CLAMPS & HARDWARE COST ($)",null,null,null,null,"SUPPORT WEIGHT (LBS)"]
[]
[null,"HEIGHT","WIDTH","QUANTITY",null,"WSKIT (pcs)",null,"PLOK (pcs)","WSKIT (pcs)",null,"CUTS  QTY","WSKIT (pcs)",null,"FAB (VE2)","C2G (TSS)",null,"FAB (VE2)","C2G (TSS)",null,"FAB (VE2)","C2G (TSS)",null,null,null,"FAB (VE2)","C2G (TSS)",null,null,null,null,"SQ WSHR","FLT WSHR","HEX NUT","SQ WSHR","FLT WSHR","HEX NUT",null,"FLXW","25HX","25NC","FLXW","25HX","25NC",null,"VE2 : SRC (pc)","TSS : SRC (pc)",null,null,null,null,"WSKIT","POSI-LOK + WSKIT",null,"CUTS ","WSKIT",null,"STRUT","URH","WIRE","STRUT","URH","WIRE",null,"WSKIT","POSI-LOK + WSKIT",null,"VE2 : STRUT","VE2 : URH","VE2 : WIRE","TSS : STRUT","TSS : URH","TSS : WIRE",null,"STRUT","URH","WIRE","STRUT","URH","WIRE",null,"SQUARE WSHR","FLAT WSHR","HEX NUT","SQUARE WSHR","FLAT WSHR","HEX NUT",null,"FLXW","25HX","25NC","SRC CLIP","FLXW","25HX","25NC","SRC CLIP",null,"STRUT","URH","WIRE"]
[null,"2/4/6in","2in",{"$f":"ProjectData!C42","v":0},null,{"$f":"D26*8","v":0},null,{"$f":"D26*2","v":0},{"$f":"D26*0","v":0},null,{"$f":"D26*'CTI INPUTS'!M13","v":0},{"$f":"D26*'CTI INPUTS'!O13","v":0},null,{"$f":"D26*3","v":0},{"$f":"D26*1","v":0},null,{"$f":"(6*N26)/12","v":0},{"$f":"(6*O26)/12","v":0},null,{"$f":"N26*'CTI INPUTS'!C48","v":0},{"$f":"O26*'CTI INPUTS'!C48","v":0},null,null,null,{"$f":"N26*'CTI INPUTS'!C51","v":0},{"$f":"O26*'CTI INPUTS'!C51","v":0},null,null,null,null,{"$f":"N26*4","v":0},{"$f":"N26*4","v":0},{"$f":"N26*4","v":0},{"$f":"O26*4","v":0},{"$f":"O26*4","v":0},{"$f":"O26*4","v":0},null,{"$f":"N26*2","v":0},{"$f":"N26*2","v":0},{"$f":"N26*2","v":0},{"$f":"O26*2","v":0},{"$f":"O26*2","v":0},{"$f":"O26*2","v":0},null,{"$f":"N26*1","v":0},{"$f":"O26*1","v":0},null,null,null,null,{"$f":"(F26/4)*'CTI INPUTS'!C33","v":0},{"$f":"(H26*'CTI INPUTS'!C34)+(I26*'CTI INPUTS'!C33)","v":0},null,{"$f":"D26*'CTI INPUTS'!M28","v":0},{"$f":"D26*'CTI INPUTS'!N28","v":0},null,{"$f":"N26*'CTI INPUTS'!C37","v":0},{"$f":"N26*'CTI INPUTS'!C38","v":0},{"$f":"N26*'CTI INPUTS'!C39","v":0},{"$f":"O26*'CTI INPUTS'!C37","v":0},{"$f":"O26*'CTI INPUTS'!C38","v":0},{"$f":"O26*'CTI INPUTS'!C39","v":0},null,{"$f":"(AY26*'CTI INPUTS'!C6)/60","v":0},{"$f":"(AZ26*'CTI INPUTS'!C6)/60","v":0},null,{"$f":"(BE26/60)*'CTI INPUTS'!C6","v":0},{"$f":"(BF26/60)*'CTI INPUTS'!C6","v":0},{"$f":"(BG26/60)*'CTI INPUTS'!C6","v":0},{"$f":"(BH26/60)*'CTI INPUTS'!C6","v":0},{"$f":"(BI26/60)*'CTI INPUTS'!C6","v":0},{"$f":"(BJ26/60)*'CTI INPUTS'!C6","v":0},null,{"$f":"(Q26*('CTI INPUTS'!D17))+(T26*('CTI INPUTS'!D18))+(AE26*('CTI INPUTS'!D12))+(AF26*('CTI INPUTS'!D13))+(AG26*('CTI INPUTS'!D14))","v":0},{"$f":"(N26*('CTI INPUTS'!D19))+(T26*('CTI INPUTS'!D18))+(AG26*('CTI INPUTS'!D14))","v":0},{"$f":"(Y26*'CTI INPUTS'!D15)+(N26*'CTI INPUTS'!D16)","v":0},{"$f":"(R26*('CTI INPUTS'!D17))+(U26*('CTI INPUTS'!D18))+(AH26*('CTI INPUTS'!D12))+(AI26*('CTI INPUTS'!D13))+(AJ26*('CTI INPUTS'!D14))","v":0},{"$f":"(O26*('CTI INPUTS'!D19))+(U26*('CTI INPUTS'!D18))+(AJ26*('CTI INPUTS'!D14))","v":0},{"$f":"(Z26*'CTI INPUTS'!D15)+(O26*'CTI INPUTS'!D16)","v":0},null,{"$f":"(AE26*('CTI INPUTS'!D12))","v":0},{"$f":"(AF26*('CTI INPUTS'!D13))","v":0},{"$f":"(AG26*('CTI INPUTS'!D14))","v":0},{"$f":"(AH26*('CTI INPUTS'!D12))","v":0},{"$f":"(AI26*('CTI INPUTS'!D13))","v":0},{"$f":"(AJ26*('CTI INPUTS'!D14))","v":0},null,{"$f":"AL26*'CTI INPUTS'!D42","v":0},{"$f":"AM26*'CTI INPUTS'!D43","v":0},{"$f":"AN26*'CTI INPUTS'!D44","v":0},{"$f":"AS26*'CTI INPUTS'!D45","v":0},{"$f":"AO26*'CTI INPUTS'!D42","v":0},{"$f":"AP26*'CTI INPUTS'!D43","v":0},{"$f":"AQ26*'CTI INPUTS'!D44","v":0},{"$f":"AT26*'CTI INPUTS'!D45","v":0}]
[null,null,"4in",{"$f":"ProjectData!C43","v":0},null,{"$f":"D27*16","v":0},null,{"$f":"D27*2","v":0},{"$f":"D27*0","v":0},null,{"$f":"D27*'CTI INPUTS'!M14","v":0},{"$f":"D27*'CTI INPUTS'!O14","v":0},null,{"$f":"D27*3","v":0},0,null,{"$f":"(8*N27)/12","v":0},{"$f":"(8*O27)/12","v":0},null,{"$f":"N27*'CTI INPUTS'!C48","v":0},{"$f":"O27*'CTI INPUTS'!C48","v":0},null,null,null,{"$f":"N27*'CTI INPUTS'!C51","v":0},{"$f":"O27*'CTI INPUTS'!C51","v":0},null,null,null,null,{"$f":"N27*4","v":0},{"$f":"N27*4","v":0},{"$f":"N27*4","v":0},{"$f":"O27*4","v":0},0,0,null,{"$f":"N27*2","v":0},{"$f":"N27*2","v":0},{"$f":"N27*2","v":0},{"$f":"O27*2","v":0},{"$f":"O27*2","v":0},{"$f":"O27*2","v":0},null,{"$f":"N27*2","v":0},{"$f":"O27*2","v":0},null,null,null,null,{"$f":"(F27/4)*'CTI INPUTS'!C33","v":0},{"$f":"(H27*'CTI INPUTS'!C34)+(I27*'CTI INPUTS'!C33)","v":0},null,{"$f":"D27*'CTI INPUTS'!M29","v":0},{"$f":"D27*'CTI INPUTS'!N29","v":0},null,{"$f":"N27*'CTI INPUTS'!C37","v":0},{"$f":"N27*'CTI INPUTS'!C38","v":0},{"$f":"N27*'CTI INPUTS'!C39","v":0},{"$f":"O27*'CTI INPUTS'!C37","v":0},{"$f":"O27*'CTI INPUTS'!C38","v":0},{"$f":"O27*'CTI INPUTS'!C39","v":0},null,{"$f":"(AY27*'CTI INPUTS'!C6)/60","v":0},{"$f":"(AZ27*'CTI INPUTS'!C6)/60","v":0},null,{"$f":"(BE27/60)*'CTI INPUTS'!C6","v":0},{"$f":"(BF27/60)*'CTI INPUTS'!C6","v":0},{"$f":"(BG27/60)*'CTI INPUTS'!C6","v":0},{"$f":"(BH27/60)*'CTI INPUTS'!C6","v":0},{"$f":"(BI27/60)*'CTI INPUTS'!C6","v":0},{"$f":"(BJ27/60)*'CTI INPUTS'!C6","v":0},null,{"$f":"(Q27*('CTI INPUTS'!D17))+(T27*('CTI INPUTS'!D18))+(AE27*('CTI INPUTS'!D12))+(AF27*('CTI INPUTS'!D13))+(AG27*('CTI INPUTS'!D14))","v":0},{"$f":"(N27*('CTI INPUTS'!D19))+(T27*('CTI INPUTS'!D18))+(AG27*('CTI INPUTS'!D14))","v":0},{"$f":"(Y27*'CTI INPUTS'!D15)+(N27*'CTI INPUTS'!D16)","v":0},{"$f":"(R27*('CTI INPUTS'!D17))+(U27*('CTI INPUTS'!D18))+(AH27*('CTI INPUTS'!D12))+(AI27*('CTI INPUTS'!D13))+(AJ27*('CTI INPUTS'!D14))","v":0},{"$f":"(O27*('CTI INPUTS'!D19))+(U27*('CTI INPUTS'!D18))+(AJ27*('CTI INPUTS'!D14))","v":0},{"$f":"(Z27*'CTI INPUTS'!D15)+(O27*'CTI INPUTS'!D16)","v":0},null,{"$f":"(AE27*('CTI INPUTS'!D12))","v":0},{"$f":"(AF27*('CTI INPUTS'!D13))","v":0},{"$f":"(AG27*('CTI INPUTS'!D14))","v":0},{"$f":"(AH27*('CTI INPUTS'!D12))","v":0},{"$f":"(AI27*('CTI INPUTS'!D13))","v":0},{"$f":"(AJ27*('CTI INPUTS'!D14))","v":0},null,{"$f":"AL27*'CTI INPUTS'!D42","v":0},{"$f":"AM27*'CTI INPUTS'!D43","v":0},{"$f":"AN27*'CTI INPUTS'!D44","v":0},{"$f":"AS27*'CTI INPUTS'!D45","v":0},{"$f":"AO27*'CTI INPUTS'!D42","v":0},{"$f":"AP27*'CTI INPUTS'!D43","v":0},{"$f":"AQ27*'CTI INPUTS'!D44","v":0},{"$f":"AT27*'CTI INPUTS'!D45","v":0}]
[null,null,"6in",{"$f":"ProjectData!C44","v":0},null,{"$f":"D28*16","v":0},null,0,{"$f":"D28*0","v":0},null,{"$f":"D28*'CTI INPUTS'!M15","v":0},{"$f":"D28*'CTI INPUTS'!O15","v":0},null,{"$f":"D28*3","v":0},0,null,{"$f":"(10*N28)/12","v":0},{"$f":"(10*O28)/12","v":0},null,{"$f":"N28*'CTI INPUTS'!C48","v":0},{"$f":"O28*'CTI INPUTS'!C48","v":0},null,null,null,{"$f":"N28*'CTI INPUTS'!C51","v":0},{"$f":"O28*'CTI INPUTS'!C51","v":0},null,null,null,null,0,0,0,0,0,0,null,0,0,0,0,0,0,null,{"$f":"N28*2","v":0},{"$f":"O28*2","v":0},null,null,null,null,{"$f":"(F28/4)*'CTI INPUTS'!C33","v":0},{"$f":"(H28*'CTI INPUTS'!C34)+(I28*'CTI INPUTS'!C33)","v":0},null,{"$f":"D28*'CTI INPUTS'!M30","v":0},{"$f":"D28*'CTI INPUTS'!N30","v":0},null,{"$f":"N28*'CTI INPUTS'!C37","v":0},{"$f":"N28*'CTI INPUTS'!C38","v":0},{"$f":"N28*'CTI INPUTS'!C39","v":0},{"$f":"O28*'CTI INPUTS'!C37","v":0},{"$f":"O28*'CTI INPUTS'!C38","v":0},{"$f":"O28*'CTI INPUTS'!C39","v":0},null,{"$f":"(AY28*'CTI INPUTS'!C6)/60","v":0},{"$f":"(AZ28*'CTI INPUTS'!C6)/60","v":0},null,{"$f":"(BE28/60)*'CTI INPUTS'!C6","v":0},{"$f":"(BF28/60)*'CTI INPUTS'!C6","v":0},{"$f":"(BG28/60)*'CTI INPUTS'!C6","v":0},{"$f":"(BH28/60)*'CTI INPUTS'!C6","v":0},{"$f":"(BI28/60)*'CTI INPUTS'!C6","v":0},{"$f":"(BJ28/60)*'CTI INPUTS'!C6","v":0},null,{"$f":"(Q28*('CTI INPUTS'!D17))+(T28*('CTI INPUTS'!D18))+(AE28*('CTI INPUTS'!D12))+(AF28*('CTI INPUTS'!D13))+(AG28*('CTI INPUTS'!D14))","v":0},{"$f":"(N28*('CTI INPUTS'!D19))+(T28*('CTI INPUTS'!D18))+(AG28*('CTI INPUTS'!D14))","v":0},{"$f":"(Y28*'CTI INPUTS'!D15)+(N28*'CTI INPUTS'!D16)","v":0},{"$f":"(R28*('CTI INPUTS'!D17))+(U28*('CTI INPUTS'!D18))+(AH28*('CTI INPUTS'!D12))+(AI28*('CTI INPUTS'!D13))+(AJ28*('CTI INPUTS'!D14))","v":0},{"$f":"(O28*('CTI INPUTS'!D19))+(U28*('CTI INPUTS'!D18))+(AJ28*('CTI INPUTS'!D14))","v":0},{"$f":"(Z28*'CTI INPUTS'!D15)+(O28*'CTI INPUTS'!D16)","v":0},null,{"$f":"(AE28*('CTI INPUTS'!D12))","v":0},{"$f":"(AF28*('CTI INPUTS'!D13))","v":0},{"$f":"(AG28*('CTI INPUTS'!D14))","v":0},{"$f":"(AH28*('CTI INPUTS'!D12))","v":0},{"$f":"(AI28*('CTI INPUTS'!D13))","v":0},{"$f":"(AJ28*('CTI INPUTS'!D14))","v":0},null,{"$f":"AL28*'CTI INPUTS'!D42","v":0},{"$f":"AM28*'CTI INPUTS'!D43","v":0},{"$f":"AN28*'CTI INPUTS'!D44","v":0},{"$f":"AS28*'CTI INPUTS'!D45","v":0},{"$f":"AO28*'CTI INPUTS'!D42","v":0},{"$f":"AP28*'CTI INPUTS'!D43","v":0},{"$f":"AQ28*'CTI INPUTS'!D44","v":0},{"$f":"AT28*'CTI INPUTS'!D45","v":0}]
[null,null,"8in",{"$f":"ProjectData!C45","v":0},null,{"$f":"D29*20","v":0},null,0,{"$f":"D29*4","v":0},null,{"$f":"D29*'CTI INPUTS'!M16","v":0},{"$f":"D29*'CTI INPUTS'!O16","v":0},null,{"$f":"D29*3","v":0},0,null,{"$f":"(12*N29)/12","v":0},{"$f":"(12*O29)/12","v":0},null,{"$f":"N29*'CTI INPUTS'!C48","v":0},{"$f":"O29*'CTI INPUTS'!C48","v":0},null,null,null,{"$f":"N29*'CTI INPUTS'!C51","v":0},{"$f":"O29*'CTI INPUTS'!C51","v":0},null,null,null,null,0,0,0,0,0,0,null,0,0,0,0,0,0,null,0,0,null,null,null,null,{"$f":"(F29/4)*'CTI INPUTS'!C33","v":0},{"$f":"(H29*'CTI INPUTS'!C34)+(I29*'CTI INPUTS'!C33)","v":0},null,{"$f":"D29*'CTI INPUTS'!M31","v":0},{"$f":"D29*'CTI INPUTS'!N31","v":0},null,{"$f":"N29*'CTI INPUTS'!C37","v":0},{"$f":"N29*'CTI INPUTS'!C38","v":0},{"$f":"N29*'CTI INPUTS'!C39","v":0},{"$f":"O29*'CTI INPUTS'!C37","v":0},{"$f":"O29*'CTI INPUTS'!C38","v":0},{"$f":"O29*'CTI INPUTS'!C39","v":0},null,{"$f":"(AY29*'CTI INPUTS'!C6)/60","v":0},{"$f":"(AZ29*'CTI INPUTS'!C6)/60","v":0},null,{"$f":"(BE29/60)*'CTI INPUTS'!C6","v":0},{"$f":"(BF29/60)*'CTI INPUTS'!C6","v":0},{"$f":"(BG29/60)*'CTI INPUTS'!C6","v":0},{"$f":"(BH29/60)*'CTI INPUTS'!C6","v":0},{"$f":"(BI29/60)*'CTI INPUTS'!C6","v":0},{"$f":"(BJ29/60)*'CTI INPUTS'!C6","v":0},null,{"$f":"(Q29*('CTI INPUTS'!D17))+(T29*('CTI INPUTS'!D18))+(AE29*('CTI INPUTS'!D12))+(AF29*('CTI INPUTS'!D13))+(AG29*('CTI INPUTS'!D14))","v":0},{"$f":"(N29*('CTI INPUTS'!D19))+(T29*('CTI INPUTS'!D18))+(AG29*('CTI INPUTS'!D14))","v":0},{"$f":"(Y29*'CTI INPUTS'!D15)+(N29*'CTI INPUTS'!D16)","v":0},{"$f":"(R29*('CTI INPUTS'!D17))+(U29*('CTI INPUTS'!D18))+(AH29*('CTI INPUTS'!D12))+(AI29*('CTI INPUTS'!D13))+(AJ29*('CTI INPUTS'!D14))","v":0},{"$f":"(O29*('CTI INPUTS'!D19))+(U29*('CTI INPUTS'!D18))+(AJ29*('CTI INPUTS'!D14))","v":0},{"$f":"(Z29*'CTI INPUTS'!D15)+(O29*'CTI INPUTS'!D16)","v":0},null,{"$f":"(AE29*('CTI INPUTS'!D12))","v":0},{"$f":"(AF29*('CTI INPUTS'!D13))","v":0},{"$f":"(AG29*('CTI INPUTS'!D14))","v":0},{"$f":"(AH29*('CTI INPUTS'!D12))","v":0},{"$f":"(AI29*('CTI INPUTS'!D13))","v":0},{"$f":"(AJ29*('CTI INPUTS'!D14))","v":0},null,{"$f":"AL29*'CTI INPUTS'!D42","v":0},{"$f":"AM29*'CTI INPUTS'!D43","v":0},{"$f":"AN29*'CTI INPUTS'!D44","v":0},{"$f":"AS29*'CTI INPUTS'!D45","v":0},{"$f":"AO29*'CTI INPUTS'!D42","v":0},{"$f":"AP29*'CTI INPUTS'!D43","v":0},{"$f":"AQ29*'CTI INPUTS'!D44","v":0},{"$f":"AT29*'CTI INPUTS'!D45","v":0}]
[null,null,"10in",{"$f":"ProjectData!C46","v":0},null,{"$f":"D30*20","v":0},null,0,{"$f":"D30*4","v":0},null,{"$f":"D30*'CTI INPUTS'!M17","v":0},{"$f":"D30*'CTI INPUTS'!O17","v":0},null,0,0,null,{"$f":"(14*N30)/12","v":0},{"$f":"(14*O30)/12","v":0},null,{"$f":"N30*'CTI INPUTS'!C48","v":0},{"$f":"O30*'CTI INPUTS'!C48","v":0},null,null,null,{"$f":"N30*'CTI INPUTS'!C51","v":0},{"$f":"O30*'CTI INPUTS'!C51","v":0},null,null,null,null,0,0,0,0,0,0,null,0,0,0,0,0,0,null,0,0,null,null,null,null,{"$f":"(F30/4)*'CTI INPUTS'!C33","v":0},{"$f":"(H30*'CTI INPUTS'!C34)+(I30*'CTI INPUTS'!C33)","v":0},null,{"$f":"D30*'CTI INPUTS'!M32","v":0},{"$f":"D30*'CTI INPUTS'!N32","v":0},null,{"$f":"N30*'CTI INPUTS'!C37","v":0},{"$f":"N30*'CTI INPUTS'!C38","v":0},{"$f":"N30*'CTI INPUTS'!C39","v":0},{"$f":"O30*'CTI INPUTS'!C37","v":0},{"$f":"O30*'CTI INPUTS'!C38","v":0},{"$f":"O30*'CTI INPUTS'!C39","v":0},null,{"$f":"(AY30*'CTI INPUTS'!C6)/60","v":0},{"$f":"(AZ30*'CTI INPUTS'!C6)/60","v":0},null,{"$f":"(BE30/60)*'CTI INPUTS'!C6","v":0},{"$f":"(BF30/60)*'CTI INPUTS'!C6","v":0},{"$f":"(BG30/60)*'CTI INPUTS'!C6","v":0},{"$f":"(BH30/60)*'CTI INPUTS'!C6","v":0},{"$f":"(BI30/60)*'CTI INPUTS'!C6","v":0},{"$f":"(BJ30/60)*'CTI INPUTS'!C6","v":0},null,{"$f":"(Q30*('CTI INPUTS'!D17))+(T30*('CTI INPUTS'!D18))+(AE30*('CTI INPUTS'!D12))+(AF30*('CTI INPUTS'!D13))+(AG30*('CTI INPUTS'!D14))","v":0},{"$f":"(N30*('CTI INPUTS'!D19))+(T30*('CTI INPUTS'!D18))+(AG30*('CTI INPUTS'!D14))","v":0},{"$f":"(Y30*'CTI INPUTS'!D15)+(N30*'CTI INPUTS'!D16)","v":0},{"$f":"(R30*('CTI INPUTS'!D17))+(U30*('CTI INPUTS'!D18))+(AH30*('CTI INPUTS'!D12))+(AI30*('CTI INPUTS'!D13))+(AJ30*('CTI INPUTS'!D14))","v":0},{"$f":"(O30*('CTI INPUTS'!D19))+(U30*('CTI INPUTS'!D18))+(AJ30*('CTI INPUTS'!D14))","v":0},{"$f":"(Z30*'CTI INPUTS'!D15)+(O30*'CTI INPUTS'!D16)","v":0},null,{"$f":"(AE30*('CTI INPUTS'!D12))","v":0},{"$f":"(AF30*('CTI INPUTS'!D13))","v":0},{"$f":"(AG30*('CTI INPUTS'!D14))","v":0},{"$f":"(AH30*('CTI INPUTS'!D12))","v":0},{"$f":"(AI30*('CTI INPUTS'!D13))","v":0},{"$f":"(AJ30*('CTI INPUTS'!D14))","v":0},null,{"$f":"AL30*'CTI INPUTS'!D42","v":0},{"$f":"AM30*'CTI INPUTS'!D43","v":0},{"$f":"AN30*'CTI INPUTS'!D44","v":0},{"$f":"AS30*'CTI INPUTS'!D45","v":0},{"$f":"AO30*'CTI INPUTS'!D42","v":0},{"$f":"AP30*'CTI INPUTS'!D43","v":0},{"$f":"AQ30*'CTI INPUTS'!D44","v":0},{"$f":"AT30*'CTI INPUTS'!D45","v":0}]
[null,null,"12in",{"$f":"ProjectData!C47","v":0},null,{"$f":"D31*24","v":0},null,0,{"$f":"D31*4","v":0},null,{"$f":"D31*'CTI INPUTS'!M18","v":0},{"$f":"D31*'CTI INPUTS'!O18","v":0},null,0,0,null,{"$f":"(16*N31)/12","v":0},{"$f":"(16*O31)/12","v":0},null,{"$f":"N31*'CTI INPUTS'!C48","v":0},{"$f":"O31*'CTI INPUTS'!C48","v":0},null,null,null,{"$f":"N31*'CTI INPUTS'!C51","v":0},{"$f":"O31*'CTI INPUTS'!C51","v":0},null,null,null,null,0,0,0,0,0,0,null,0,0,0,0,0,0,null,0,0,null,null,null,null,{"$f":"(F31/4)*'CTI INPUTS'!C33","v":0},{"$f":"(H31*'CTI INPUTS'!C34)+(I31*'CTI INPUTS'!C33)","v":0},null,{"$f":"D31*'CTI INPUTS'!M33","v":0},{"$f":"D31*'CTI INPUTS'!N33","v":0},null,{"$f":"N31*'CTI INPUTS'!C37","v":0},{"$f":"N31*'CTI INPUTS'!C38","v":0},{"$f":"N31*'CTI INPUTS'!C39","v":0},{"$f":"O31*'CTI INPUTS'!C37","v":0},{"$f":"O31*'CTI INPUTS'!C38","v":0},{"$f":"O31*'CTI INPUTS'!C39","v":0},null,{"$f":"(AY31*'CTI INPUTS'!C6)/60","v":0},{"$f":"(AZ31*'CTI INPUTS'!C6)/60","v":0},null,{"$f":"(BE31/60)*'CTI INPUTS'!C6","v":0},{"$f":"(BF31/60)*'CTI INPUTS'!C6","v":0},{"$f":"(BG31/60)*'CTI INPUTS'!C6","v":0},{"$f":"(BH31/60)*'CTI INPUTS'!C6","v":0},{"$f":"(BI31/60)*'CTI INPUTS'!C6","v":0},{"$f":"(BJ31/60)*'CTI INPUTS'!C6","v":0},null,{"$f":"(Q31*('CTI INPUTS'!D17))+(T31*('CTI INPUTS'!D18))+(AE31*('CTI INPUTS'!D12))+(AF31*('CTI INPUTS'!D13))+(AG31*('CTI INPUTS'!D14))","v":0},{"$f":"(N31*('CTI INPUTS'!D19))+(T31*('CTI INPUTS'!D18))+(AG31*('CTI INPUTS'!D14))","v":0},{"$f":"(Y31*'CTI INPUTS'!D15)+(N31*'CTI INPUTS'!D16)","v":0},{"$f":"(R31*('CTI INPUTS'!D17))+(U31*('CTI INPUTS'!D18))+(AH31*('CTI INPUTS'!D12))+(AI31*('CTI INPUTS'!D13))+(AJ31*('CTI INPUTS'!D14))","v":0},{"$f":"(O31*('CTI INPUTS'!D19))+(U31*('CTI INPUTS'!D18))+(AJ31*('CTI INPUTS'!D14))","v":0},{"$f":"(Z31*'CTI INPUTS'!D15)+(O31*'CTI INPUTS'!D16)","v":0},null,{"$f":"(AE31*('CTI INPUTS'!D12))","v":0},{"$f":"(AF31*('CTI INPUTS'!D13))","v":0},{"$f":"(AG31*('CTI INPUTS'!D14))","v":0},{"$f":"(AH31*('CTI INPUTS'!D12))","v":0},{"$f":"(AI31*('CTI INPUTS'!D13))","v":0},{"$f":"(AJ31*('CTI INPUTS'!D14))","v":0},null,{"$f":"AL31*'CTI INPUTS'!D42","v":0},{"$f":"AM31*'CTI INPUTS'!D43","v":0},{"$f":"AN31*'CTI INPUTS'!D44","v":0},{"$f":"AS31*'CTI INPUTS'!D45","v":0},{"$f":"AO31*'CTI INPUTS'!D42","v":0},{"$f":"AP31*'CTI INPUTS'!D43","v":0},{"$f":"AQ31*'CTI INPUTS'!D44","v":0},{"$f":"AT31*'CTI INPUTS'!D45","v":0}]
[null,null,"16in",{"$f":"ProjectData!C48","v":0},null,{"$f":"D32*24","v":0},null,0,{"$f":"D32*8","v":0},null,{"$f":"D32*'CTI INPUTS'!M19","v":0},{"$f":"D32*'CTI INPUTS'!O19","v":0},null,0,0,null,{"$f":"(20*N32)/12","v":0},{"$f":"(20*O32)/12","v":0},null,{"$f":"N32*'CTI INPUTS'!C48","v":0},{"$f":"O32*'CTI INPUTS'!C48","v":0},null,null,null,{"$f":"N32*'CTI INPUTS'!C51","v":0},{"$f":"O32*'CTI INPUTS'!C51","v":0},null,null,null,null,0,0,0,0,0,0,null,0,0,0,0,0,0,null,0,0,null,null,null,null,{"$f":"(F32/4)*'CTI INPUTS'!C33","v":0},{"$f":"(H32*'CTI INPUTS'!C34)+(I32*'CTI INPUTS'!C33)","v":0},null,{"$f":"D32*'CTI INPUTS'!M34","v":0},{"$f":"D32*'CTI INPUTS'!N34","v":0},null,{"$f":"N32*'CTI INPUTS'!C37","v":0},{"$f":"N32*'CTI INPUTS'!C38","v":0},{"$f":"N32*'CTI INPUTS'!C39","v":0},{"$f":"O32*'CTI INPUTS'!C37","v":0},{"$f":"O32*'CTI INPUTS'!C38","v":0},{"$f":"O32*'CTI INPUTS'!C39","v":0},null,{"$f":"(AY32*'CTI INPUTS'!C6)/60","v":0},{"$f":"(AZ32*'CTI INPUTS'!C6)/60","v":0},null,{"$f":"(BE32/60)*'CTI INPUTS'!C6","v":0},{"$f":"(BF32/60)*'CTI INPUTS'!C6","v":0},{"$f":"(BG32/60)*'CTI INPUTS'!C6","v":0},{"$f":"(BH32/60)*'CTI INPUTS'!C6","v":0},{"$f":"(BI32/60)*'CTI INPUTS'!C6","v":0},{"$f":"(BJ32/60)*'CTI INPUTS'!C6","v":0},null,{"$f":"(Q32*('CTI INPUTS'!D17))+(T32*('CTI INPUTS'!D18))+(AE32*('CTI INPUTS'!D12))+(AF32*('CTI INPUTS'!D13))+(AG32*('CTI INPUTS'!D14))","v":0},{"$f":"(N32*('CTI INPUTS'!D19))+(T32*('CTI INPUTS'!D18))+(AG32*('CTI INPUTS'!D14))","v":0},{"$f":"(Y32*'CTI INPUTS'!D15)+(N32*'CTI INPUTS'!D16)","v":0},{"$f":"(R32*('CTI INPUTS'!D17))+(U32*('CTI INPUTS'!D18))+(AH32*('CTI INPUTS'!D12))+(AI32*('CTI INPUTS'!D13))+(AJ32*('CTI INPUTS'!D14))","v":0},{"$f":"(O32*('CTI INPUTS'!D19))+(U32*('CTI INPUTS'!D18))+(AJ32*('CTI INPUTS'!D14))","v":0},{"$f":"(Z32*'CTI INPUTS'!D15)+(O32*'CTI INPUTS'!D16)","v":0},null,{"$f":"(AE32*('CTI INPUTS'!D12))","v":0},{"$f":"(AF32*('CTI INPUTS'!D13))","v":0},{"$f":"(AG32*('CTI INPUTS'!D14))","v":0},{"$f":"(AH32*('CTI INPUTS'!D12))","v":0},{"$f":"(AI32*('CTI INPUTS'!D13))","v":0},{"$f":"(AJ32*('CTI INPUTS'!D14))","v":0},null,{"$f":"AL32*'CTI INPUTS'!D42","v":0},{"$f":"AM32*'CTI INPUTS'!D43","v":0},{"$f":"AN32*'CTI INPUTS'!D44","v":0},{"$f":"AS32*'CTI INPUTS'!D45","v":0},{"$f":"AO32*'CTI INPUTS'!D42","v":0},{"$f":"AP32*'CTI INPUTS'!D43","v":0},{"$f":"AQ32*'CTI INPUTS'!D44","v":0},{"$f":"AT32*'CTI INPUTS'!D45","v":0}]
[null,null,"18in",{"$f":"ProjectData!C49","v":0},null,{"$f":"D33*24","v":0},null,0,{"$f":"D33*8","v":0},null,{"$f":"D33*'CTI INPUTS'!M20","v":0},{"$f":"D33*'CTI INPUTS'!O20","v":0},null,0,0,null,{"$f":"(22*N33)/12","v":0},{"$f":"(22*O33)/12","v":0},null,{"$f":"N33*'CTI INPUTS'!C48","v":0},{"$f":"O33*'CTI INPUTS'!C48","v":0},null,null,null,{"$f":"N33*'CTI INPUTS'!C51","v":0},{"$f":"O33*'CTI INPUTS'!C51","v":0},null,null,null,null,0,0,0,0,0,0,null,0,0,0,0,0,0,null,0,0,null,null,null,null,{"$f":"(F33/4)*'CTI INPUTS'!C33","v":0},{"$f":"(H33*'CTI INPUTS'!C34)+(I33*'CTI INPUTS'!C33)","v":0},null,{"$f":"D33*'CTI INPUTS'!M35","v":0},{"$f":"D33*'CTI INPUTS'!N35","v":0},null,{"$f":"N33*'CTI INPUTS'!C37","v":0},{"$f":"N33*'CTI INPUTS'!C38","v":0},{"$f":"N33*'CTI INPUTS'!C39","v":0},{"$f":"O33*'CTI INPUTS'!C37","v":0},{"$f":"O33*'CTI INPUTS'!C38","v":0},{"$f":"O33*'CTI INPUTS'!C39","v":0},null,{"$f":"(AY33*'CTI INPUTS'!C6)/60","v":0},{"$f":"(AZ33*'CTI INPUTS'!C6)/60","v":0},null,{"$f":"(BE33/60)*'CTI INPUTS'!C6","v":0},{"$f":"(BF33/60)*'CTI INPUTS'!C6","v":0},{"$f":"(BG33/60)*'CTI INPUTS'!C6","v":0},{"$f":"(BH33/60)*'CTI INPUTS'!C6","v":0},{"$f":"(BI33/60)*'CTI INPUTS'!C6","v":0},{"$f":"(BJ33/60)*'CTI INPUTS'!C6","v":0},null,{"$f":"(Q33*('CTI INPUTS'!D17))+(T33*('CTI INPUTS'!D18))+(AE33*('CTI INPUTS'!D12))+(AF33*('CTI INPUTS'!D13))+(AG33*('CTI INPUTS'!D14))","v":0},{"$f":"(N33*('CTI INPUTS'!D19))+(T33*('CTI INPUTS'!D18))+(AG33*('CTI INPUTS'!D14))","v":0},{"$f":"(Y33*'CTI INPUTS'!D15)+(N33*'CTI INPUTS'!D16)","v":0},{"$f":"(R33*('CTI INPUTS'!D17))+(U33*('CTI INPUTS'!D18))+(AH33*('CTI INPUTS'!D12))+(AI33*('CTI INPUTS'!D13))+(AJ33*('CTI INPUTS'!D14))","v":0},{"$f":"(O33*('CTI INPUTS'!D19))+(U33*('CTI INPUTS'!D18))+(AJ33*('CTI INPUTS'!D14))","v":0},{"$f":"(Z33*'CTI INPUTS'!D15)+(O33*'CTI INPUTS'!D16)","v":0},null,{"$f":"(AE33*('CTI INPUTS'!D12))","v":0},{"$f":"(AF33*('CTI INPUTS'!D13))","v":0},{"$f":"(AG33*('CTI INPUTS'!D14))","v":0},{"$f":"(AH33*('CTI INPUTS'!D12))","v":0},{"$f":"(AI33*('CTI INPUTS'!D13))","v":0},{"$f":"(AJ33*('CTI INPUTS'!D14))","v":0},null,{"$f":"AL33*'CTI INPUTS'!D42","v":0},{"$f":"AM33*'CTI INPUTS'!D43","v":0},{"$f":"AN33*'CTI INPUTS'!D44","v":0},{"$f":"AS33*'CTI INPUTS'!D45","v":0},{"$f":"AO33*'CTI INPUTS'!D42","v":0},{"$f":"AP33*'CTI INPUTS'!D43","v":0},{"$f":"AQ33*'CTI INPUTS'!D44","v":0},{"$f":"AT33*'CTI INPUTS'!D45","v":0}]
[null,null,"20in",{"$f":"ProjectData!C50","v":0},null,{"$f":"D34*28","v":0},null,0,{"$f":"D34*8","v":0},null,{"$f":"D34*'CTI INPUTS'!M21","v":0},{"$f":"D34*'CTI INPUTS'!O21","v":0},null,0,0,null,{"$f":"(24*N34)/12","v":0},{"$f":"(24*O34)/12","v":0},null,{"$f":"N34*'CTI INPUTS'!C48","v":0},{"$f":"O34*'CTI INPUTS'!C48","v":0},null,null,null,{"$f":"N34*'CTI INPUTS'!C51","v":0},{"$f":"O34*'CTI INPUTS'!C51","v":0},null,null,null,null,0,0,0,0,0,0,null,0,0,0,0,0,0,null,0,0,null,null,null,null,{"$f":"(F34/4)*'CTI INPUTS'!C33","v":0},{"$f":"(H34*'CTI INPUTS'!C34)+(I34*'CTI INPUTS'!C33)","v":0},null,{"$f":"D34*'CTI INPUTS'!M36","v":0},{"$f":"D34*'CTI INPUTS'!N36","v":0},null,{"$f":"N34*'CTI INPUTS'!C37","v":0},{"$f":"N34*'CTI INPUTS'!C38","v":0},{"$f":"N34*'CTI INPUTS'!C39","v":0},{"$f":"O34*'CTI INPUTS'!C37","v":0},{"$f":"O34*'CTI INPUTS'!C38","v":0},{"$f":"O34*'CTI INPUTS'!C39","v":0},null,{"$f":"(AY34*'CTI INPUTS'!C6)/60","v":0},{"$f":"(AZ34*'CTI INPUTS'!C6)/60","v":0},null,{"$f":"(BE34/60)*'CTI INPUTS'!C6","v":0},{"$f":"(BF34/60)*'CTI INPUTS'!C6","v":0},{"$f":"(BG34/60)*'CTI INPUTS'!C6","v":0},{"$f":"(BH34/60)*'CTI INPUTS'!C6","v":0},{"$f":"(BI34/60)*'CTI INPUTS'!C6","v":0},{"$f":"(BJ34/60)*'CTI INPUTS'!C6","v":0},null,{"$f":"(Q34*('CTI INPUTS'!D17))+(T34*('CTI INPUTS'!D18))+(AE34*('CTI INPUTS'!D12))+(AF34*('CTI INPUTS'!D13))+(AG34*('CTI INPUTS'!D14))","v":0},{"$f":"(N34*('CTI INPUTS'!D19))+(T34*('CTI INPUTS'!D18))+(AG34*('CTI INPUTS'!D14))","v":0},{"$f":"(Y34*'CTI INPUTS'!D15)+(N34*'CTI INPUTS'!D16)","v":0},{"$f":"(R34*('CTI INPUTS'!D17))+(U34*('CTI INPUTS'!D18))+(AH34*('CTI INPUTS'!D12))+(AI34*('CTI INPUTS'!D13))+(AJ34*('CTI INPUTS'!D14))","v":0},{"$f":"(O34*('CTI INPUTS'!D19))+(U34*('CTI INPUTS'!D18))+(AJ34*('CTI INPUTS'!D14))","v":0},{"$f":"(Z34*'CTI INPUTS'!D15)+(O34*'CTI INPUTS'!D16)","v":0},null,{"$f":"(AE34*('CTI INPUTS'!D12))","v":0},{"$f":"(AF34*('CTI INPUTS'!D13))","v":0},{"$f":"(AG34*('CTI INPUTS'!D14))","v":0},{"$f":"(AH34*('CTI INPUTS'!D12))","v":0},{"$f":"(AI34*('CTI INPUTS'!D13))","v":0},{"$f":"(AJ34*('CTI INPUTS'!D14))","v":0},null,{"$f":"AL34*'CTI INPUTS'!D42","v":0},{"$f":"AM34*'CTI INPUTS'!D43","v":0},{"$f":"AN34*'CTI INPUTS'!D44","v":0},{"$f":"AS34*'CTI INPUTS'!D45","v":0},{"$f":"AO34*'CTI INPUTS'!D42","v":0},{"$f":"AP34*'CTI INPUTS'!D43","v":0},{"$f":"AQ34*'CTI INPUTS'!D44","v":0},{"$f":"AT34*'CTI INPUTS'!D45","v":0}]
[null,null,"24in",{"$f":"ProjectData!C51","v":0},null,{"$f":"D35*28","v":0},null,0,{"$f":"D35*8","v":0},null,{"$f":"D35*'CTI INPUTS'!M22","v":0},{"$f":"D35*'CTI INPUTS'!O22","v":0},null,0,0,null,{"$f":"(28*N35)/12","v":0},{"$f":"(28*O35)/12","v":0},null,{"$f":"N35*'CTI INPUTS'!C48","v":0},{"$f":"O35*'CTI INPUTS'!C48","v":0},null,null,null,{"$f":"N35*'CTI INPUTS'!C51","v":0},{"$f":"O35*'CTI INPUTS'!C51","v":0},null,null,null,null,0,0,0,0,0,0,null,0,0,0,0,0,0,null,0,0,null,null,null,null,{"$f":"(F35/4)*'CTI INPUTS'!C33","v":0},{"$f":"(H35*'CTI INPUTS'!C34)+(I35*'CTI INPUTS'!C33)","v":0},null,{"$f":"D35*'CTI INPUTS'!M37","v":0},{"$f":"D35*'CTI INPUTS'!N37","v":0},null,{"$f":"N35*'CTI INPUTS'!C37","v":0},{"$f":"N35*'CTI INPUTS'!C38","v":0},{"$f":"N35*'CTI INPUTS'!C39","v":0},{"$f":"O35*'CTI INPUTS'!C37","v":0},{"$f":"O35*'CTI INPUTS'!C38","v":0},{"$f":"O35*'CTI INPUTS'!C39","v":0},null,{"$f":"(AY35*'CTI INPUTS'!C6)/60","v":0},{"$f":"(AZ35*'CTI INPUTS'!C6)/60","v":0},null,{"$f":"(BE35/60)*'CTI INPUTS'!C6","v":0},{"$f":"(BF35/60)*'CTI INPUTS'!C6","v":0},{"$f":"(BG35/60)*'CTI INPUTS'!C6","v":0},{"$f":"(BH35/60)*'CTI INPUTS'!C6","v":0},{"$f":"(BI35/60)*'CTI INPUTS'!C6","v":0},{"$f":"(BJ35/60)*'CTI INPUTS'!C6","v":0},null,{"$f":"(Q35*('CTI INPUTS'!D17))+(T35*('CTI INPUTS'!D18))+(AE35*('CTI INPUTS'!D12))+(AF35*('CTI INPUTS'!D13))+(AG35*('CTI INPUTS'!D14))","v":0},{"$f":"(N35*('CTI INPUTS'!D19))+(T35*('CTI INPUTS'!D18))+(AG35*('CTI INPUTS'!D14))","v":0},{"$f":"(Y35*'CTI INPUTS'!D15)+(N35*'CTI INPUTS'!D16)","v":0},{"$f":"(R35*('CTI INPUTS'!D17))+(U35*('CTI INPUTS'!D18))+(AH35*('CTI INPUTS'!D12))+(AI35*('CTI INPUTS'!D13))+(AJ35*('CTI INPUTS'!D14))","v":0},{"$f":"(O35*('CTI INPUTS'!D19))+(U35*('CTI INPUTS'!D18))+(AJ35*('CTI INPUTS'!D14))","v":0},{"$f":"(Z35*'CTI INPUTS'!D15)+(O35*'CTI INPUTS'!D16)","v":0},null,{"$f":"(AE35*('CTI INPUTS'!D12))","v":0},{"$f":"(AF35*('CTI INPUTS'!D13))","v":0},{"$f":"(AG35*('CTI INPUTS'!D14))","v":0},{"$f":"(AH35*('CTI INPUTS'!D12))","v":0},{"$f":"(AI35*('CTI INPUTS'!D13))","v":0},{"$f":"(AJ35*('CTI INPUTS'!D14))","v":0},null,{"$f":"AL35*'CTI INPUTS'!D42","v":0},{"$f":"AM35*'CTI INPUTS'!D43","v":0},{"$f":"AN35*'CTI INPUTS'!D44","v":0},{"$f":"AS35*'CTI INPUTS'!D45","v":0},{"$f":"AO35*'CTI INPUTS'!D42","v":0},{"$f":"AP35*'CTI INPUTS'!D43","v":0},{"$f":"AQ35*'CTI INPUTS'!D44","v":0},{"$f":"AT35*'CTI INPUTS'!D45","v":0}]
[null,null,"30in",{"$f":"ProjectData!C52","v":0},null,{"$f":"D36*32","v":0},null,0,{"$f":"D36*12","v":0},null,{"$f":"D36*'CTI INPUTS'!M23","v":0},{"$f":"D36*'CTI INPUTS'!O23","v":0},null,0,0,null,{"$f":"(34*N36)/12","v":0},{"$f":"(34*O36)/12","v":0},null,{"$f":"N36*'CTI INPUTS'!C48","v":0},{"$f":"O36*'CTI INPUTS'!C48","v":0},null,null,null,{"$f":"N36*'CTI INPUTS'!C51","v":0},{"$f":"O36*'CTI INPUTS'!C51","v":0},null,null,null,null,0,0,0,0,0,0,null,0,0,0,0,0,0,null,0,0,null,null,null,null,{"$f":"(F36/4)*'CTI INPUTS'!C33","v":0},{"$f":"(H36*'CTI INPUTS'!C34)+(I36*'CTI INPUTS'!C33)","v":0},null,{"$f":"D36*'CTI INPUTS'!M38","v":0},{"$f":"D36*'CTI INPUTS'!N38","v":0},null,{"$f":"N36*'CTI INPUTS'!C37","v":0},{"$f":"N36*'CTI INPUTS'!C38","v":0},{"$f":"N36*'CTI INPUTS'!C39","v":0},{"$f":"O36*'CTI INPUTS'!C37","v":0},{"$f":"O36*'CTI INPUTS'!C38","v":0},{"$f":"O36*'CTI INPUTS'!C39","v":0},null,{"$f":"(AY36*'CTI INPUTS'!C6)/60","v":0},{"$f":"(AZ36*'CTI INPUTS'!C6)/60","v":0},null,{"$f":"(BE36/60)*'CTI INPUTS'!C6","v":0},{"$f":"(BF36/60)*'CTI INPUTS'!C6","v":0},{"$f":"(BG36/60)*'CTI INPUTS'!C6","v":0},{"$f":"(BH36/60)*'CTI INPUTS'!C6","v":0},{"$f":"(BI36/60)*'CTI INPUTS'!C6","v":0},{"$f":"(BJ36/60)*'CTI INPUTS'!C6","v":0},null,{"$f":"(Q36*('CTI INPUTS'!D17))+(T36*('CTI INPUTS'!D18))+(AE36*('CTI INPUTS'!D12))+(AF36*('CTI INPUTS'!D13))+(AG36*('CTI INPUTS'!D14))","v":0},{"$f":"(N36*('CTI INPUTS'!D19))+(T36*('CTI INPUTS'!D18))+(AG36*('CTI INPUTS'!D14))","v":0},{"$f":"(Y36*'CTI INPUTS'!D15)+(N36*'CTI INPUTS'!D16)","v":0},{"$f":"(R36*('CTI INPUTS'!D17))+(U36*('CTI INPUTS'!D18))+(AH36*('CTI INPUTS'!D12))+(AI36*('CTI INPUTS'!D13))+(AJ36*('CTI INPUTS'!D14))","v":0},{"$f":"(O36*('CTI INPUTS'!D19))+(U36*('CTI INPUTS'!D18))+(AJ36*('CTI INPUTS'!D14))","v":0},{"$f":"(Z36*'CTI INPUTS'!D15)+(O36*'CTI INPUTS'!D16)","v":0},null,{"$f":"(AE36*('CTI INPUTS'!D12))","v":0},{"$f":"(AF36*('CTI INPUTS'!D13))","v":0},{"$f":"(AG36*('CTI INPUTS'!D14))","v":0},{"$f":"(AH36*('CTI INPUTS'!D12))","v":0},{"$f":"(AI36*('CTI INPUTS'!D13))","v":0},{"$f":"(AJ36*('CTI INPUTS'!D14))","v":0},null,{"$f":"AL36*'CTI INPUTS'!D42","v":0},{"$f":"AM36*'CTI INPUTS'!D43","v":0},{"$f":"AN36*'CTI INPUTS'!D44","v":0},{"$f":"AS36*'CTI INPUTS'!D45","v":0},{"$f":"AO36*'CTI INPUTS'!D42","v":0},{"$f":"AP36*'CTI INPUTS'!D43","v":0},{"$f":"AQ36*'CTI INPUTS'!D44","v":0},{"$f":"AT36*'CTI INPUTS'!D45","v":0}]
[null,null,"36in",{"$f":"ProjectData!C53","v":0},null,{"$f":"D37*32","v":0},null,0,{"$f":"D37*12","v":0},null,{"$f":"D37*'CTI INPUTS'!M24","v":0},{"$f":"D37*'CTI INPUTS'!O24","v":0},null,0,0,null,{"$f":"(40*N37)/12","v":0},{"$f":"(40*O37)/12","v":0},null,{"$f":"N37*'CTI INPUTS'!C48","v":0},{"$f":"O37*'CTI INPUTS'!C48","v":0},null,null,null,{"$f":"N37*'CTI INPUTS'!C51","v":0},{"$f":"O37*'CTI INPUTS'!C51","v":0},null,null,null,null,0,0,0,0,0,0,null,0,0,0,0,0,0,null,0,0,null,null,null,null,{"$f":"(F37/4)*'CTI INPUTS'!C33","v":0},{"$f":"(H37*'CTI INPUTS'!C34)+(I37*'CTI INPUTS'!C33)","v":0},null,{"$f":"D37*'CTI INPUTS'!M39","v":0},{"$f":"D37*'CTI INPUTS'!N39","v":0},null,{"$f":"N37*'CTI INPUTS'!C37","v":0},{"$f":"N37*'CTI INPUTS'!C38","v":0},{"$f":"N37*'CTI INPUTS'!C39","v":0},{"$f":"O37*'CTI INPUTS'!C37","v":0},{"$f":"O37*'CTI INPUTS'!C38","v":0},{"$f":"O37*'CTI INPUTS'!C39","v":0},null,{"$f":"(AY37*'CTI INPUTS'!C6)/60","v":0},{"$f":"(AZ37*'CTI INPUTS'!C6)/60","v":0},null,{"$f":"(BE37/60)*'CTI INPUTS'!C6","v":0},{"$f":"(BF37/60)*'CTI INPUTS'!C6","v":0},{"$f":"(BG37/60)*'CTI INPUTS'!C6","v":0},{"$f":"(BH37/60)*'CTI INPUTS'!C6","v":0},{"$f":"(BI37/60)*'CTI INPUTS'!C6","v":0},{"$f":"(BJ37/60)*'CTI INPUTS'!C6","v":0},null,{"$f":"(Q37*('CTI INPUTS'!D17))+(T37*('CTI INPUTS'!D18))+(AE37*('CTI INPUTS'!D12))+(AF37*('CTI INPUTS'!D13))+(AG37*('CTI INPUTS'!D14))","v":0},{"$f":"(N37*('CTI INPUTS'!D19))+(T37*('CTI INPUTS'!D18))+(AG37*('CTI INPUTS'!D14))","v":0},{"$f":"(Y37*'CTI INPUTS'!D15)+(N37*'CTI INPUTS'!D16)","v":0},{"$f":"(R37*('CTI INPUTS'!D17))+(U37*('CTI INPUTS'!D18))+(AH37*('CTI INPUTS'!D12))+(AI37*('CTI INPUTS'!D13))+(AJ37*('CTI INPUTS'!D14))","v":0},{"$f":"(O37*('CTI INPUTS'!D19))+(U37*('CTI INPUTS'!D18))+(AJ37*('CTI INPUTS'!D14))","v":0},{"$f":"(Z37*'CTI INPUTS'!D15)+(O37*'CTI INPUTS'!D16)","v":0},null,{"$f":"(AE37*('CTI INPUTS'!D12))","v":0},{"$f":"(AF37*('CTI INPUTS'!D13))","v":0},{"$f":"(AG37*('CTI INPUTS'!D14))","v":0},{"$f":"(AH37*('CTI INPUTS'!D12))","v":0},{"$f":"(AI37*('CTI INPUTS'!D13))","v":0},{"$f":"(AJ37*('CTI INPUTS'!D14))","v":0},null,{"$f":"AL37*'CTI INPUTS'!D42","v":0},{"$f":"AM37*'CTI INPUTS'!D43","v":0},{"$f":"AN37*'CTI INPUTS'!D44","v":0},{"$f":"AS37*'CTI INPUTS'!D45","v":0},{"$f":"AO37*'CTI INPUTS'!D42","v":0},{"$f":"AP37*'CTI INPUTS'!D43","v":0},{"$f":"AQ37*'CTI INPUTS'!D44","v":0},{"$f":"AT37*'CTI INPUTS'!D45","v":0}]
[null,null,null,null,null,{"$f":"SUM(F26:F37)","v":0},null,{"$f":"SUM((H26:H37)+(I26:I37))","v":0},null,null,{"$f":"SUM(K26:K37)","v":0},{"$f":"SUM(L26:L37)","v":0},null,{"$f":"SUM(N26:N37)","v":0},{"$f":"SUM(O26:O37)","v":0},null,{"$f":"SUM(Q26:Q37)","v":0},{"$f":"SUM(R26:R37)","v":0},null,{"$f":"SUM(T26:T37)","v":0},{"$f":"SUM(U26:U37)","v":0},null,null,null,{"$f":"SUM(Y26:Y37)","v":0},{"$f":"SUM(Z26:Z37)","v":0},null,null,null,null,{"$f":"SUM((AE26:AE37)+(AF26:AF37)+(AG26:AG37))","v":0},null,null,{"$f":"SUM((AH26:AH37)+(AI26:AI37)+(AJ26:AJ37))","v":0},null,null,null,{"$f":"SUM((AL26:AL37)+(AM26:AM37)+(AN26:AN37))","v":0},null,null,{"$f":"SUM((AO26:AO37)+(AP26:AP37)+(AQ26:AQ37))","v":0},null,null,null,{"$f":"SUM(AS26:AS37)","v":0},{"$f":"SUM(AT26:AT37)","v":0},null,null,null,null,{"$f":"SUM(AY26:AY37)","v":0},{"$f":"SUM(AZ26:AZ37)","v":0},null,{"$f":"SUM(BB26:BB37)","v":0},{"$f":"SUM(BC26:BC37)","v":0},null,{"$f":"SUM(BE26:BE37)","v":0},0,0,0,0,0,null,{"$f":"SUM(BL26:BL37)","v":0},{"$f":"SUM(BM26:BM37)","v":0},null,{"$f":"SUM(BO26:BO37)","v":0},0,0,0,0,0,null,{"$f":"SUM(BV26:BV37)","v":0},0,0,0,0,0,null,{"$f":"SUM((CC26:CC37)+(CD26:CD37)+(CE26:CE37))","v":0},null,null,{"$f":"SUM((CF26:CF37)+(CG26:CG37)+(CH26:CH37))","v":0},null,null,null,{"$f":"SUM((CJ26:CJ37)+(CK26:CK37)+(CL26:CL37))","v":0},null,null,{"$f":"SUM(CM26:CM37)","v":0},{"$f":"SUM((CN26:CN37)+(CO26:CO37)+(CP26:CP37))","v":0},null,null,{"$f":"SUM(CQ26:CQ37)","v":0},null,{"$f":"SUM(CS26:CS37)","v":0},{"$f":"SUM(CT26:CT37)","v":0},{"$f":"SUM(CU26:CU37)","v":0}]
[]
[null,"HORIZONTAL 90 BEND",null,null,null,"SPLICE",null,"POSI-LOK",null,null,"FITTING FABRICATION",null,null,"SUPPORT QUANTITY",null,null,"STRUT L/FT",null,null,"ATR HANGER (L/FT)",null,null,null,null,"WIRE HANGER (L/FT)",null,null,null,null,null,"VE2 : ATR HARDWARE QUANTITY",null,null,"TSS : ATR HARDWARE QUANTITY",null,null,null,"HOLD DOWN & HDWR QUANTITY",null,null,"TSS: HOLD DOWN & HDWR QUANTITY",null,null,null,"H-DOWN CLIP QUANTITY",null,null,null,null,null,"SPLICE INSTALLATION TIME (MIN)",null,null,"FITTING FAB. TIME (MIN)",null,null,"VE2 : SUPPORT INSTAL TIME (MIN)",null,null,"TSS: SUPPORT INSTALLATION TIME (MIN)",null,null,null,"SPLICE INSTALLATION COST ($)",null,null,"SUPPORT INSTALLATION COST ($)",null,null,"TSS: SUPPORT INSTALLATION COST ($)",null,null," ","SUPPORT COST ($)",null,null,"TSS: SUPPORT COST ($)",null,null,null,"ATR HARDWARE COST $",null,null,"TSS: ATR HARDWARE COST $",null,null,null,"HOLD DOWN CLAMPS & HARDWARE COST ($)",null,null,null,"TSS: HOLD DOWN CLAMPS & HARDWARE COST ($)",null,null,null,null,"SUPPORT WEIGHT (LBS)"]
[]
[null,"HEIGHT","WIDTH","QUANTITY",null,"WSKIT",null,"PLOK","WSKIT",null,"CUTS  QTY","WSKIT (pcs)",null,"FAB (VE2)","C2G (TSS)",null,"FAB (VE2)","C2G (TSS)",null,"FAB (VE2)","C2G (TSS)",null,null,null,"FAB (VE2)","C2G (TSS)",null,null,null,null,"SQ WSHR","FLT WSHR","HEX NUT","SQ WSHR","FLT WSHR","HEX NUT",null,"FLXW","25HX","25NC","FLXW","25HX","25NC",null,"VE2 : SRC (pc)","TSS : SRC (pc)",null,null,null,null,"WSKIT","POSI-LOK + WSKIT",null,"CUTS ","WSKIT",null,"STRUT","URH","WIRE","STRUT","URH","WIRE",null,"WSKIT","POSI-LOK + WSKIT",null,"VE2 : STRUT","VE2 : URH","VE2 : WIRE","TSS : STRUT","TSS : URH","TSS : WIRE"," ","STRUT","URH","WIRE","STRUT","URH","WIRE",null,"SQUARE WSHR","FLAT WSHR","HEX NUT","SQUARE WSHR","FLAT WSHR","HEX NUT",null,"FLXW","25HX","25NC","SRC CLIP","FLXW","25HX","25NC","SRC CLIP",null,"STRUT","URH","WIRE"]
[null,"2/4/6in","2in",{"$f":"ProjectData!E42","v":0},null,{"$f":"D43*8","v":0},null,{"$f":"D43*2","v":0},{"$f":"D43*0","v":0},null,{"$f":"D43*'CTI INPUTS'!R13","v":0},{"$f":"D43*'CTI INPUTS'!T13","v":0},null,{"$f":"D43*3","v":0},{"$f":"D43*1","v":0},null,{"$f":"(6*N43)/12","v":0},{"$f":"(6*O43)/12","v":0},null,{"$f":"N43*'CTI INPUTS'!C48","v":0},{"$f":"O43*'CTI INPUTS'!C48","v":0},null,null,null,{"$f":"N43*'CTI INPUTS'!C51","v":0},{"$f":"O43*'CTI INPUTS'!C51","v":0},null,null,null,null,{"$f":"N43*4","v":0},{"$f":"N43*4","v":0},{"$f":"N43*4","v":0},{"$f":"O43*4","v":0},{"$f":"O43*4","v":0},{"$f":"O43*4","v":0},null,{"$f":"N43*2","v":0},{"$f":"N43*2","v":0},{"$f":"N43*2","v":0},{"$f":"O43*2","v":0},{"$f":"O43*2","v":0},{"$f":"O43*2","v":0},null,{"$f":"N43*1","v":0},{"$f":"O43*1","v":0},null,null,null,null,{"$f":"(F43/4)*'CTI INPUTS'!C33","v":0},{"$f":"(H43*'CTI INPUTS'!C34)+(I43*'CTI INPUTS'!C33)","v":0},null,{"$f":"D43*'CTI INPUTS'!R28","v":0},{"$f":"D43*'CTI INPUTS'!S28","v":0},null,{"$f":"N43*'CTI INPUTS'!C37","v":0},{"$f":"N43*'CTI INPUTS'!C38","v":0},{"$f":"N43*'CTI INPUTS'!C39","v":0},{"$f":"O43*'CTI INPUTS'!C37","v":0},{"$f":"O43*'CTI INPUTS'!C38","v":0},{"$f":"O43*'CTI INPUTS'!C39","v":0},null,{"$f":"(AY43*'CTI INPUTS'!C6)/60","v":0},{"$f":"(AZ43*'CTI INPUTS'!C6)/60","v":0},null,{"$f":"(BE43/60)*'CTI INPUTS'!C6","v":0},{"$f":"(BF43/60)*'CTI INPUTS'!C6","v":0},{"$f":"(BG43/60)*'CTI INPUTS'!C6","v":0},{"$f":"(BH43/60)*'CTI INPUTS'!C6","v":0},{"$f":"(BI43/60)*'CTI INPUTS'!C6","v":0},{"$f":"(BJ43/60)*'CTI INPUTS'!C6","v":0},null,{"$f":"(Q43*('CTI INPUTS'!D17))+(T43*('CTI INPUTS'!D18))+(AE43*('CTI INPUTS'!D12))+(AF43*('CTI INPUTS'!D13))+(AG43*('CTI INPUTS'!D14))","v":0},{"$f":"(N43*('CTI INPUTS'!D19))+(T43*('CTI INPUTS'!D18))+(AG43*('CTI INPUTS'!D14))","v":0},{"$f":"(Y43*'CTI INPUTS'!D15)+(N43*'CTI INPUTS'!D16)","v":0},{"$f":"(R43*('CTI INPUTS'!D17))+(U43*('CTI INPUTS'!D18))+(AH43*('CTI INPUTS'!D12))+(AI43*('CTI INPUTS'!D13))+(AJ43*('CTI INPUTS'!D14))","v":0},{"$f":"(O43*('CTI INPUTS'!D19))+(U43*('CTI INPUTS'!D18))+(AJ43*('CTI INPUTS'!D14))","v":0},{"$f":"(Z43*'CTI INPUTS'!D15)+(O43*'CTI INPUTS'!D16)","v":0},null,{"$f":"(AE43*('CTI INPUTS'!D12))","v":0},{"$f":"(AF43*('CTI INPUTS'!D13))","v":0},{"$f":"(AG43*('CTI INPUTS'!D14))","v":0},{"$f":"(AH43*('CTI INPUTS'!D12))","v":0},{"$f":"(AI43*('CTI INPUTS'!D13))","v":0},{"$f":"(AJ43*('CTI INPUTS'!D14))","v":0},null,{"$f":"AL43*'CTI INPUTS'!D42","v":0},{"$f":"AM43*'CTI INPUTS'!D43","v":0},{"$f":"AN43*'CTI INPUTS'!D44","v":0},{"$f":"AS43*'CTI INPUTS'!D45","v":0},{"$f":"AO43*'CTI INPUTS'!D42","v":0},{"$f":"AP43*'CTI INPUTS'!D43","v":0},{"$f":"AQ43*'CTI INPUTS'!D44","v":0},{"$f":"AT43*'CTI INPUTS'!D45","v":0}]
[null,null,"4in",{"$f":"ProjectData!E43","v":0},null,{"$f":"D44*16","v":0},null,{"$f":"D44*2","v":0},{"$f":"D44*0","v":0},null,{"$f":"D44*'CTI INPUTS'!R14","v":0},{"$f":"D44*'CTI INPUTS'!T14","v":0},null,{"$f":"D44*3","v":0},0,null,{"$f":"(8*N44)/12","v":0},{"$f":"(8*O44)/12","v":0},null,{"$f":"N44*'CTI INPUTS'!C48","v":0},{"$f":"O44*'CTI INPUTS'!C48","v":0},null,null,null,{"$f":"N44*'CTI INPUTS'!C51","v":0},{"$f":"O44*'CTI INPUTS'!C51","v":0},null,null,null,null,{"$f":"N44*4","v":0},{"$f":"N44*4","v":0},{"$f":"N44*4","v":0},{"$f":"O44*4","v":0},{"$f":"O44*4","v":0},{"$f":"O44*4","v":0},null,{"$f":"N44*2","v":0},{"$f":"N44*2","v":0},{"$f":"N44*2","v":0},{"$f":"O44*2","v":0},{"$f":"O44*2","v":0},{"$f":"O44*2","v":0},null,{"$f":"N44*2","v":0},{"$f":"O44*2","v":0},null,null,null,null,{"$f":"(F44/4)*'CTI INPUTS'!C33","v":0},{"$f":"(H44*'CTI INPUTS'!C34)+(I44*'CTI INPUTS'!C33)","v":0},null,{"$f":"D44*'CTI INPUTS'!R29","v":0},{"$f":"D44*'CTI INPUTS'!S29","v":0},null,{"$f":"N44*'CTI INPUTS'!C37","v":0},{"$f":"N44*'CTI INPUTS'!C38","v":0},{"$f":"N44*'CTI INPUTS'!C39","v":0},{"$f":"O44*'CTI INPUTS'!C37","v":0},{"$f":"O44*'CTI INPUTS'!C38","v":0},{"$f":"O44*'CTI INPUTS'!C39","v":0},null,{"$f":"(AY44*'CTI INPUTS'!C6)/60","v":0},{"$f":"(AZ44*'CTI INPUTS'!C6)/60","v":0},null,{"$f":"(BE44/60)*'CTI INPUTS'!C6","v":0},{"$f":"(BF44/60)*'CTI INPUTS'!C6","v":0},{"$f":"(BG44/60)*'CTI INPUTS'!C6","v":0},{"$f":"(BH44/60)*'CTI INPUTS'!C6","v":0},{"$f":"(BI44/60)*'CTI INPUTS'!C6","v":0},{"$f":"(BJ44/60)*'CTI INPUTS'!C6","v":0},null,{"$f":"(Q44*('CTI INPUTS'!D17))+(T44*('CTI INPUTS'!D18))+(AE44*('CTI INPUTS'!D12))+(AF44*('CTI INPUTS'!D13))+(AG44*('CTI INPUTS'!D14))","v":0},{"$f":"(N44*('CTI INPUTS'!D19))+(T44*('CTI INPUTS'!D18))+(AG44*('CTI INPUTS'!D14))","v":0},{"$f":"(Y44*'CTI INPUTS'!D15)+(N44*'CTI INPUTS'!D16)","v":0},{"$f":"(R44*('CTI INPUTS'!D17))+(U44*('CTI INPUTS'!D18))+(AH44*('CTI INPUTS'!D12))+(AI44*('CTI INPUTS'!D13))+(AJ44*('CTI INPUTS'!D14))","v":0},{"$f":"(O44*('CTI INPUTS'!D19))+(U44*('CTI INPUTS'!D18))+(AJ44*('CTI INPUTS'!D14))","v":0},{"$f":"(Z44*'CTI INPUTS'!D15)+(O44*'CTI INPUTS'!D16)","v":0},null,{"$f":"(AE44*('CTI INPUTS'!D12))","v":0},{"$f":"(AF44*('CTI INPUTS'!D13))","v":0},{"$f":"(AG44*('CTI INPUTS'!D14))","v":0},{"$f":"(AH44*('CTI INPUTS'!D12))","v":0},{"$f":"(AI44*('CTI INPUTS'!D13))","v":0},{"$f":"(AJ44*('CTI INPUTS'!D14))","v":0},null,{"$f":"AL44*'CTI INPUTS'!D42","v":0},{"$f":"AM44*'CTI INPUTS'!D43","v":0},{"$f":"AN44*'CTI INPUTS'!D44","v":0},{"$f":"AS44*'CTI INPUTS'!D45","v":0},{"$f":"AO44*'CTI INPUTS'!D42","v":0},{"$f":"AP44*'CTI INPUTS'!D43","v":0},{"$f":"AQ44*'CTI INPUTS'!D44","v":0},{"$f":"AT44*'CTI INPUTS'!D45","v":0}]
[null,null,"6in",{"$f":"ProjectData!E44","v":0},null,{"$f":"D45*16","v":0},null,0,{"$f":"D45*0","v":0},null,{"$f":"D45*'CTI INPUTS'!R15","v":0},{"$f":"D45*'CTI INPUTS'!T15","v":0},null,0,0,null,{"$f":"(10*N45)/12","v":0},{"$f":"(10*O45)/12","v":0},null,{"$f":"N45*'CTI INPUTS'!C48","v":0},{"$f":"O45*'CTI INPUTS'!C48","v":0},null,null,null,{"$f":"N45*'CTI INPUTS'!C51","v":0},{"$f":"O45*'CTI INPUTS'!C51","v":0},null,null,null,null,0,0,0,0,0,0,null,0,0,0,0,0,0,null,{"$f":"N45*2","v":0},{"$f":"O45*2","v":0},null,null,null,null,{"$f":"(F45/4)*'CTI INPUTS'!C33","v":0},{"$f":"(H45*'CTI INPUTS'!C34)+(I45*'CTI INPUTS'!C33)","v":0},null,{"$f":"D45*'CTI INPUTS'!R30","v":0},{"$f":"D45*'CTI INPUTS'!S30","v":0},null,{"$f":"N45*'CTI INPUTS'!C37","v":0},{"$f":"N45*'CTI INPUTS'!C38","v":0},{"$f":"N45*'CTI INPUTS'!C39","v":0},{"$f":"O45*'CTI INPUTS'!C37","v":0},{"$f":"O45*'CTI INPUTS'!C38","v":0},{"$f":"O45*'CTI INPUTS'!C39","v":0},null,{"$f":"(AY45*'CTI INPUTS'!C6)/60","v":0},{"$f":"(AZ45*'CTI INPUTS'!C6)/60","v":0},null,{"$f":"(BE45/60)*'CTI INPUTS'!C6","v":0},{"$f":"(BF45/60)*'CTI INPUTS'!C6","v":0},{"$f":"(BG45/60)*'CTI INPUTS'!C6","v":0},{"$f":"(BH45/60)*'CTI INPUTS'!C6","v":0},{"$f":"(BI45/60)*'CTI INPUTS'!C6","v":0},{"$f":"(BJ45/60)*'CTI INPUTS'!C6","v":0},null,{"$f":"(Q45*('CTI INPUTS'!D17))+(T45*('CTI INPUTS'!D18))+(AE45*('CTI INPUTS'!D12))+(AF45*('CTI INPUTS'!D13))+(AG45*('CTI INPUTS'!D14))","v":0},{"$f":"(N45*('CTI INPUTS'!D19))+(T45*('CTI INPUTS'!D18))+(AG45*('CTI INPUTS'!D14))","v":0},{"$f":"(Y45*'CTI INPUTS'!D15)+(N45*'CTI INPUTS'!D16)","v":0},{"$f":"(R45*('CTI INPUTS'!D17))+(U45*('CTI INPUTS'!D18))+(AH45*('CTI INPUTS'!D12))+(AI45*('CTI INPUTS'!D13))+(AJ45*('CTI INPUTS'!D14))","v":0},{"$f":"(O45*('CTI INPUTS'!D19))+(U45*('CTI INPUTS'!D18))+(AJ45*('CTI INPUTS'!D14))","v":0},{"$f":"(Z45*'CTI INPUTS'!D15)+(O45*'CTI INPUTS'!D16)","v":0},null,{"$f":"(AE45*('CTI INPUTS'!D12))","v":0},{"$f":"(AF45*('CTI INPUTS'!D13))","v":0},{"$f":"(AG45*('CTI INPUTS'!D14))","v":0},{"$f":"(AH45*('CTI INPUTS'!D12))","v":0},{"$f":"(AI45*('CTI INPUTS'!D13))","v":0},{"$f":"(AJ45*('CTI INPUTS'!D14))","v":0},null,{"$f":"AL45*'CTI INPUTS'!D42","v":0},{"$f":"AM45*'CTI INPUTS'!D43","v":0},{"$f":"AN45*'CTI INPUTS'!D44","v":0},{"$f":"AS45*'CTI INPUTS'!D45","v":0},{"$f":"AO45*'CTI INPUTS'!D42","v":0},{"$f":"AP45*'CTI INPUTS'!D43","v":0},{"$f":"AQ45*'CTI INPUTS'!D44","v":0},{"$f":"AT45*'CTI INPUTS'!D45","v":0}]
[null,null,"8in",{"$f":"ProjectData!E45","v":0},null,{"$f":"D46*20","v":0},null,0,{"$f":"D46*4","v":0},null,{"$f":"D46*'CTI INPUTS'!R16","v":0},{"$f":"D46*'CTI INPUTS'!T16","v":0},null,0,0,null,{"$f":"(12*N46)/12","v":0},{"$f":"(12*O46)/12","v":0},null,{"$f":"N46*'CTI INPUTS'!C48","v":0},{"$f":"O46*'CTI INPUTS'!C48","v":0},null,null,null,{"$f":"N46*'CTI INPUTS'!C51","v":0},{"$f":"O46*'CTI INPUTS'!C51","v":0},null,null,null,null,0,0,0,0,0,0,null,0,0,0,0,0,0,null,0,0,null,null,null,null,{"$f":"(F46/4)*'CTI INPUTS'!C33","v":0},{"$f":"(H46*'CTI INPUTS'!C34)+(I46*'CTI INPUTS'!C33)","v":0},null,{"$f":"D46*'CTI INPUTS'!R31","v":0},{"$f":"D46*'CTI INPUTS'!S31","v":0},null,{"$f":"N46*'CTI INPUTS'!C37","v":0},{"$f":"N46*'CTI INPUTS'!C38","v":0},{"$f":"N46*'CTI INPUTS'!C39","v":0},{"$f":"O46*'CTI INPUTS'!C37","v":0},{"$f":"O46*'CTI INPUTS'!C38","v":0},{"$f":"O46*'CTI INPUTS'!C39","v":0},null,{"$f":"(AY46*'CTI INPUTS'!C6)/60","v":0},{"$f":"(AZ46*'CTI INPUTS'!C6)/60","v":0},null,{"$f":"(BE46/60)*'CTI INPUTS'!C6","v":0},{"$f":"(BF46/60)*'CTI INPUTS'!C6","v":0},{"$f":"(BG46/60)*'CTI INPUTS'!C6","v":0},{"$f":"(BH46/60)*'CTI INPUTS'!C6","v":0},{"$f":"(BI46/60)*'CTI INPUTS'!C6","v":0},{"$f":"(BJ46/60)*'CTI INPUTS'!C6","v":0},null,{"$f":"(Q46*('CTI INPUTS'!D17))+(T46*('CTI INPUTS'!D18))+(AE46*('CTI INPUTS'!D12))+(AF46*('CTI INPUTS'!D13))+(AG46*('CTI INPUTS'!D14))","v":0},{"$f":"(N46*('CTI INPUTS'!D19))+(T46*('CTI INPUTS'!D18))+(AG46*('CTI INPUTS'!D14))","v":0},{"$f":"(Y46*'CTI INPUTS'!D15)+(N46*'CTI INPUTS'!D16)","v":0},{"$f":"(R46*('CTI INPUTS'!D17))+(U46*('CTI INPUTS'!D18))+(AH46*('CTI INPUTS'!D12))+(AI46*('CTI INPUTS'!D13))+(AJ46*('CTI INPUTS'!D14))","v":0},{"$f":"(O46*('CTI INPUTS'!D19))+(U46*('CTI INPUTS'!D18))+(AJ46*('CTI INPUTS'!D14))","v":0},{"$f":"(Z46*'CTI INPUTS'!D15)+(O46*'CTI INPUTS'!D16)","v":0},null,{"$f":"(AE46*('CTI INPUTS'!D12))","v":0},{"$f":"(AF46*('CTI INPUTS'!D13))","v":0},{"$f":"(AG46*('CTI INPUTS'!D14))","v":0},{"$f":"(AH46*('CTI INPUTS'!D12))","v":0},{"$f":"(AI46*('CTI INPUTS'!D13))","v":0},{"$f":"(AJ46*('CTI INPUTS'!D14))","v":0},null,{"$f":"AL46*'CTI INPUTS'!D42","v":0},{"$f":"AM46*'CTI INPUTS'!D43","v":0},{"$f":"AN46*'CTI INPUTS'!D44","v":0},{"$f":"AS46*'CTI INPUTS'!D45","v":0},{"$f":"AO46*'CTI INPUTS'!D42","v":0},{"$f":"AP46*'CTI INPUTS'!D43","v":0},{"$f":"AQ46*'CTI INPUTS'!D44","v":0},{"$f":"AT46*'CTI INPUTS'!D45","v":0}]
[null,null,"10in",{"$f":"ProjectData!E46","v":0},null,{"$f":"D47*20","v":0},null,0,{"$f":"D47*4","v":0},null,{"$f":"D47*'CTI INPUTS'!R17","v":0},{"$f":"D47*'CTI INPUTS'!T17","v":0},null,0,0,null,{"$f":"(14*N47)/12","v":0},{"$f":"(14*O47)/12","v":0},null,{"$f":"N47*'CTI INPUTS'!C48","v":0},{"$f":"O47*'CTI INPUTS'!C48","v":0},null,null,null,{"$f":"N47*'CTI INPUTS'!C51","v":0},{"$f":"O47*'CTI INPUTS'!C51","v":0},null,null,null,null,0,0,0,0,0,0,null,0,0,0,0,0,0,null,0,0,null,null,null,null,{"$f":"(F47/4)*'CTI INPUTS'!C33","v":0},{"$f":"(H47*'CTI INPUTS'!C34)+(I47*'CTI INPUTS'!C33)","v":0},null,{"$f":"D47*'CTI INPUTS'!R32","v":0},{"$f":"D47*'CTI INPUTS'!S32","v":0},null,{"$f":"N47*'CTI INPUTS'!C37","v":0},{"$f":"N47*'CTI INPUTS'!C38","v":0},{"$f":"N47*'CTI INPUTS'!C39","v":0},{"$f":"O47*'CTI INPUTS'!C37","v":0},{"$f":"O47*'CTI INPUTS'!C38","v":0},{"$f":"O47*'CTI INPUTS'!C39","v":0},null,{"$f":"(AY47*'CTI INPUTS'!C6)/60","v":0},{"$f":"(AZ47*'CTI INPUTS'!C6)/60","v":0},null,{"$f":"(BE47/60)*'CTI INPUTS'!C6","v":0},{"$f":"(BF47/60)*'CTI INPUTS'!C6","v":0},{"$f":"(BG47/60)*'CTI INPUTS'!C6","v":0},{"$f":"(BH47/60)*'CTI INPUTS'!C6","v":0},{"$f":"(BI47/60)*'CTI INPUTS'!C6","v":0},{"$f":"(BJ47/60)*'CTI INPUTS'!C6","v":0},null,{"$f":"(Q47*('CTI INPUTS'!D17))+(T47*('CTI INPUTS'!D18))+(AE47*('CTI INPUTS'!D12))+(AF47*('CTI INPUTS'!D13))+(AG47*('CTI INPUTS'!D14))","v":0},{"$f":"(N47*('CTI INPUTS'!D19))+(T47*('CTI INPUTS'!D18))+(AG47*('CTI INPUTS'!D14))","v":0},{"$f":"(Y47*'CTI INPUTS'!D15)+(N47*'CTI INPUTS'!D16)","v":0},{"$f":"(R47*('CTI INPUTS'!D17))+(U47*('CTI INPUTS'!D18))+(AH47*('CTI INPUTS'!D12))+(AI47*('CTI INPUTS'!D13))+(AJ47*('CTI INPUTS'!D14))","v":0},{"$f":"(O47*('CTI INPUTS'!D19))+(U47*('CTI INPUTS'!D18))+(AJ47*('CTI INPUTS'!D14))","v":0},{"$f":"(Z47*'CTI INPUTS'!D15)+(O47*'CTI INPUTS'!D16)","v":0},null,{"$f":"(AE47*('CTI INPUTS'!D12))","v":0},{"$f":"(AF47*('CTI INPUTS'!D13))","v":0},{"$f":"(AG47*('CTI INPUTS'!D14))","v":0},{"$f":"(AH47*('CTI INPUTS'!D12))","v":0},{"$f":"(AI47*('CTI INPUTS'!D13))","v":0},{"$f":"(AJ47*('CTI INPUTS'!D14))","v":0},null,{"$f":"AL47*'CTI INPUTS'!D42","v":0},{"$f":"AM47*'CTI INPUTS'!D43","v":0},{"$f":"AN47*'CTI INPUTS'!D44","v":0},{"$f":"AS47*'CTI INPUTS'!D45","v":0},{"$f":"AO47*'CTI INPUTS'!D42","v":0},{"$f":"AP47*'CTI INPUTS'!D43","v":0},{"$f":"AQ47*'CTI INPUTS'!D44","v":0},{"$f":"AT47*'CTI INPUTS'!D45","v":0}]
[null,null,"12in",{"$f":"ProjectData!E47","v":5},null,{"$f":"D48*24","v":120},null,10,{"$f":"D48*4","v":20},null,{"$f":"D48*'CTI INPUTS'!R18","v":480},{"$f":"D48*'CTI INPUTS'!T18","v":120},null,15,5,null,{"$f":"(16*N48)/12","v":20},{"$f":"(16*O48)/12","v":6.666666666666667},null,{"$f":"N48*'CTI INPUTS'!C48","v":60},{"$f":"O48*'CTI INPUTS'!C48","v":20},null,null,null,{"$f":"N48*'CTI INPUTS'!C51","v":90},{"$f":"O48*'CTI INPUTS'!C51","v":30},null,null,null,null,60,60,60,20,20,20,null,30,30,30,10,10,10,null,30,10,null,null,null,null,{"$f":"(F48/4)*'CTI INPUTS'!C33","v":15},{"$f":"(H48*'CTI INPUTS'!C34)+(I48*'CTI INPUTS'!C33)","v":12},null,{"$f":"D48*'CTI INPUTS'!R33","v":24},{"$f":"D48*'CTI INPUTS'!S33","v":15},null,{"$f":"N48*'CTI INPUTS'!C37","v":60},{"$f":"N48*'CTI INPUTS'!C38","v":45},{"$f":"N48*'CTI INPUTS'!C39","v":30},{"$f":"O48*'CTI INPUTS'!C37","v":20},{"$f":"O48*'CTI INPUTS'!C38","v":15},{"$f":"O48*'CTI INPUTS'!C39","v":10},null,{"$f":"(AY48*'CTI INPUTS'!C6)/60","v":25},{"$f":"(AZ48*'CTI INPUTS'!C6)/60","v":20},null,{"$f":"(BE48/60)*'CTI INPUTS'!C6","v":100},{"$f":"(BF48/60)*'CTI INPUTS'!C6","v":75},{"$f":"(BG48/60)*'CTI INPUTS'!C6","v":50},{"$f":"(BH48/60)*'CTI INPUTS'!C6","v":33.333333333333329},{"$f":"(BI48/60)*'CTI INPUTS'!C6","v":25},{"$f":"(BJ48/60)*'CTI INPUTS'!C6","v":16.666666666666664},null,{"$f":"(Q48*('CTI INPUTS'!D17))+(T48*('CTI INPUTS'!D18))+(AE48*('CTI INPUTS'!D12))+(AF48*('CTI INPUTS'!D13))+(AG48*('CTI INPUTS'!D14))","v":276},{"$f":"(N48*('CTI INPUTS'!D19))+(T48*('CTI INPUTS'!D18))+(AG48*('CTI INPUTS'!D14))","v":191.85000000000002},{"$f":"(Y48*'CTI INPUTS'!D15)+(N48*'CTI INPUTS'!D16)","v":150},{"$f":"(R48*('CTI INPUTS'!D17))+(U48*('CTI INPUTS'!D18))+(AH48*('CTI INPUTS'!D12))+(AI48*('CTI INPUTS'!D13))+(AJ48*('CTI INPUTS'!D14))","v":92},{"$f":"(O48*('CTI INPUTS'!D19))+(U48*('CTI INPUTS'!D18))+(AJ48*('CTI INPUTS'!D14))","v":63.95},{"$f":"(Z48*'CTI INPUTS'!D15)+(O48*'CTI INPUTS'!D16)","v":50},null,{"$f":"(AE48*('CTI INPUTS'!D12))","v":60},{"$f":"(AF48*('CTI INPUTS'!D13))","v":9},{"$f":"(AG48*('CTI INPUTS'!D14))","v":15},{"$f":"(AH48*('CTI INPUTS'!D12))","v":20},{"$f":"(AI48*('CTI INPUTS'!D13))","v":3},{"$f":"(AJ48*('CTI INPUTS'!D14))","v":5},null,{"$f":"AL48*'CTI INPUTS'!D42","v":60.3},{"$f":"AM48*'CTI INPUTS'!D43","v":21},{"$f":"AN48*'CTI INPUTS'!D44","v":27},{"$f":"AS48*'CTI INPUTS'!D45","v":82.5},{"$f":"AO48*'CTI INPUTS'!D42","v":20.099999999999998},{"$f":"AP48*'CTI INPUTS'!D43","v":7},{"$f":"AQ48*'CTI INPUTS'!D44","v":9},{"$f":"AT48*'CTI INPUTS'!D45","v":27.5}]
[null,null,"16in",{"$f":"ProjectData!E48","v":0},null,{"$f":"D49*24","v":0},null,0,{"$f":"D49*8","v":0},null,{"$f":"D49*'CTI INPUTS'!R19","v":0},{"$f":"D49*'CTI INPUTS'!T19","v":0},null,0,0,null,{"$f":"(20*N49)/12","v":0},{"$f":"(20*O49)/12","v":0},null,{"$f":"N49*'CTI INPUTS'!C48","v":0},{"$f":"O49*'CTI INPUTS'!C48","v":0},null,null,null,{"$f":"N49*'CTI INPUTS'!C51","v":0},{"$f":"O49*'CTI INPUTS'!C51","v":0},null,null,null,null,0,0,0,0,0,0,null,0,0,0,0,0,0,null,0,0,null,null,null,null,{"$f":"(F49/4)*'CTI INPUTS'!C33","v":0},{"$f":"(H49*'CTI INPUTS'!C34)+(I49*'CTI INPUTS'!C33)","v":0},null,{"$f":"D49*'CTI INPUTS'!R34","v":0},{"$f":"D49*'CTI INPUTS'!S34","v":0},null,{"$f":"N49*'CTI INPUTS'!C37","v":0},{"$f":"N49*'CTI INPUTS'!C38","v":0},{"$f":"N49*'CTI INPUTS'!C39","v":0},{"$f":"O49*'CTI INPUTS'!C37","v":0},{"$f":"O49*'CTI INPUTS'!C38","v":0},{"$f":"O49*'CTI INPUTS'!C39","v":0},null,{"$f":"(AY49*'CTI INPUTS'!C6)/60","v":0},{"$f":"(AZ49*'CTI INPUTS'!C6)/60","v":0},null,{"$f":"(BE49/60)*'CTI INPUTS'!C6","v":0},{"$f":"(BF49/60)*'CTI INPUTS'!C6","v":0},{"$f":"(BG49/60)*'CTI INPUTS'!C6","v":0},{"$f":"(BH49/60)*'CTI INPUTS'!C6","v":0},{"$f":"(BI49/60)*'CTI INPUTS'!C6","v":0},{"$f":"(BJ49/60)*'CTI INPUTS'!C6","v":0},null,{"$f":"(Q49*('CTI INPUTS'!D17))+(T49*('CTI INPUTS'!D18))+(AE49*('CTI INPUTS'!D12))+(AF49*('CTI INPUTS'!D13))+(AG49*('CTI INPUTS'!D14))","v":0},{"$f":"(N49*('CTI INPUTS'!D19))+(T49*('CTI INPUTS'!D18))+(AG49*('CTI INPUTS'!D14))","v":0},{"$f":"(Y49*'CTI INPUTS'!D15)+(N49*'CTI INPUTS'!D16)","v":0},{"$f":"(R49*('CTI INPUTS'!D17))+(U49*('CTI INPUTS'!D18))+(AH49*('CTI INPUTS'!D12))+(AI49*('CTI INPUTS'!D13))+(AJ49*('CTI INPUTS'!D14))","v":0},{"$f":"(O49*('CTI INPUTS'!D19))+(U49*('CTI INPUTS'!D18))+(AJ49*('CTI INPUTS'!D14))","v":0},{"$f":"(Z49*'CTI INPUTS'!D15)+(O49*'CTI INPUTS'!D16)","v":0},null,{"$f":"(AE49*('CTI INPUTS'!D12))","v":0},{"$f":"(AF49*('CTI INPUTS'!D13))","v":0},{"$f":"(AG49*('CTI INPUTS'!D14))","v":0},{"$f":"(AH49*('CTI INPUTS'!D12))","v":0},{"$f":"(AI49*('CTI INPUTS'!D13))","v":0},{"$f":"(AJ49*('CTI INPUTS'!D14))","v":0},null,{"$f":"AL49*'CTI INPUTS'!D42","v":0},{"$f":"AM49*'CTI INPUTS'!D43","v":0},{"$f":"AN49*'CTI INPUTS'!D44","v":0},{"$f":"AS49*'CTI INPUTS'!D45","v":0},{"$f":"AO49*'CTI INPUTS'!D42","v":0},{"$f":"AP49*'CTI INPUTS'!D43","v":0},{"$f":"AQ49*'CTI INPUTS'!D44","v":0},{"$f":"AT49*'CTI INPUTS'!D45","v":0}]
[null,null,"18in",{"$f":"ProjectData!E49","v":0},null,{"$f":"D50*24","v":0},null,0,{"$f":"D50*8","v":0},null,{"$f":"D50*'CTI INPUTS'!R20","v":0},{"$f":"D50*'CTI INPUTS'!T20","v":0},null,0,0,null,{"$f":"(22*N50)/12","v":0},{"$f":"(22*O50)/12","v":0},null,{"$f":"N50*'CTI INPUTS'!C48","v":0},{"$f":"O50*'CTI INPUTS'!C48","v":0},null,null,null,{"$f":"N50*'CTI INPUTS'!C51","v":0},{"$f":"O50*'CTI INPUTS'!C51","v":0},null,null,null,null,0,0,0,0,0,0,null,0,0,0,0,0,0,null,0,0,null,null,null,null,{"$f":"(F50/4)*'CTI INPUTS'!C33","v":0},{"$f":"(H50*'CTI INPUTS'!C34)+(I50*'CTI INPUTS'!C33)","v":0},null,{"$f":"D50*'CTI INPUTS'!R35","v":0},{"$f":"D50*'CTI INPUTS'!S35","v":0},null,{"$f":"N50*'CTI INPUTS'!C37","v":0},{"$f":"N50*'CTI INPUTS'!C38","v":0},{"$f":"N50*'CTI INPUTS'!C39","v":0},{"$f":"O50*'CTI INPUTS'!C37","v":0},{"$f":"O50*'CTI INPUTS'!C38","v":0},{"$f":"O50*'CTI INPUTS'!C39","v":0},null,{"$f":"(AY50*'CTI INPUTS'!C6)/60","v":0},{"$f":"(AZ50*'CTI INPUTS'!C6)/60","v":0},null,{"$f":"(BE50/60)*'CTI INPUTS'!C6","v":0},{"$f":"(BF50/60)*'CTI INPUTS'!C6","v":0},{"$f":"(BG50/60)*'CTI INPUTS'!C6","v":0},{"$f":"(BH50/60)*'CTI INPUTS'!C6","v":0},{"$f":"(BI50/60)*'CTI INPUTS'!C6","v":0},{"$f":"(BJ50/60)*'CTI INPUTS'!C6","v":0},null,{"$f":"(Q50*('CTI INPUTS'!D17))+(T50*('CTI INPUTS'!D18))+(AE50*('CTI INPUTS'!D12))+(AF50*('CTI INPUTS'!D13))+(AG50*('CTI INPUTS'!D14))","v":0},{"$f":"(N50*('CTI INPUTS'!D19))+(T50*('CTI INPUTS'!D18))+(AG50*('CTI INPUTS'!D14))","v":0},{"$f":"(Y50*'CTI INPUTS'!D15)+(N50*'CTI INPUTS'!D16)","v":0},{"$f":"(R50*('CTI INPUTS'!D17))+(U50*('CTI INPUTS'!D18))+(AH50*('CTI INPUTS'!D12))+(AI50*('CTI INPUTS'!D13))+(AJ50*('CTI INPUTS'!D14))","v":0},{"$f":"(O50*('CTI INPUTS'!D19))+(U50*('CTI INPUTS'!D18))+(AJ50*('CTI INPUTS'!D14))","v":0},{"$f":"(Z50*'CTI INPUTS'!D15)+(O50*'CTI INPUTS'!D16)","v":0},null,{"$f":"(AE50*('CTI INPUTS'!D12))","v":0},{"$f":"(AF50*('CTI INPUTS'!D13))","v":0},{"$f":"(AG50*('CTI INPUTS'!D14))","v":0},{"$f":"(AH50*('CTI INPUTS'!D12))","v":0},{"$f":"(AI50*('CTI INPUTS'!D13))","v":0},{"$f":"(AJ50*('CTI INPUTS'!D14))","v":0},null,{"$f":"AL50*'CTI INPUTS'!D42","v":0},{"$f":"AM50*'CTI INPUTS'!D43","v":0},{"$f":"AN50*'CTI INPUTS'!D44","v":0},{"$f":"AS50*'CTI INPUTS'!D45","v":0},{"$f":"AO50*'CTI INPUTS'!D42","v":0},{"$f":"AP50*'CTI INPUTS'!D43","v":0},{"$f":"AQ50*'CTI INPUTS'!D44","v":0},{"$f":"AT50*'CTI INPUTS'!D45","v":0}]
[null,null,"20in",{"$f":"ProjectData!E50","v":0},null,{"$f":"D51*28","v":0},null,0,{"$f":"D51*8","v":0},null,{"$f":"D51*'CTI INPUTS'!R21","v":0},{"$f":"D51*'CTI INPUTS'!T21","v":0},null,0,0,null,{"$f":"(24*N51)/12","v":0},{"$f":"(24*O51)/12","v":0},null,{"$f":"N51*'CTI INPUTS'!C48","v":0},{"$f":"O51*'CTI INPUTS'!C48","v":0},null,null,null,{"$f":"N51*'CTI INPUTS'!C51","v":0},{"$f":"O51*'CTI INPUTS'!C51","v":0},null,null,null,null,0,0,0,0,0,0,null,0,0,0,0,0,0,null,0,0,null,null,null,null,{"$f":"(F51/4)*'CTI INPUTS'!C33","v":0},{"$f":"(H51*'CTI INPUTS'!C34)+(I51*'CTI INPUTS'!C33)","v":0},null,{"$f":"D51*'CTI INPUTS'!R36","v":0},{"$f":"D51*'CTI INPUTS'!S36","v":0},null,{"$f":"N51*'CTI INPUTS'!C37","v":0},{"$f":"N51*'CTI INPUTS'!C38","v":0},{"$f":"N51*'CTI INPUTS'!C39","v":0},{"$f":"O51*'CTI INPUTS'!C37","v":0},{"$f":"O51*'CTI INPUTS'!C38","v":0},{"$f":"O51*'CTI INPUTS'!C39","v":0},null,{"$f":"(AY51*'CTI INPUTS'!C6)/60","v":0},{"$f":"(AZ51*'CTI INPUTS'!C6)/60","v":0},null,{"$f":"(BE51/60)*'CTI INPUTS'!C6","v":0},{"$f":"(BF51/60)*'CTI INPUTS'!C6","v":0},{"$f":"(BG51/60)*'CTI INPUTS'!C6","v":0},{"$f":"(BH51/60)*'CTI INPUTS'!C6","v":0},{"$f":"(BI51/60)*'CTI INPUTS'!C6","v":0},{"$f":"(BJ51/60)*'CTI INPUTS'!C6","v":0},null,{"$f":"(Q51*('CTI INPUTS'!D17))+(T51*('CTI INPUTS'!D18))+(AE51*('CTI INPUTS'!D12))+(AF51*('CTI INPUTS'!D13))+(AG51*('CTI INPUTS'!D14))","v":0},{"$f":"(N51*('CTI INPUTS'!D19))+(T51*('CTI INPUTS'!D18))+(AG51*('CTI INPUTS'!D14))","v":0},{"$f":"(Y51*'CTI INPUTS'!D15)+(N51*'CTI INPUTS'!D16)","v":0},{"$f":"(R51*('CTI INPUTS'!D17))+(U51*('CTI INPUTS'!D18))+(AH51*('CTI INPUTS'!D12))+(AI51*('CTI INPUTS'!D13))+(AJ51*('CTI INPUTS'!D14))","v":0},{"$f":"(O51*('CTI INPUTS'!D19))+(U51*('CTI INPUTS'!D18))+(AJ51*('CTI INPUTS'!D14))","v":0},{"$f":"(Z51*'CTI INPUTS'!D15)+(O51*'CTI INPUTS'!D16)","v":0},null,{"$f":"(AE51*('CTI INPUTS'!D12))","v":0},{"$f":"(AF51*('CTI INPUTS'!D13))","v":0},{"$f":"(AG51*('CTI INPUTS'!D14))","v":0},{"$f":"(AH51*('CTI INPUTS'!D12))","v":0},{"$f":"(AI51*('CTI INPUTS'!D13))","v":0},{"$f":"(AJ51*('CTI INPUTS'!D14))","v":0},null,{"$f":"AL51*'CTI INPUTS'!D42","v":0},{"$f":"AM51*'CTI INPUTS'!D43","v":0},{"$f":"AN51*'CTI INPUTS'!D44","v":0},{"$f":"AS51*'CTI INPUTS'!D45","v":0},{"$f":"AO51*'CTI INPUTS'!D42","v":0},{"$f":"AP51*'CTI INPUTS'!D43","v":0},{"$f":"AQ51*'CTI INPUTS'!D44","v":0},{"$f":"AT51*'CTI INPUTS'!D45","v":0}]
[null,null,"24in",{"$f":"ProjectData!E51","v":0},null,{"$f":"D52*28","v":0},null,0,{"$f":"D52*8","v":0},null,{"$f":"D52*'CTI INPUTS'!R22","v":0},{"$f":"D52*'CTI INPUTS'!T22","v":0},null,0,0,null,{"$f":"(28*N52)/12","v":0},{"$f":"(28*O52)/12","v":0},null,{"$f":"N52*'CTI INPUTS'!C48","v":0},{"$f":"O52*'CTI INPUTS'!C48","v":0},null,null,null,{"$f":"N52*'CTI INPUTS'!C51","v":0},{"$f":"O52*'CTI INPUTS'!C51","v":0},null,null,null,null,0,0,0,0,0,0,null,0,0,0,0,0,0,null,0,0,null,null,null,null,{"$f":"(F52/4)*'CTI INPUTS'!C33","v":0},{"$f":"(H52*'CTI INPUTS'!C34)+(I52*'CTI INPUTS'!C33)","v":0},null,{"$f":"D52*'CTI INPUTS'!R37","v":0},{"$f":"D52*'CTI INPUTS'!S37","v":0},null,{"$f":"N52*'CTI INPUTS'!C37","v":0},{"$f":"N52*'CTI INPUTS'!C38","v":0},{"$f":"N52*'CTI INPUTS'!C39","v":0},{"$f":"O52*'CTI INPUTS'!C37","v":0},{"$f":"O52*'CTI INPUTS'!C38","v":0},{"$f":"O52*'CTI INPUTS'!C39","v":0},null,{"$f":"(AY52*'CTI INPUTS'!C6)/60","v":0},{"$f":"(AZ52*'CTI INPUTS'!C6)/60","v":0},null,{"$f":"(BE52/60)*'CTI INPUTS'!C6","v":0},{"$f":"(BF52/60)*'CTI INPUTS'!C6","v":0},{"$f":"(BG52/60)*'CTI INPUTS'!C6","v":0},{"$f":"(BH52/60)*'CTI INPUTS'!C6","v":0},{"$f":"(BI52/60)*'CTI INPUTS'!C6","v":0},{"$f":"(BJ52/60)*'CTI INPUTS'!C6","v":0},null,{"$f":"(Q52*('CTI INPUTS'!D17))+(T52*('CTI INPUTS'!D18))+(AE52*('CTI INPUTS'!D12))+(AF52*('CTI INPUTS'!D13))+(AG52*('CTI INPUTS'!D14))","v":0},{"$f":"(N52*('CTI INPUTS'!D19))+(T52*('CTI INPUTS'!D18))+(AG52*('CTI INPUTS'!D14))","v":0},{"$f":"(Y52*'CTI INPUTS'!D15)+(N52*'CTI INPUTS'!D16)","v":0},{"$f":"(R52*('CTI INPUTS'!D17))+(U52*('CTI INPUTS'!D18))+(AH52*('CTI INPUTS'!D12))+(AI52*('CTI INPUTS'!D13))+(AJ52*('CTI INPUTS'!D14))","v":0},{"$f":"(O52*('CTI INPUTS'!D19))+(U52*('CTI INPUTS'!D18))+(AJ52*('CTI INPUTS'!D14))","v":0},{"$f":"(Z52*'CTI INPUTS'!D15)+(O52*'CTI INPUTS'!D16)","v":0},null,{"$f":"(AE52*('CTI INPUTS'!D12))","v":0},{"$f":"(AF52*('CTI INPUTS'!D13))","v":0},{"$f":"(AG52*('CTI INPUTS'!D14))","v":0},{"$f":"(AH52*('CTI INPUTS'!D12))","v":0},{"$f":"(AI52*('CTI INPUTS'!D13))","v":0},{"$f":"(AJ52*('CTI INPUTS'!D14))","v":0},null,{"$f":"AL52*'CTI INPUTS'!D42","v":0},{"$f":"AM52*'CTI INPUTS'!D43","v":0},{"$f":"AN52*'CTI INPUTS'!D44","v":0},{"$f":"AS52*'CTI INPUTS'!D45","v":0},{"$f":"AO52*'CTI INPUTS'!D42","v":0},{"$f":"AP52*'CTI INPUTS'!D43","v":0},{"$f":"AQ52*'CTI INPUTS'!D44","v":0},{"$f":"AT52*'CTI INPUTS'!D45","v":0}]
[null,null,"30in",{"$f":"ProjectData!E52","v":0},null,{"$f":"D53*32","v":0},null,0,{"$f":"D53*12","v":0},null,{"$f":"D53*'CTI INPUTS'!R23","v":0},{"$f":"D53*'CTI INPUTS'!T23","v":0},null,0,0,null,{"$f":"(34*N53)/12","v":0},{"$f":"(34*O53)/12","v":0},null,{"$f":"N53*'CTI INPUTS'!C48","v":0},{"$f":"O53*'CTI INPUTS'!C48","v":0},null,null,null,{"$f":"N53*'CTI INPUTS'!C51","v":0},{"$f":"O53*'CTI INPUTS'!C51","v":0},null,null,null,null,0,0,0,0,0,0,null,0,0,0,0,0,0,null,0,0,null,null,null,null,{"$f":"(F53/4)*'CTI INPUTS'!C33","v":0},{"$f":"(H53*'CTI INPUTS'!C34)+(I53*'CTI INPUTS'!C33)","v":0},null,{"$f":"D53*'CTI INPUTS'!R38","v":0},{"$f":"D53*'CTI INPUTS'!S38","v":0},null,{"$f":"N53*'CTI INPUTS'!C37","v":0},{"$f":"N53*'CTI INPUTS'!C38","v":0},{"$f":"N53*'CTI INPUTS'!C39","v":0},{"$f":"O53*'CTI INPUTS'!C37","v":0},{"$f":"O53*'CTI INPUTS'!C38","v":0},{"$f":"O53*'CTI INPUTS'!C39","v":0},null,{"$f":"(AY53*'CTI INPUTS'!C6)/60","v":0},{"$f":"(AZ53*'CTI INPUTS'!C6)/60","v":0},null,{"$f":"(BE53/60)*'CTI INPUTS'!C6","v":0},{"$f":"(BF53/60)*'CTI INPUTS'!C6","v":0},{"$f":"(BG53/60)*'CTI INPUTS'!C6","v":0},{"$f":"(BH53/60)*'CTI INPUTS'!C6","v":0},{"$f":"(BI53/60)*'CTI INPUTS'!C6","v":0},{"$f":"(BJ53/60)*'CTI INPUTS'!C6","v":0},null,{"$f":"(Q53*('CTI INPUTS'!D17))+(T53*('CTI INPUTS'!D18))+(AE53*('CTI INPUTS'!D12))+(AF53*('CTI INPUTS'!D13))+(AG53*('CTI INPUTS'!D14))","v":0},{"$f":"(N53*('CTI INPUTS'!D19))+(T53*('CTI INPUTS'!D18))+(AG53*('CTI INPUTS'!D14))","v":0},{"$f":"(Y53*'CTI INPUTS'!D15)+(N53*'CTI INPUTS'!D16)","v":0},{"$f":"(R53*('CTI INPUTS'!D17))+(U53*('CTI INPUTS'!D18))+(AH53*('CTI INPUTS'!D12))+(AI53*('CTI INPUTS'!D13))+(AJ53*('CTI INPUTS'!D14))","v":0},{"$f":"(O53*('CTI INPUTS'!D19))+(U53*('CTI INPUTS'!D18))+(AJ53*('CTI INPUTS'!D14))","v":0},{"$f":"(Z53*'CTI INPUTS'!D15)+(O53*'CTI INPUTS'!D16)","v":0},null,{"$f":"(AE53*('CTI INPUTS'!D12))","v":0},{"$f":"(AF53*('CTI INPUTS'!D13))","v":0},{"$f":"(AG53*('CTI INPUTS'!D14))","v":0},{"$f":"(AH53*('CTI INPUTS'!D12))","v":0},{"$f":"(AI53*('CTI INPUTS'!D13))","v":0},{"$f":"(AJ53*('CTI INPUTS'!D14))","v":0},null,{"$f":"AL53*'CTI INPUTS'!D42","v":0},{"$f":"AM53*'CTI INPUTS'!D43","v":0},{"$f":"AN53*'CTI INPUTS'!D44","v":0},{"$f":"AS53*'CTI INPUTS'!D45","v":0},{"$f":"AO53*'CTI INPUTS'!D42","v":0},{"$f":"AP53*'CTI INPUTS'!D43","v":0},{"$f":"AQ53*'CTI INPUTS'!D44","v":0},{"$f":"AT53*'CTI INPUTS'!D45","v":0}]
[null,null,"36in",{"$f":"ProjectData!E53","v":0},null,{"$f":"D54*32","v":0},null,{"$f":"D54*2","v":0},{"$f":"D54*12","v":0},null,{"$f":"D54*'CTI INPUTS'!R24","v":0},{"$f":"D54*'CTI INPUTS'!T24","v":0},null,0,0,null,{"$f":"(40*N54)/12","v":0},{"$f":"(40*O54)/12","v":0},null,{"$f":"N54*'CTI INPUTS'!C48","v":0},{"$f":"O54*'CTI INPUTS'!C48","v":0},null,null,null,{"$f":"N54*'CTI INPUTS'!C51","v":0},{"$f":"O54*'CTI INPUTS'!C51","v":0},null,null,null,null,0,0,0,0,0,0,null,0,0,0,0,0,0,null,0,0,null,null,null,null,{"$f":"(F54/4)*'CTI INPUTS'!C33","v":0},{"$f":"(H54*'CTI INPUTS'!C34)+(I54*'CTI INPUTS'!C33)","v":0},null,{"$f":"D54*'CTI INPUTS'!R39","v":0},{"$f":"D54*'CTI INPUTS'!S39","v":0},null,{"$f":"N54*'CTI INPUTS'!C37","v":0},{"$f":"N54*'CTI INPUTS'!C38","v":0},{"$f":"N54*'CTI INPUTS'!C39","v":0},{"$f":"O54*'CTI INPUTS'!C37","v":0},{"$f":"O54*'CTI INPUTS'!C38","v":0},{"$f":"O54*'CTI INPUTS'!C39","v":0},null,{"$f":"(AY54*'CTI INPUTS'!C6)/60","v":0},{"$f":"(AZ54*'CTI INPUTS'!C6)/60","v":0},null,{"$f":"(BE54/60)*'CTI INPUTS'!C6","v":0},{"$f":"(BF54/60)*'CTI INPUTS'!C6","v":0},{"$f":"(BG54/60)*'CTI INPUTS'!C6","v":0},{"$f":"(BH54/60)*'CTI INPUTS'!C6","v":0},{"$f":"(BI54/60)*'CTI INPUTS'!C6","v":0},{"$f":"(BJ54/60)*'CTI INPUTS'!C6","v":0},null,{"$f":"(Q54*('CTI INPUTS'!D17))+(T54*('CTI INPUTS'!D18))+(AE54*('CTI INPUTS'!D12))+(AF54*('CTI INPUTS'!D13))+(AG54*('CTI INPUTS'!D14))","v":0},{"$f":"(N54*('CTI INPUTS'!D19))+(T54*('CTI INPUTS'!D18))+(AG54*('CTI INPUTS'!D14))","v":0},{"$f":"(Y54*'CTI INPUTS'!D15)+(N54*'CTI INPUTS'!D16)","v":0},{"$f":"(R54*('CTI INPUTS'!D17))+(U54*('CTI INPUTS'!D18))+(AH54*('CTI INPUTS'!D12))+(AI54*('CTI INPUTS'!D13))+(AJ54*('CTI INPUTS'!D14))","v":0},{"$f":"(O54*('CTI INPUTS'!D19))+(U54*('CTI INPUTS'!D18))+(AJ54*('CTI INPUTS'!D14))","v":0},{"$f":"(Z54*'CTI INPUTS'!D15)+(O54*'CTI INPUTS'!D16)","v":0},null,{"$f":"(AE54*('CTI INPUTS'!D12))","v":0},{"$f":"(AF54*('CTI INPUTS'!D13))","v":0},{"$f":"(AG54*('CTI INPUTS'!D14))","v":0},{"$f":"(AH54*('CTI INPUTS'!D12))","v":0},{"$f":"(AI54*('CTI INPUTS'!D13))","v":0},{"$f":"(AJ54*('CTI INPUTS'!D14))","v":0},null,{"$f":"AL54*'CTI INPUTS'!D42","v":0},{"$f":"AM54*'CTI INPUTS'!D43","v":0},{"$f":"AN54*'CTI INPUTS'!D44","v":0},{"$f":"AS54*'CTI INPUTS'!D45","v":0},{"$f":"AO54*'CTI INPUTS'!D42","v":0},{"$f":"AP54*'CTI INPUTS'!D43","v":0},{"$f":"AQ54*'CTI INPUTS'!D44","v":0},{"$f":"AT54*'CTI INPUTS'!D45","v":0}]
[null,null,null,null,null,{"$f":"SUM(F43:F54)","v":120},null,{"$f":"SUM((H43:H54)+(I43:I54))","v":30},null,null,{"$f":"SUM(K43:K54)","v":480},{"$f":"SUM(L43:L54)","v":120},null,{"$f":"SUM(N43:N54)","v":15},{"$f":"SUM(O43:O54)","v":5},null,{"$f":"SUM(Q43:Q54)","v":20},{"$f":"SUM(R43:R54)","v":6.666666666666667},null,{"$f":"SUM(T43:T54)","v":60},{"$f":"SUM(U43:U54)","v":20},null,null,null,{"$f":"SUM(Y43:Y54)","v":90},{"$f":"SUM(Z43:Z54)","v":30},null,null,null,null,{"$f":"SUM((AE43:AE54)+(AF43:AF54)+(AG43:AG54))","v":180},null,null,{"$f":"SUM((AH43:AH54)+(AI43:AI54)+(AJ43:AJ54))","v":60},null,null,null,{"$f":"SUM((AL43:AL54)+(AM43:AM54)+(AN43:AN54))","v":90},null,null,{"$f":"SUM((AO43:AO54)+(AP43:AP54)+(AQ43:AQ54))","v":30},null,null,null,{"$f":"SUM(AS43:AS54)","v":30},{"$f":"SUM(AT43:AT54)","v":10},null,null,null,null,{"$f":"SUM(AY43:AY54)","v":15},{"$f":"SUM(AZ43:AZ54)","v":12},null,{"$f":"SUM(BB43:BB54)","v":24},{"$f":"SUM(BC43:BC54)","v":15},null,{"$f":"SUM(BE43:BE54)","v":60},45,30,20,15,10,null,{"$f":"SUM(BL43:BL54)","v":25},{"$f":"SUM(BM43:BM54)","v":20},null,{"$f":"SUM(BO43:BO54)","v":100},75,50,33.333333333333329,25,16.666666666666664,null,{"$f":"SUM(BV43:BV54)","v":276},191.85000000000002,150,92,63.95,50,null,{"$f":"SUM((CC43:CC54)+(CD43:CD54)+(CE43:CE54))","v":84},null,null,{"$f":"SUM((CF43:CF54)+(CG43:CG54)+(CH43:CH54))","v":28},null,null,null,{"$f":"SUM((CJ43:CJ54)+(CK43:CK54)+(CL43:CL54))","v":108.3},null,null,{"$f":"SUM(CM43:CM54)","v":82.5},{"$f":"SUM((CN43:CN54)+(CO43:CO54)+(CP43:CP54))","v":36.099999999999994},null,null,{"$f":"SUM(CQ43:CQ54)","v":27.5},null,{"$f":"SUM(CS43:CS54)","v":0},{"$f":"SUM(CT43:CT54)","v":0},{"$f":"SUM(CU43:CU54)","v":0}]
[]
[null,"VERTICAL BEND",null,null,null,"SPLICE",null,"POSI-LOK",null,null,"FITTING FABRICATION",null,null,"SUPPORT QUANTITY",null,null,"STRUT L/FT",null,null,"ATR HANGER (L/FT)",null,null,null,null,"WIRE HANGER (L/FT)",null,null,null,null,null,"VE2 : ATR HARDWARE QUANTITY",null,null,"TSS : ATR HARDWARE QUANTITY",null,null,null,"HOLD DOWN & HDWR QUANTITY",null,null,"TSS: HOLD DOWN & HDWR QUANTITY",null,null,null,"H-DOWN CLIP QUANTITY",null,null,null,null,null,"SPLICE INSTALLATION TIME (MIN)",null,null,"FITTING FAB. TIME (MIN)",null,null,"VE2 : SUPPORT INSTAL TIME (MIN)",null,null,"TSS: SUPPORT INSTALLATION TIME (MIN)",null,null,null,"SPLICE INSTALLATION COST ($)",null,null,"SUPPORT INSTALLATION COST ($)",null,null,"TSS: SUPPORT INSTALLATION COST ($)",null,null,null,"SUPPORT COST ($)",null,null,"TSS: SUPPORT COST ($)",null,null,null,"ATR HARDWARE COST $",null,null,"TSS: ATR HARDWARE COST $",null,null,null,"HOLD DOWN CLAMPS & HARDWARE COST ($)",null,null,null,"TSS: HOLD DOWN CLAMPS & HARDWARE COST ($)",null,null,null,null,"SUPPORT WEIGHT (LBS)"]
[]
[null,"HEIGHT","WIDTH","QUANTITY",null,"WSKIT",null,"PLOK","WSKIT",null,"CUTS  QTY","WSKIT (pcs)",null,"FAB (VE2)","C2G (TSS)",null,"FAB (VE2)","C2G (TSS)",null,"FAB (VE2)","C2G (TSS)",null,null,null,"FAB (VE2)","C2G (TSS)",null,null,null,null,"SQ WSHR","FLT WSHR","HEX NUT","SQ WSHR","FLT WSHR","HEX NUT",null,"FLXW","25HX","25NC","FLXW","25HX","25NC",null,"VE2 : SRC (pc)","TSS : SRC (pc)",null,null,null,null,"WSKIT","POSI-LOK + WSKIT",null,"CUTS ","WSKIT",null,"STRUT","URH","WIRE","STRUT","URH","WIRE",null,"WSKIT","POSI-LOK + WSKIT",null,"VE2 : STRUT","VE2 : URH","VE2 : WIRE","TSS : STRUT","TSS : URH","TSS : WIRE",null,"STRUT","URH","WIRE","STRUT","URH","WIRE",null,"SQUARE WSHR","FLAT WSHR","HEX NUT","SQUARE WSHR","FLAT WSHR","HEX NUT",null,"FLXW","25HX","25NC","SRC CLIP","FLXW","25HX","25NC","SRC CLIP",null,"STRUT","URH","WIRE"]
[null,"2/4/6in","2in",{"$f":"ProjectData!G42","v":0},null,{"$f":"D60*8","v":0},null,{"$f":"D60*2","v":0},{"$f":"D60*0","v":0},null,{"$f":"D60*'CTI INPUTS'!W13","v":0},{"$f":"D60*'CTI INPUTS'!Y13","v":0},null,{"$f":"D60*3","v":0},{"$f":"D60*2","v":0},null,{"$f":"(6*N60)/12","v":0},{"$f":"(6*O60)/12","v":0},null,{"$f":"N60*'CTI INPUTS'!C48","v":0},{"$f":"O60*'CTI INPUTS'!C48","v":0},null,null,null,{"$f":"N60*'CTI INPUTS'!C51","v":0},{"$f":"O60*'CTI INPUTS'!C51","v":0},null,null,null,null,{"$f":"N60*4","v":0},{"$f":"N60*4","v":0},{"$f":"N60*4","v":0},{"$f":"O60*4","v":0},{"$f":"O60*4","v":0},{"$f":"O60*4","v":0},null,{"$f":"N60*2","v":0},{"$f":"N60*2","v":0},{"$f":"N60*2","v":0},{"$f":"O60*2","v":0},{"$f":"O60*2","v":0},{"$f":"O60*2","v":0},null,{"$f":"N60*1","v":0},{"$f":"O60*1","v":0},null,null,null,null,{"$f":"(F60/4)*'CTI INPUTS'!C33","v":0},{"$f":"(H60*'CTI INPUTS'!C34)+(I60*'CTI INPUTS'!C33)","v":0},null,{"$f":"D60*'CTI INPUTS'!W28","v":0},{"$f":"D60*'CTI INPUTS'!X28","v":0},null,{"$f":"N60*'CTI INPUTS'!C37","v":0},{"$f":"N60*'CTI INPUTS'!C38","v":0},{"$f":"N60*'CTI INPUTS'!C39","v":0},{"$f":"O60*'CTI INPUTS'!C37","v":0},{"$f":"O60*'CTI INPUTS'!C38","v":0},{"$f":"O60*'CTI INPUTS'!C39","v":0},null,{"$f":"(AY60*'CTI INPUTS'!C6)/60","v":0},{"$f":"(AZ60*'CTI INPUTS'!C6)/60","v":0},null,{"$f":"(BE60/60)*'CTI INPUTS'!C6","v":0},{"$f":"(BF60/60)*'CTI INPUTS'!C6","v":0},{"$f":"(BG60/60)*'CTI INPUTS'!C6","v":0},{"$f":"(BH60/60)*'CTI INPUTS'!C6","v":0},{"$f":"(BI60/60)*'CTI INPUTS'!C6","v":0},{"$f":"(BJ60/60)*'CTI INPUTS'!C6","v":0},null,{"$f":"(Q60*('CTI INPUTS'!D17))+(T60*('CTI INPUTS'!D18))+(AE60*('CTI INPUTS'!D12))+(AF60*('CTI INPUTS'!D13))+(AG60*('CTI INPUTS'!D14))","v":0},{"$f":"(N60*('CTI INPUTS'!D19))+(T60*('CTI INPUTS'!D18))+(AG60*('CTI INPUTS'!D14))","v":0},{"$f":"(Y60*'CTI INPUTS'!D15)+(N60*'CTI INPUTS'!D16)","v":0},{"$f":"(R60*('CTI INPUTS'!D17))+(U60*('CTI INPUTS'!D18))+(AH60*('CTI INPUTS'!D12))+(AI60*('CTI INPUTS'!D13))+(AJ60*('CTI INPUTS'!D14))","v":0},{"$f":"(O60*('CTI INPUTS'!D19))+(U60*('CTI INPUTS'!D18))+(AJ60*('CTI INPUTS'!D14))","v":0},{"$f":"(Z60*'CTI INPUTS'!D15)+(O60*'CTI INPUTS'!D16)","v":0},null,{"$f":"(AE60*('CTI INPUTS'!D12))","v":0},{"$f":"(AF60*('CTI INPUTS'!D13))","v":0},{"$f":"(AG60*('CTI INPUTS'!D14))","v":0},{"$f":"(AH60*('CTI INPUTS'!D12))","v":0},{"$f":"(AI60*('CTI INPUTS'!D13))","v":0},{"$f":"(AJ60*('CTI INPUTS'!D14))","v":0},null,{"$f":"AL60*'CTI INPUTS'!D42","v":0},{"$f":"AM60*'CTI INPUTS'!D43","v":0},{"$f":"AN60*'CTI INPUTS'!D44","v":0},{"$f":"AS60*'CTI INPUTS'!D45","v":0},{"$f":"AO60*'CTI INPUTS'!D42","v":0},{"$f":"AP60*'CTI INPUTS'!D43","v":0},{"$f":"AQ60*'CTI INPUTS'!D44","v":0},{"$f":"AT60*'CTI INPUTS'!D45","v":0}]
[null,null,"4in",{"$f":"ProjectData!G43","v":0},null,{"$f":"D61*16","v":0},null,{"$f":"D61*2","v":0},{"$f":"D61*0","v":0},null,{"$f":"D61*'CTI INPUTS'!W14","v":0},{"$f":"D61*'CTI INPUTS'!Y14","v":0},null,{"$f":"D61*3","v":0},0,null,{"$f":"(8*N61)/12","v":0},{"$f":"(8*O61)/12","v":0},null,{"$f":"N61*'CTI INPUTS'!C48","v":0},{"$f":"O61*'CTI INPUTS'!C48","v":0},null,null,null,{"$f":"N61*'CTI INPUTS'!C51","v":0},{"$f":"O61*'CTI INPUTS'!C51","v":0},null,null,null,null,{"$f":"N61*4","v":0},{"$f":"N61*4","v":0},{"$f":"N61*4","v":0},{"$f":"O61*4","v":0},{"$f":"O61*4","v":0},{"$f":"O61*4","v":0},null,{"$f":"N61*2","v":0},{"$f":"N61*2","v":0},{"$f":"N61*2","v":0},{"$f":"O61*2","v":0},{"$f":"O61*2","v":0},{"$f":"O61*2","v":0},null,{"$f":"N61*2","v":0},{"$f":"O61*2","v":0},null,null,null,null,{"$f":"(F61/4)*'CTI INPUTS'!C33","v":0},{"$f":"(H61*'CTI INPUTS'!C34)+(I61*'CTI INPUTS'!C33)","v":0},null,{"$f":"D61*'CTI INPUTS'!W29","v":0},{"$f":"D61*'CTI INPUTS'!X29","v":0},null,{"$f":"N61*'CTI INPUTS'!C37","v":0},{"$f":"N61*'CTI INPUTS'!C38","v":0},{"$f":"N61*'CTI INPUTS'!C39","v":0},{"$f":"O61*'CTI INPUTS'!C37","v":0},{"$f":"O61*'CTI INPUTS'!C38","v":0},{"$f":"O61*'CTI INPUTS'!C39","v":0},null,{"$f":"(AY61*'CTI INPUTS'!C6)/60","v":0},{"$f":"(AZ61*'CTI INPUTS'!C6)/60","v":0},null,{"$f":"(BE61/60)*'CTI INPUTS'!C6","v":0},{"$f":"(BF61/60)*'CTI INPUTS'!C6","v":0},{"$f":"(BG61/60)*'CTI INPUTS'!C6","v":0},{"$f":"(BH61/60)*'CTI INPUTS'!C6","v":0},{"$f":"(BI61/60)*'CTI INPUTS'!C6","v":0},{"$f":"(BJ61/60)*'CTI INPUTS'!C6","v":0},null,{"$f":"(Q61*('CTI INPUTS'!D17))+(T61*('CTI INPUTS'!D18))+(AE61*('CTI INPUTS'!D12))+(AF61*('CTI INPUTS'!D13))+(AG61*('CTI INPUTS'!D14))","v":0},{"$f":"(N61*('CTI INPUTS'!D19))+(T61*('CTI INPUTS'!D18))+(AG61*('CTI INPUTS'!D14))","v":0},{"$f":"(Y61*'CTI INPUTS'!D15)+(N61*'CTI INPUTS'!D16)","v":0},{"$f":"(R61*('CTI INPUTS'!D17))+(U61*('CTI INPUTS'!D18))+(AH61*('CTI INPUTS'!D12))+(AI61*('CTI INPUTS'!D13))+(AJ61*('CTI INPUTS'!D14))","v":0},{"$f":"(O61*('CTI INPUTS'!D19))+(U61*('CTI INPUTS'!D18))+(AJ61*('CTI INPUTS'!D14))","v":0},{"$f":"(Z61*'CTI INPUTS'!D15)+(O61*'CTI INPUTS'!D16)","v":0},null,{"$f":"(AE61*('CTI INPUTS'!D12))","v":0},{"$f":"(AF61*('CTI INPUTS'!D13))","v":0},{"$f":"(AG61*('CTI INPUTS'!D14))","v":0},{"$f":"(AH61*('CTI INPUTS'!D12))","v":0},{"$f":"(AI61*('CTI INPUTS'!D13))","v":0},{"$f":"(AJ61*('CTI INPUTS'!D14))","v":0},null,{"$f":"AL61*'CTI INPUTS'!D42","v":0},{"$f":"AM61*'CTI INPUTS'!D43","v":0},{"$f":"AN61*'CTI INPUTS'!D44","v":0},{"$f":"AS61*'CTI INPUTS'!D45","v":0},{"$f":"AO61*'CTI INPUTS'!D42","v":0},{"$f":"AP61*'CTI INPUTS'!D43","v":0},{"$f":"AQ61*'CTI INPUTS'!D44","v":0},{"$f":"AT61*'CTI INPUTS'!D45","v":0}]
[null,null,"6in",{"$f":"ProjectData!G44","v":0},null,{"$f":"D62*16","v":0},null,0,{"$f":"D62*0","v":0},null,{"$f":"D62*'CTI INPUTS'!W15","v":0},{"$f":"D62*'CTI INPUTS'!Y15","v":0},null,0,0,null,{"$f":"(10*N62)/12","v":0},{"$f":"(10*O62)/12","v":0},null,{"$f":"N62*'CTI INPUTS'!C48","v":0},{"$f":"O62*'CTI INPUTS'!C48","v":0},null,null,null,{"$f":"N62*'CTI INPUTS'!C51","v":0},{"$f":"O62*'CTI INPUTS'!C51","v":0},null,null,null,null,0,0,0,0,0,0,null,0,0,0,0,0,0,null,{"$f":"N62*2","v":0},{"$f":"O62*2","v":0},null,null,null,null,{"$f":"(F62/4)*'CTI INPUTS'!C33","v":0},{"$f":"(H62*'CTI INPUTS'!C34)+(I62*'CTI INPUTS'!C33)","v":0},null,{"$f":"D62*'CTI INPUTS'!W30","v":0},{"$f":"D62*'CTI INPUTS'!X30","v":0},null,{"$f":"N62*'CTI INPUTS'!C37","v":0},{"$f":"N62*'CTI INPUTS'!C38","v":0},{"$f":"N62*'CTI INPUTS'!C39","v":0},{"$f":"O62*'CTI INPUTS'!C37","v":0},{"$f":"O62*'CTI INPUTS'!C38","v":0},{"$f":"O62*'CTI INPUTS'!C39","v":0},null,{"$f":"(AY62*'CTI INPUTS'!C6)/60","v":0},{"$f":"(AZ62*'CTI INPUTS'!C6)/60","v":0},null,{"$f":"(BE62/60)*'CTI INPUTS'!C6","v":0},{"$f":"(BF62/60)*'CTI INPUTS'!C6","v":0},{"$f":"(BG62/60)*'CTI INPUTS'!C6","v":0},{"$f":"(BH62/60)*'CTI INPUTS'!C6","v":0},{"$f":"(BI62/60)*'CTI INPUTS'!C6","v":0},{"$f":"(BJ62/60)*'CTI INPUTS'!C6","v":0},null,{"$f":"(Q62*('CTI INPUTS'!D17))+(T62*('CTI INPUTS'!D18))+(AE62*('CTI INPUTS'!D12))+(AF62*('CTI INPUTS'!D13))+(AG62*('CTI INPUTS'!D14))","v":0},{"$f":"(N62*('CTI INPUTS'!D19))+(T62*('CTI INPUTS'!D18))+(AG62*('CTI INPUTS'!D14))","v":0},{"$f":"(Y62*'CTI INPUTS'!D15)+(N62*'CTI INPUTS'!D16)","v":0},{"$f":"(R62*('CTI INPUTS'!D17))+(U62*('CTI INPUTS'!D18))+(AH62*('CTI INPUTS'!D12))+(AI62*('CTI INPUTS'!D13))+(AJ62*('CTI INPUTS'!D14))","v":0},{"$f":"(O62*('CTI INPUTS'!D19))+(U62*('CTI INPUTS'!D18))+(AJ62*('CTI INPUTS'!D14))","v":0},{"$f":"(Z62*'CTI INPUTS'!D15)+(O62*'CTI INPUTS'!D16)","v":0},null,{"$f":"(AE62*('CTI INPUTS'!D12))","v":0},{"$f":"(AF62*('CTI INPUTS'!D13))","v":0},{"$f":"(AG62*('CTI INPUTS'!D14))","v":0},{"$f":"(AH62*('CTI INPUTS'!D12))","v":0},{"$f":"(AI62*('CTI INPUTS'!D13))","v":0},{"$f":"(AJ62*('CTI INPUTS'!D14))","v":0},null,{"$f":"AL62*'CTI INPUTS'!D42","v":0},{"$f":"AM62*'CTI INPUTS'!D43","v":0},{"$f":"AN62*'CTI INPUTS'!D44","v":0},{"$f":"AS62*'CTI INPUTS'!D45","v":0},{"$f":"AO62*'CTI INPUTS'!D42","v":0},{"$f":"AP62*'CTI INPUTS'!D43","v":0},{"$f":"AQ62*'CTI INPUTS'!D44","v":0},{"$f":"AT62*'CTI INPUTS'!D45","v":0}]
[null,null,"8in",{"$f":"ProjectData!G45","v":0},null,{"$f":"D63*20","v":0},null,0,{"$f":"D63*4","v":0},null,{"$f":"D63*'CTI INPUTS'!W16","v":0},{"$f":"D63*'CTI INPUTS'!Y16","v":0},null,0,0,null,{"$f":"(12*N63)/12","v":0},{"$f":"(12*O63)/12","v":0},null,{"$f":"N63*'CTI INPUTS'!C48","v":0},{"$f":"O63*'CTI INPUTS'!C48","v":0},null,null,null,{"$f":"N63*'CTI INPUTS'!C51","v":0},{"$f":"O63*'CTI INPUTS'!C51","v":0},null,null,null,null,0,0,0,0,0,0,null,0,0,0,0,0,0,null,0,0,null,null,null,null,{"$f":"(F63/4)*'CTI INPUTS'!C33","v":0},{"$f":"(H63*'CTI INPUTS'!C34)+(I63*'CTI INPUTS'!C33)","v":0},null,{"$f":"D63*'CTI INPUTS'!W31","v":0},{"$f":"D63*'CTI INPUTS'!X31","v":0},null,{"$f":"N63*'CTI INPUTS'!C37","v":0},{"$f":"N63*'CTI INPUTS'!C38","v":0},{"$f":"N63*'CTI INPUTS'!C39","v":0},{"$f":"O63*'CTI INPUTS'!C37","v":0},{"$f":"O63*'CTI INPUTS'!C38","v":0},{"$f":"O63*'CTI INPUTS'!C39","v":0},null,{"$f":"(AY63*'CTI INPUTS'!C6)/60","v":0},{"$f":"(AZ63*'CTI INPUTS'!C6)/60","v":0},null,{"$f":"(BE63/60)*'CTI INPUTS'!C6","v":0},{"$f":"(BF63/60)*'CTI INPUTS'!C6","v":0},{"$f":"(BG63/60)*'CTI INPUTS'!C6","v":0},{"$f":"(BH63/60)*'CTI INPUTS'!C6","v":0},{"$f":"(BI63/60)*'CTI INPUTS'!C6","v":0},{"$f":"(BJ63/60)*'CTI INPUTS'!C6","v":0},null,{"$f":"(Q63*('CTI INPUTS'!D17))+(T63*('CTI INPUTS'!D18))+(AE63*('CTI INPUTS'!D12))+(AF63*('CTI INPUTS'!D13))+(AG63*('CTI INPUTS'!D14))","v":0},{"$f":"(N63*('CTI INPUTS'!D19))+(T63*('CTI INPUTS'!D18))+(AG63*('CTI INPUTS'!D14))","v":0},{"$f":"(Y63*'CTI INPUTS'!D15)+(N63*'CTI INPUTS'!D16)","v":0},{"$f":"(R63*('CTI INPUTS'!D17))+(U63*('CTI INPUTS'!D18))+(AH63*('CTI INPUTS'!D12))+(AI63*('CTI INPUTS'!D13))+(AJ63*('CTI INPUTS'!D14))","v":0},{"$f":"(O63*('CTI INPUTS'!D19))+(U63*('CTI INPUTS'!D18))+(AJ63*('CTI INPUTS'!D14))","v":0},{"$f":"(Z63*'CTI INPUTS'!D15)+(O63*'CTI INPUTS'!D16)","v":0},null,{"$f":"(AE63*('CTI INPUTS'!D12))","v":0},{"$f":"(AF63*('CTI INPUTS'!D13))","v":0},{"$f":"(AG63*('CTI INPUTS'!D14))","v":0},{"$f":"(AH63*('CTI INPUTS'!D12))","v":0},{"$f":"(AI63*('CTI INPUTS'!D13))","v":0},{"$f":"(AJ63*('CTI INPUTS'!D14))","v":0},null,{"$f":"AL63*'CTI INPUTS'!D42","v":0},{"$f":"AM63*'CTI INPUTS'!D43","v":0},{"$f":"AN63*'CTI INPUTS'!D44","v":0},{"$f":"AS63*'CTI INPUTS'!D45","v":0},{"$f":"AO63*'CTI INPUTS'!D42","v":0},{"$f":"AP63*'CTI INPUTS'!D43","v":0},{"$f":"AQ63*'CTI INPUTS'!D44","v":0},{"$f":"AT63*'CTI INPUTS'!D45","v":0}]
[null,null,"10in",{"$f":"ProjectData!G46","v":0},null,{"$f":"D64*20","v":0},null,0,{"$f":"D64*4","v":0},null,{"$f":"D64*'CTI INPUTS'!W17","v":0},{"$f":"D64*'CTI INPUTS'!Y17","v":0},null,0,0,null,{"$f":"(14*N64)/12","v":0},{"$f":"(14*O64)/12","v":0},null,{"$f":"N64*'CTI INPUTS'!C48","v":0},{"$f":"O64*'CTI INPUTS'!C48","v":0},null,null,null,{"$f":"N64*'CTI INPUTS'!C51","v":0},{"$f":"O64*'CTI INPUTS'!C51","v":0},null,null,null,null,0,0,0,0,0,0,null,0,0,0,0,0,0,null,0,0,null,null,null,null,{"$f":"(F64/4)*'CTI INPUTS'!C33","v":0},{"$f":"(H64*'CTI INPUTS'!C34)+(I64*'CTI INPUTS'!C33)","v":0},null,{"$f":"D64*'CTI INPUTS'!W32","v":0},{"$f":"D64*'CTI INPUTS'!X32","v":0},null,{"$f":"N64*'CTI INPUTS'!C37","v":0},{"$f":"N64*'CTI INPUTS'!C38","v":0},{"$f":"N64*'CTI INPUTS'!C39","v":0},{"$f":"O64*'CTI INPUTS'!C37","v":0},{"$f":"O64*'CTI INPUTS'!C38","v":0},{"$f":"O64*'CTI INPUTS'!C39","v":0},null,{"$f":"(AY64*'CTI INPUTS'!C6)/60","v":0},{"$f":"(AZ64*'CTI INPUTS'!C6)/60","v":0},null,{"$f":"(BE64/60)*'CTI INPUTS'!C6","v":0},{"$f":"(BF64/60)*'CTI INPUTS'!C6","v":0},{"$f":"(BG64/60)*'CTI INPUTS'!C6","v":0},{"$f":"(BH64/60)*'CTI INPUTS'!C6","v":0},{"$f":"(BI64/60)*'CTI INPUTS'!C6","v":0},{"$f":"(BJ64/60)*'CTI INPUTS'!C6","v":0},null,{"$f":"(Q64*('CTI INPUTS'!D17))+(T64*('CTI INPUTS'!D18))+(AE64*('CTI INPUTS'!D12))+(AF64*('CTI INPUTS'!D13))+(AG64*('CTI INPUTS'!D14))","v":0},{"$f":"(N64*('CTI INPUTS'!D19))+(T64*('CTI INPUTS'!D18))+(AG64*('CTI INPUTS'!D14))","v":0},{"$f":"(Y64*'CTI INPUTS'!D15)+(N64*'CTI INPUTS'!D16)","v":0},{"$f":"(R64*('CTI INPUTS'!D17))+(U64*('CTI INPUTS'!D18))+(AH64*('CTI INPUTS'!D12))+(AI64*('CTI INPUTS'!D13))+(AJ64*('CTI INPUTS'!D14))","v":0},{"$f":"(O64*('CTI INPUTS'!D19))+(U64*('CTI INPUTS'!D18))+(AJ64*('CTI INPUTS'!D14))","v":0},{"$f":"(Z64*'CTI INPUTS'!D15)+(O64*'CTI INPUTS'!D16)","v":0},null,{"$f":"(AE64*('CTI INPUTS'!D12))","v":0},{"$f":"(AF64*('CTI INPUTS'!D13))","v":0},{"$f":"(AG64*('CTI INPUTS'!D14))","v":0},{"$f":"(AH64*('CTI INPUTS'!D12))","v":0},{"$f":"(AI64*('CTI INPUTS'!D13))","v":0},{"$f":"(AJ64*('CTI INPUTS'!D14))","v":0},null,{"$f":"AL64*'CTI INPUTS'!D42","v":0},{"$f":"AM64*'CTI INPUTS'!D43","v":0},{"$f":"AN64*'CTI INPUTS'!D44","v":0},{"$f":"AS64*'CTI INPUTS'!D45","v":0},{"$f":"AO64*'CTI INPUTS'!D42","v":0},{"$f":"AP64*'CTI INPUTS'!D43","v":0},{"$f":"AQ64*'CTI INPUTS'!D44","v":0},{"$f":"AT64*'CTI INPUTS'!D45","v":0}]
[null,null,"12in",{"$f":"ProjectData!G47","v":12},null,{"$f":"D65*24","v":288},null,24,{"$f":"D65*4","v":48},null,{"$f":"D65*'CTI INPUTS'!W18","v":432},{"$f":"D65*'CTI INPUTS'!Y18","v":0},null,36,24,null,{"$f":"(16*N65)/12","v":48},{"$f":"(16*O65)/12","v":32},null,{"$f":"N65*'CTI INPUTS'!C48","v":144},{"$f":"O65*'CTI INPUTS'!C48","v":96},null,null,null,{"$f":"N65*'CTI INPUTS'!C51","v":216},{"$f":"O65*'CTI INPUTS'!C51","v":144},null,null,null,null,144,144,144,96,96,96,null,72,72,72,48,48,48,null,72,48,null,null,null,null,{"$f":"(F65/4)*'CTI INPUTS'!C33","v":36},{"$f":"(H65*'CTI INPUTS'!C34)+(I65*'CTI INPUTS'!C33)","v":28.8},null,{"$f":"D65*'CTI INPUTS'!W33","v":21.6},{"$f":"D65*'CTI INPUTS'!X33","v":0},null,{"$f":"N65*'CTI INPUTS'!C37","v":144},{"$f":"N65*'CTI INPUTS'!C38","v":108},{"$f":"N65*'CTI INPUTS'!C39","v":72},{"$f":"O65*'CTI INPUTS'!C37","v":96},{"$f":"O65*'CTI INPUTS'!C38","v":72},{"$f":"O65*'CTI INPUTS'!C39","v":48},null,{"$f":"(AY65*'CTI INPUTS'!C6)/60","v":60},{"$f":"(AZ65*'CTI INPUTS'!C6)/60","v":48},null,{"$f":"(BE65/60)*'CTI INPUTS'!C6","v":240},{"$f":"(BF65/60)*'CTI INPUTS'!C6","v":180},{"$f":"(BG65/60)*'CTI INPUTS'!C6","v":120},{"$f":"(BH65/60)*'CTI INPUTS'!C6","v":160},{"$f":"(BI65/60)*'CTI INPUTS'!C6","v":120},{"$f":"(BJ65/60)*'CTI INPUTS'!C6","v":80},null,{"$f":"(Q65*('CTI INPUTS'!D17))+(T65*('CTI INPUTS'!D18))+(AE65*('CTI INPUTS'!D12))+(AF65*('CTI INPUTS'!D13))+(AG65*('CTI INPUTS'!D14))","v":662.4},{"$f":"(N65*('CTI INPUTS'!D19))+(T65*('CTI INPUTS'!D18))+(AG65*('CTI INPUTS'!D14))","v":460.44},{"$f":"(Y65*'CTI INPUTS'!D15)+(N65*'CTI INPUTS'!D16)","v":360},{"$f":"(R65*('CTI INPUTS'!D17))+(U65*('CTI INPUTS'!D18))+(AH65*('CTI INPUTS'!D12))+(AI65*('CTI INPUTS'!D13))+(AJ65*('CTI INPUTS'!D14))","v":441.59999999999997},{"$f":"(O65*('CTI INPUTS'!D19))+(U65*('CTI INPUTS'!D18))+(AJ65*('CTI INPUTS'!D14))","v":306.95999999999998},{"$f":"(Z65*'CTI INPUTS'!D15)+(O65*'CTI INPUTS'!D16)","v":240},null,{"$f":"(AE65*('CTI INPUTS'!D12))","v":144},{"$f":"(AF65*('CTI INPUTS'!D13))","v":21.599999999999998},{"$f":"(AG65*('CTI INPUTS'!D14))","v":36},{"$f":"(AH65*('CTI INPUTS'!D12))","v":96},{"$f":"(AI65*('CTI INPUTS'!D13))","v":14.399999999999999},{"$f":"(AJ65*('CTI INPUTS'!D14))","v":24},null,{"$f":"AL65*'CTI INPUTS'!D42","v":144.71999999999997},{"$f":"AM65*'CTI INPUTS'!D43","v":50.4},{"$f":"AN65*'CTI INPUTS'!D44","v":64.8},{"$f":"AS65*'CTI INPUTS'!D45","v":198},{"$f":"AO65*'CTI INPUTS'!D42","v":96.47999999999999},{"$f":"AP65*'CTI INPUTS'!D43","v":33.599999999999994},{"$f":"AQ65*'CTI INPUTS'!D44","v":43.2},{"$f":"AT65*'CTI INPUTS'!D45","v":132}]
[null,null,"16in",{"$f":"ProjectData!G48","v":0},null,{"$f":"D66*24","v":0},null,0,{"$f":"D66*8","v":0},null,{"$f":"D66*'CTI INPUTS'!W19","v":0},{"$f":"D66*'CTI INPUTS'!Y19","v":0},null,0,0,null,{"$f":"(20*N66)/12","v":0},{"$f":"(20*O66)/12","v":0},null,{"$f":"N66*'CTI INPUTS'!C48","v":0},{"$f":"O66*'CTI INPUTS'!C48","v":0},null,null,null,{"$f":"N66*'CTI INPUTS'!C51","v":0},{"$f":"O66*'CTI INPUTS'!C51","v":0},null,null,null,null,0,0,0,0,0,0,null,0,0,0,0,0,0,null,0,0,null,null,null,null,{"$f":"(F66/4)*'CTI INPUTS'!C33","v":0},{"$f":"(H66*'CTI INPUTS'!C34)+(I66*'CTI INPUTS'!C33)","v":0},null,{"$f":"D66*'CTI INPUTS'!W34","v":0},{"$f":"D66*'CTI INPUTS'!X34","v":0},null,{"$f":"N66*'CTI INPUTS'!C37","v":0},{"$f":"N66*'CTI INPUTS'!C38","v":0},{"$f":"N66*'CTI INPUTS'!C39","v":0},{"$f":"O66*'CTI INPUTS'!C37","v":0},{"$f":"O66*'CTI INPUTS'!C38","v":0},{"$f":"O66*'CTI INPUTS'!C39","v":0},null,{"$f":"(AY66*'CTI INPUTS'!C6)/60","v":0},{"$f":"(AZ66*'CTI INPUTS'!C6)/60","v":0},null,{"$f":"(BE66/60)*'CTI INPUTS'!C6","v":0},{"$f":"(BF66/60)*'CTI INPUTS'!C6","v":0},{"$f":"(BG66/60)*'CTI INPUTS'!C6","v":0},{"$f":"(BH66/60)*'CTI INPUTS'!C6","v":0},{"$f":"(BI66/60)*'CTI INPUTS'!C6","v":0},{"$f":"(BJ66/60)*'CTI INPUTS'!C6","v":0},null,{"$f":"(Q66*('CTI INPUTS'!D17))+(T66*('CTI INPUTS'!D18))+(AE66*('CTI INPUTS'!D12))+(AF66*('CTI INPUTS'!D13))+(AG66*('CTI INPUTS'!D14))","v":0},{"$f":"(N66*('CTI INPUTS'!D19))+(T66*('CTI INPUTS'!D18))+(AG66*('CTI INPUTS'!D14))","v":0},{"$f":"(Y66*'CTI INPUTS'!D15)+(N66*'CTI INPUTS'!D16)","v":0},{"$f":"(R66*('CTI INPUTS'!D17))+(U66*('CTI INPUTS'!D18))+(AH66*('CTI INPUTS'!D12))+(AI66*('CTI INPUTS'!D13))+(AJ66*('CTI INPUTS'!D14))","v":0},{"$f":"(O66*('CTI INPUTS'!D19))+(U66*('CTI INPUTS'!D18))+(AJ66*('CTI INPUTS'!D14))","v":0},{"$f":"(Z66*'CTI INPUTS'!D15)+(O66*'CTI INPUTS'!D16)","v":0},null,{"$f":"(AE66*('CTI INPUTS'!D12))","v":0},{"$f":"(AF66*('CTI INPUTS'!D13))","v":0},{"$f":"(AG66*('CTI INPUTS'!D14))","v":0},{"$f":"(AH66*('CTI INPUTS'!D12))","v":0},{"$f":"(AI66*('CTI INPUTS'!D13))","v":0},{"$f":"(AJ66*('CTI INPUTS'!D14))","v":0},null,{"$f":"AL66*'CTI INPUTS'!D42","v":0},{"$f":"AM66*'CTI INPUTS'!D43","v":0},{"$f":"AN66*'CTI INPUTS'!D44","v":0},{"$f":"AS66*'CTI INPUTS'!D45","v":0},{"$f":"AO66*'CTI INPUTS'!D42","v":0},{"$f":"AP66*'CTI INPUTS'!D43","v":0},{"$f":"AQ66*'CTI INPUTS'!D44","v":0},{"$f":"AT66*'CTI INPUTS'!D45","v":0}]
[null,null,"18in",{"$f":"ProjectData!G49","v":0},null,{"$f":"D67*24","v":0},null,0,{"$f":"D67*8","v":0},null,{"$f":"D67*'CTI INPUTS'!W20","v":0},{"$f":"D67*'CTI INPUTS'!Y20","v":0},null,0,0,null,{"$f":"(22*N67)/12","v":0},{"$f":"(22*O67)/12","v":0},null,{"$f":"N67*'CTI INPUTS'!C48","v":0},{"$f":"O67*'CTI INPUTS'!C48","v":0},null,null,null,{"$f":"N67*'CTI INPUTS'!C51","v":0},{"$f":"O67*'CTI INPUTS'!C51","v":0},null,null,null,null,0,0,0,0,0,0,null,0,0,0,0,0,0,null,0,0,null,null,null,null,{"$f":"(F67/4)*'CTI INPUTS'!C33","v":0},{"$f":"(H67*'CTI INPUTS'!C34)+(I67*'CTI INPUTS'!C33)","v":0},null,{"$f":"D67*'CTI INPUTS'!W35","v":0},{"$f":"D67*'CTI INPUTS'!X35","v":0},null,{"$f":"N67*'CTI INPUTS'!C37","v":0},{"$f":"N67*'CTI INPUTS'!C38","v":0},{"$f":"N67*'CTI INPUTS'!C39","v":0},{"$f":"O67*'CTI INPUTS'!C37","v":0},{"$f":"O67*'CTI INPUTS'!C38","v":0},{"$f":"O67*'CTI INPUTS'!C39","v":0},null,{"$f":"(AY67*'CTI INPUTS'!C6)/60","v":0},{"$f":"(AZ67*'CTI INPUTS'!C6)/60","v":0},null,{"$f":"(BE67/60)*'CTI INPUTS'!C6","v":0},{"$f":"(BF67/60)*'CTI INPUTS'!C6","v":0},{"$f":"(BG67/60)*'CTI INPUTS'!C6","v":0},{"$f":"(BH67/60)*'CTI INPUTS'!C6","v":0},{"$f":"(BI67/60)*'CTI INPUTS'!C6","v":0},{"$f":"(BJ67/60)*'CTI INPUTS'!C6","v":0},null,{"$f":"(Q67*('CTI INPUTS'!D17))+(T67*('CTI INPUTS'!D18))+(AE67*('CTI INPUTS'!D12))+(AF67*('CTI INPUTS'!D13))+(AG67*('CTI INPUTS'!D14))","v":0},{"$f":"(N67*('CTI INPUTS'!D19))+(T67*('CTI INPUTS'!D18))+(AG67*('CTI INPUTS'!D14))","v":0},{"$f":"(Y67*'CTI INPUTS'!D15)+(N67*'CTI INPUTS'!D16)","v":0},{"$f":"(R67*('CTI INPUTS'!D17))+(U67*('CTI INPUTS'!D18))+(AH67*('CTI INPUTS'!D12))+(AI67*('CTI INPUTS'!D13))+(AJ67*('CTI INPUTS'!D14))","v":0},{"$f":"(O67*('CTI INPUTS'!D19))+(U67*('CTI INPUTS'!D18))+(AJ67*('CTI INPUTS'!D14))","v":0},{"$f":"(Z67*'CTI INPUTS'!D15)+(O67*'CTI INPUTS'!D16)","v":0},null,{"$f":"(AE67*('CTI INPUTS'!D12))","v":0},{"$f":"(AF67*('CTI INPUTS'!D13))","v":0},{"$f":"(AG67*('CTI INPUTS'!D14))","v":0},{"$f":"(AH67*('CTI INPUTS'!D12))","v":0},{"$f":"(AI67*('CTI INPUTS'!D13))","v":0},{"$f":"(AJ67*('CTI INPUTS'!D14))","v":0},null,{"$f":"AL67*'CTI INPUTS'!D42","v":0},{"$f":"AM67*'CTI INPUTS'!D43","v":0},{"$f":"AN67*'CTI INPUTS'!D44","v":0},{"$f":"AS67*'CTI INPUTS'!D45","v":0},{"$f":"AO67*'CTI INPUTS'!D42","v":0},{"$f":"AP67*'CTI INPUTS'!D43","v":0},{"$f":"AQ67*'CTI INPUTS'!D44","v":0},{"$f":"AT67*'CTI INPUTS'!D45","v":0}]
[null,null,"20in",{"$f":"ProjectData!G50","v":0},null,{"$f":"D68*28","v":0},null,0,{"$f":"D68*8","v":0},null,{"$f":"D68*'CTI INPUTS'!W21","v":0},{"$f":"D68*'CTI INPUTS'!Y21","v":0},null,0,0,null,{"$f":"(24*N68)/12","v":0},{"$f":"(24*O68)/12","v":0},null,{"$f":"N68*'CTI INPUTS'!C48","v":0},{"$f":"O68*'CTI INPUTS'!C48","v":0},null,null,null,{"$f":"N68*'CTI INPUTS'!C51","v":0},{"$f":"O68*'CTI INPUTS'!C51","v":0},null,null,null,null,0,0,0,0,0,0,null,0,0,0,0,0,0,null,0,0,null,null,null,null,{"$f":"(F68/4)*'CTI INPUTS'!C33","v":0},{"$f":"(H68*'CTI INPUTS'!C34)+(I68*'CTI INPUTS'!C33)","v":0},null,{"$f":"D68*'CTI INPUTS'!W36","v":0},{"$f":"D68*'CTI INPUTS'!X36","v":0},null,{"$f":"N68*'CTI INPUTS'!C37","v":0},{"$f":"N68*'CTI INPUTS'!C38","v":0},{"$f":"N68*'CTI INPUTS'!C39","v":0},{"$f":"O68*'CTI INPUTS'!C37","v":0},{"$f":"O68*'CTI INPUTS'!C38","v":0},{"$f":"O68*'CTI INPUTS'!C39","v":0},null,{"$f":"(AY68*'CTI INPUTS'!C6)/60","v":0},{"$f":"(AZ68*'CTI INPUTS'!C6)/60","v":0},null,{"$f":"(BE68/60)*'CTI INPUTS'!C6","v":0},{"$f":"(BF68/60)*'CTI INPUTS'!C6","v":0},{"$f":"(BG68/60)*'CTI INPUTS'!C6","v":0},{"$f":"(BH68/60)*'CTI INPUTS'!C6","v":0},{"$f":"(BI68/60)*'CTI INPUTS'!C6","v":0},{"$f":"(BJ68/60)*'CTI INPUTS'!C6","v":0},null,{"$f":"(Q68*('CTI INPUTS'!D17))+(T68*('CTI INPUTS'!D18))+(AE68*('CTI INPUTS'!D12))+(AF68*('CTI INPUTS'!D13))+(AG68*('CTI INPUTS'!D14))","v":0},{"$f":"(N68*('CTI INPUTS'!D19))+(T68*('CTI INPUTS'!D18))+(AG68*('CTI INPUTS'!D14))","v":0},{"$f":"(Y68*'CTI INPUTS'!D15)+(N68*'CTI INPUTS'!D16)","v":0},{"$f":"(R68*('CTI INPUTS'!D17))+(U68*('CTI INPUTS'!D18))+(AH68*('CTI INPUTS'!D12))+(AI68*('CTI INPUTS'!D13))+(AJ68*('CTI INPUTS'!D14))","v":0},{"$f":"(O68*('CTI INPUTS'!D19))+(U68*('CTI INPUTS'!D18))+(AJ68*('CTI INPUTS'!D14))","v":0},{"$f":"(Z68*'CTI INPUTS'!D15)+(O68*'CTI INPUTS'!D16)","v":0},null,{"$f":"(AE68*('CTI INPUTS'!D12))","v":0},{"$f":"(AF68*('CTI INPUTS'!D13))","v":0},{"$f":"(AG68*('CTI INPUTS'!D14))","v":0},{"$f":"(AH68*('CTI INPUTS'!D12))","v":0},{"$f":"(AI68*('CTI INPUTS'!D13))","v":0},{"$f":"(AJ68*('CTI INPUTS'!D14))","v":0},null,{"$f":"AL68*'CTI INPUTS'!D42","v":0},{"$f":"AM68*'CTI INPUTS'!D43","v":0},{"$f":"AN68*'CTI INPUTS'!D44","v":0},{"$f":"AS68*'CTI INPUTS'!D45","v":0},{"$f":"AO68*'CTI INPUTS'!D42","v":0},{"$f":"AP68*'CTI INPUTS'!D43","v":0},{"$f":"AQ68*'CTI INPUTS'!D44","v":0},{"$f":"AT68*'CTI INPUTS'!D45","v":0}]
[null,null,"24in",{"$f":"ProjectData!G51","v":0},null,{"$f":"D69*28","v":0},null,0,{"$f":"D69*8","v":0},null,{"$f":"D69*'CTI INPUTS'!W22","v":0},{"$f":"D69*'CTI INPUTS'!Y22","v":0},null,0,0,null,{"$f":"(28*N69)/12","v":0},{"$f":"(28*O69)/12","v":0},null,{"$f":"N69*'CTI INPUTS'!C48","v":0},{"$f":"O69*'CTI INPUTS'!C48","v":0},null,null,null,{"$f":"N69*'CTI INPUTS'!C51","v":0},{"$f":"O69*'CTI INPUTS'!C51","v":0},null,null,null,null,0,0,0,0,0,0,null,0,0,0,0,0,0,null,0,0,null,null,null,null,{"$f":"(F69/4)*'CTI INPUTS'!C33","v":0},{"$f":"(H69*'CTI INPUTS'!C34)+(I69*'CTI INPUTS'!C33)","v":0},null,{"$f":"D69*'CTI INPUTS'!W37","v":0},{"$f":"D69*'CTI INPUTS'!X37","v":0},null,{"$f":"N69*'CTI INPUTS'!C37","v":0},{"$f":"N69*'CTI INPUTS'!C38","v":0},{"$f":"N69*'CTI INPUTS'!C39","v":0},{"$f":"O69*'CTI INPUTS'!C37","v":0},{"$f":"O69*'CTI INPUTS'!C38","v":0},{"$f":"O69*'CTI INPUTS'!C39","v":0},null,{"$f":"(AY69*'CTI INPUTS'!C6)/60","v":0},{"$f":"(AZ69*'CTI INPUTS'!C6)/60","v":0},null,{"$f":"(BE69/60)*'CTI INPUTS'!C6","v":0},{"$f":"(BF69/60)*'CTI INPUTS'!C6","v":0},{"$f":"(BG69/60)*'CTI INPUTS'!C6","v":0},{"$f":"(BH69/60)*'CTI INPUTS'!C6","v":0},{"$f":"(BI69/60)*'CTI INPUTS'!C6","v":0},{"$f":"(BJ69/60)*'CTI INPUTS'!C6","v":0},null,{"$f":"(Q69*('CTI INPUTS'!D17))+(T69*('CTI INPUTS'!D18))+(AE69*('CTI INPUTS'!D12))+(AF69*('CTI INPUTS'!D13))+(AG69*('CTI INPUTS'!D14))","v":0},{"$f":"(N69*('CTI INPUTS'!D19))+(T69*('CTI INPUTS'!D18))+(AG69*('CTI INPUTS'!D14))","v":0},{"$f":"(Y69*'CTI INPUTS'!D15)+(N69*'CTI INPUTS'!D16)","v":0},{"$f":"(R69*('CTI INPUTS'!D17))+(U69*('CTI INPUTS'!D18))+(AH69*('CTI INPUTS'!D12))+(AI69*('CTI INPUTS'!D13))+(AJ69*('CTI INPUTS'!D14))","v":0},{"$f":"(O69*('CTI INPUTS'!D19))+(U69*('CTI INPUTS'!D18))+(AJ69*('CTI INPUTS'!D14))","v":0},{"$f":"(Z69*'CTI INPUTS'!D15)+(O69*'CTI INPUTS'!D16)","v":0},null,{"$f":"(AE69*('CTI INPUTS'!D12))","v":0},{"$f":"(AF69*('CTI INPUTS'!D13))","v":0},{"$f":"(AG69*('CTI INPUTS'!D14))","v":0},{"$f":"(AH69*('CTI INPUTS'!D12))","v":0},{"$f":"(AI69*('CTI INPUTS'!D13))","v":0},{"$f":"(AJ69*('CTI INPUTS'!D14))","v":0},null,{"$f":"AL69*'CTI INPUTS'!D42","v":0},{"$f":"AM69*'CTI INPUTS'!D43","v":0},{"$f":"AN69*'CTI INPUTS'!D44","v":0},{"$f":"AS69*'CTI INPUTS'!D45","v":0},{"$f":"AO69*'CTI INPUTS'!D42","v":0},{"$f":"AP69*'CTI INPUTS'!D43","v":0},{"$f":"AQ69*'CTI INPUTS'!D44","v":0},{"$f":"AT69*'CTI INPUTS'!D45","v":0}]
[null,null,"30in",{"$f":"ProjectData!G52","v":0},null,{"$f":"D70*32","v":0},null,0,{"$f":"D70*12","v":0},null,{"$f":"D70*'CTI INPUTS'!W23","v":0},{"$f":"D70*'CTI INPUTS'!Y23","v":0},null,0,0,null,{"$f":"(34*N70)/12","v":0},{"$f":"(34*O70)/12","v":0},null,{"$f":"N70*'CTI INPUTS'!C48","v":0},{"$f":"O70*'CTI INPUTS'!C48","v":0},null,null,null,{"$f":"N70*'CTI INPUTS'!C51","v":0},{"$f":"O70*'CTI INPUTS'!C51","v":0},null,null,null,null,0,0,0,0,0,0,null,0,0,0,0,0,0,null,0,0,null,null,null,null,{"$f":"(F70/4)*'CTI INPUTS'!C33","v":0},{"$f":"(H70*'CTI INPUTS'!C34)+(I70*'CTI INPUTS'!C33)","v":0},null,{"$f":"D70*'CTI INPUTS'!W38","v":0},{"$f":"D70*'CTI INPUTS'!X38","v":0},null,{"$f":"N70*'CTI INPUTS'!C37","v":0},{"$f":"N70*'CTI INPUTS'!C38","v":0},{"$f":"N70*'CTI INPUTS'!C39","v":0},{"$f":"O70*'CTI INPUTS'!C37","v":0},{"$f":"O70*'CTI INPUTS'!C38","v":0},{"$f":"O70*'CTI INPUTS'!C39","v":0},null,{"$f":"(AY70*'CTI INPUTS'!C6)/60","v":0},{"$f":"(AZ70*'CTI INPUTS'!C6)/60","v":0},null,{"$f":"(BE70/60)*'CTI INPUTS'!C6","v":0},{"$f":"(BF70/60)*'CTI INPUTS'!C6","v":0},{"$f":"(BG70/60)*'CTI INPUTS'!C6","v":0},{"$f":"(BH70/60)*'CTI INPUTS'!C6","v":0},{"$f":"(BI70/60)*'CTI INPUTS'!C6","v":0},{"$f":"(BJ70/60)*'CTI INPUTS'!C6","v":0},null,{"$f":"(Q70*('CTI INPUTS'!D17))+(T70*('CTI INPUTS'!D18))+(AE70*('CTI INPUTS'!D12))+(AF70*('CTI INPUTS'!D13))+(AG70*('CTI INPUTS'!D14))","v":0},{"$f":"(N70*('CTI INPUTS'!D19))+(T70*('CTI INPUTS'!D18))+(AG70*('CTI INPUTS'!D14))","v":0},{"$f":"(Y70*'CTI INPUTS'!D15)+(N70*'CTI INPUTS'!D16)","v":0},{"$f":"(R70*('CTI INPUTS'!D17))+(U70*('CTI INPUTS'!D18))+(AH70*('CTI INPUTS'!D12))+(AI70*('CTI INPUTS'!D13))+(AJ70*('CTI INPUTS'!D14))","v":0},{"$f":"(O70*('CTI INPUTS'!D19))+(U70*('CTI INPUTS'!D18))+(AJ70*('CTI INPUTS'!D14))","v":0},{"$f":"(Z70*'CTI INPUTS'!D15)+(O70*'CTI INPUTS'!D16)","v":0},null,{"$f":"(AE70*('CTI INPUTS'!D12))","v":0},{"$f":"(AF70*('CTI INPUTS'!D13))","v":0},{"$f":"(AG70*('CTI INPUTS'!D14))","v":0},{"$f":"(AH70*('CTI INPUTS'!D12))","v":0},{"$f":"(AI70*('CTI INPUTS'!D13))","v":0},{"$f":"(AJ70*('CTI INPUTS'!D14))","v":0},null,{"$f":"AL70*'CTI INPUTS'!D42","v":0},{"$f":"AM70*'CTI INPUTS'!D43","v":0},{"$f":"AN70*'CTI INPUTS'!D44","v":0},{"$f":"AS70*'CTI INPUTS'!D45","v":0},{"$f":"AO70*'CTI INPUTS'!D42","v":0},{"$f":"AP70*'CTI INPUTS'!D43","v":0},{"$f":"AQ70*'CTI INPUTS'!D44","v":0},{"$f":"AT70*'CTI INPUTS'!D45","v":0}]
[null,null,"36in",{"$f":"ProjectData!G53","v":0},null,{"$f":"D71*32","v":0},null,{"$f":"D71*2","v":0},{"$f":"D71*12","v":0},null,{"$f":"D71*'CTI INPUTS'!W24","v":0},{"$f":"D71*'CTI INPUTS'!Y24","v":0},null,0,0,null,{"$f":"(40*N71)/12","v":0},{"$f":"(40*O71)/12","v":0},null,{"$f":"N71*'CTI INPUTS'!C48","v":0},{"$f":"O71*'CTI INPUTS'!C48","v":0},null,null,null,{"$f":"N71*'CTI INPUTS'!C51","v":0},{"$f":"O71*'CTI INPUTS'!C51","v":0},null,null,null,null,0,0,0,0,0,0,null,0,0,0,0,0,0,null,0,0,null,null,null,null,{"$f":"(F71/4)*'CTI INPUTS'!C33","v":0},{"$f":"(H71*'CTI INPUTS'!C34)+(I71*'CTI INPUTS'!C33)","v":0},null,{"$f":"D71*'CTI INPUTS'!W39","v":0},{"$f":"D71*'CTI INPUTS'!X39","v":0},null,{"$f":"N71*'CTI INPUTS'!C37","v":0},{"$f":"N71*'CTI INPUTS'!C38","v":0},{"$f":"N71*'CTI INPUTS'!C39","v":0},{"$f":"O71*'CTI INPUTS'!C37","v":0},{"$f":"O71*'CTI INPUTS'!C38","v":0},{"$f":"O71*'CTI INPUTS'!C39","v":0},null,{"$f":"(AY71*'CTI INPUTS'!C6)/60","v":0},{"$f":"(AZ71*'CTI INPUTS'!C6)/60","v":0},null,{"$f":"(BE71/60)*'CTI INPUTS'!C6","v":0},{"$f":"(BF71/60)*'CTI INPUTS'!C6","v":0},{"$f":"(BG71/60)*'CTI INPUTS'!C6","v":0},{"$f":"(BH71/60)*'CTI INPUTS'!C6","v":0},{"$f":"(BI71/60)*'CTI INPUTS'!C6","v":0},{"$f":"(BJ71/60)*'CTI INPUTS'!C6","v":0},null,{"$f":"(Q71*('CTI INPUTS'!D17))+(T71*('CTI INPUTS'!D18))+(AE71*('CTI INPUTS'!D12))+(AF71*('CTI INPUTS'!D13))+(AG71*('CTI INPUTS'!D14))","v":0},{"$f":"(N71*('CTI INPUTS'!D19))+(T71*('CTI INPUTS'!D18))+(AG71*('CTI INPUTS'!D14))","v":0},{"$f":"(Y71*'CTI INPUTS'!D15)+(N71*'CTI INPUTS'!D16)","v":0},{"$f":"(R71*('CTI INPUTS'!D17))+(U71*('CTI INPUTS'!D18))+(AH71*('CTI INPUTS'!D12))+(AI71*('CTI INPUTS'!D13))+(AJ71*('CTI INPUTS'!D14))","v":0},{"$f":"(O71*('CTI INPUTS'!D19))+(U71*('CTI INPUTS'!D18))+(AJ71*('CTI INPUTS'!D14))","v":0},{"$f":"(Z71*'CTI INPUTS'!D15)+(O71*'CTI INPUTS'!D16)","v":0},null,{"$f":"(AE71*('CTI INPUTS'!D12))","v":0},{"$f":"(AF71*('CTI INPUTS'!D13))","v":0},{"$f":"(AG71*('CTI INPUTS'!D14))","v":0},{"$f":"(AH71*('CTI INPUTS'!D12))","v":0},{"$f":"(AI71*('CTI INPUTS'!D13))","v":0},{"$f":"(AJ71*('CTI INPUTS'!D14))","v":0},null,{"$f":"AL71*'CTI INPUTS'!D42","v":0},{"$f":"AM71*'CTI INPUTS'!D43","v":0},{"$f":"AN71*'CTI INPUTS'!D44","v":0},{"$f":"AS71*'CTI INPUTS'!D45","v":0},{"$f":"AO71*'CTI INPUTS'!D42","v":0},{"$f":"AP71*'CTI INPUTS'!D43","v":0},{"$f":"AQ71*'CTI INPUTS'!D44","v":0},{"$f":"AT71*'CTI INPUTS'!D45","v":0}]
[null,null,null,null,null,{"$f":"SUM(F60:F71)","v":288},null,{"$f":"SUM((H60:H71)+(I60:I71))","v":72},null,null,{"$f":"SUM(K60:K71)","v":432},{"$f":"SUM(L60:L71)","v":0},null,{"$f":"SUM(N60:N71)","v":36},{"$f":"SUM(O60:O71)","v":24},null,{"$f":"SUM(Q60:Q71)","v":48},{"$f":"SUM(R60:R71)","v":32},null,{"$f":"SUM(T60:T71)","v":144},{"$f":"SUM(U60:U71)","v":96},null,null,null,{"$f":"SUM(Y60:Y71)","v":216},{"$f":"SUM(Z60:Z71)","v":144},null,null,null,null,{"$f":"SUM((AE60:AE71)+(AF60:AF71)+(AG60:AG71))","v":432},null,null,{"$f":"SUM((AH60:AH71)+(AI60:AI71)+(AJ60:AJ71))","v":288},null,null,null,{"$f":"SUM((AL60:AL71)+(AM60:AM71)+(AN60:AN71))","v":216},null,null,{"$f":"SUM((AO60:AO71)+(AP60:AP71)+(AQ60:AQ71))","v":144},null,null,null,{"$f":"SUM(AS60:AS71)","v":72},{"$f":"SUM(AT60:AT71)","v":48},null,null,null,null,{"$f":"SUM(AY60:AY71)","v":36},{"$f":"SUM(AZ60:AZ71)","v":28.8},null,{"$f":"SUM(BB60:BB71)","v":21.6},{"$f":"SUM(BC60:BC71)","v":0},null,{"$f":"SUM(BE60:BE71)","v":144},108,72,96,72,48,null,{"$f":"SUM(BL60:BL71)","v":60},{"$f":"SUM(BM60:BM71)","v":48},null,{"$f":"SUM(BO60:BO71)","v":240},180,120,160,120,80,null,{"$f":"SUM(BV60:BV71)","v":662.4},460.44,360,441.59999999999997,306.95999999999998,240,null,{"$f":"SUM((CC60:CC71)+(CD60:CD71)+(CE60:CE71))","v":201.6},null,null,{"$f":"SUM((CF60:CF71)+(CG60:CG71)+(CH60:CH71))","v":134.4},null,null,null,{"$f":"SUM((CJ60:CJ71)+(CK60:CK71)+(CL60:CL71))","v":259.91999999999996},null,null,{"$f":"SUM(CM60:CM71)","v":198},{"$f":"SUM((CN60:CN71)+(CO60:CO71)+(CP60:CP71))","v":173.27999999999997},null,null,{"$f":"SUM(CQ60:CQ71)","v":132},null,{"$f":"SUM(CS60:CS71)","v":0},{"$f":"SUM(CT60:CT71)","v":0},{"$f":"SUM(CU60:CU71)","v":0}]
[]
[null,"HORIZONTAL TEE",null,null,null,"SPLICE",null,"POSI-LOK",null,null,"FITTING FABRICATION",null,null,"SUPPORT QUANTITY",null,null,"STRUT L/FT",null,null,"ATR HANGER (L/FT)",null,null,null,null,"WIRE HANGER (L/FT)",null,null,null,null,null,"VE2 : ATR HARDWARE QUANTITY",null,null,"TSS : ATR HARDWARE QUANTITY",null,null,null,"HOLD DOWN & HDWR QUANTITY",null,null,"TSS: HOLD DOWN & HDWR QUANTITY",null,null,null,"H-DOWN CLIP QUANTITY",null,null,null,null,null,"SPLICE INSTALLATION TIME (MIN)",null,null,"FITTING FAB. TIME (MIN)",null,null,"VE2 : SUPPORT INSTAL TIME (MIN)",null,null,"TSS: SUPPORT INSTALLATION TIME (MIN)",null,null,null,"SPLICE INSTALLATION COST ($)",null,null,"SUPPORT INSTALLATION COST ($)",null,null,"TSS: SUPPORT INSTALLATION COST ($)",null,null,null,"SUPPORT COST ($)",null,null,"TSS: SUPPORT COST ($)",null,null,null,"ATR HARDWARE COST $",null,null,"TSS: ATR HARDWARE COST $",null,null,null,"HOLD DOWN CLAMPS & HARDWARE COST ($)",null,null,null,"TSS: HOLD DOWN CLAMPS & HARDWARE COST ($)",null,null,null,null,"SUPPORT WEIGHT (LBS)"]
[]
[null,"HEIGHT","WIDTH","QUANTITY",null,"WSKIT",null,"PLOK","WSKIT",null,"CUTS  QTY","WSKIT (pcs)",null,"FAB (VE2)","C2G (TSS)",null,"FAB (VE2)","C2G (TSS)",null,"FAB (VE2)","C2G (TSS)",null,null,null,"FAB (VE2)","C2G (TSS)",null,null,null,null,"SQ WSHR","FLT WSHR","HEX NUT","SQ WSHR","FLT WSHR","HEX NUT",null,"FLXW","25HX","25NC","FLXW","25HX","25NC",null,"VE2 : SRC (pc)","TSS : SRC (pc)",null,null,null,null,"WSKIT","POSI-LOK + WSKIT",null,"CUTS ","WSKIT",null,"STRUT","URH","WIRE","STRUT","URH","WIRE",null,"WSKIT","POSI-LOK + WSKIT",null,"VE2 : STRUT","VE2 : URH","VE2 : WIRE","TSS : STRUT","TSS : URH","TSS : WIRE",null,"STRUT","URH","WIRE","STRUT","URH","WIRE",null,"SQUARE WSHR","FLAT WSHR","HEX NUT","SQUARE WSHR","FLAT WSHR","HEX NUT",null,"FLXW","25HX","25NC","SRC CLIP","FLXW","25HX","25NC","SRC CLIP",null,"STRUT","URH","WIRE"]
[null,"2/4/6in","2in",{"$f":"ProjectData!I42","v":0},null,{"$f":"(D77*8)*2","v":0},null,{"$f":"(D77*2)*2","v":0},{"$f":"(D77*0)*2","v":0},null,{"$f":"D77*'CTI INPUTS'!AB13","v":0},{"$f":"D77*'CTI INPUTS'!AD13","v":0},null,{"$f":"D77*5","v":0},{"$f":"D77*5","v":0},null,{"$f":"(6*N77)/12","v":0},{"$f":"(6*O77)/12","v":0},null,{"$f":"N77*'CTI INPUTS'!C48","v":0},{"$f":"O77*'CTI INPUTS'!C48","v":0},null,null,null,{"$f":"N77*'CTI INPUTS'!C51","v":0},{"$f":"O77*'CTI INPUTS'!C51","v":0},null,null,null,null,{"$f":"N77*4","v":0},{"$f":"N77*4","v":0},{"$f":"N77*4","v":0},{"$f":"O77*4","v":0},{"$f":"O77*4","v":0},{"$f":"O77*4","v":0},null,{"$f":"N77*2","v":0},{"$f":"N77*2","v":0},{"$f":"N77*2","v":0},{"$f":"O77*2","v":0},{"$f":"O77*2","v":0},{"$f":"O77*2","v":0},null,{"$f":"N77*1","v":0},{"$f":"O77*1","v":0},null,null,null,null,{"$f":"(F77/4)*'CTI INPUTS'!C33","v":0},{"$f":"(H77*'CTI INPUTS'!C34)+(I77*'CTI INPUTS'!C33)","v":0},null,{"$f":"D77*'CTI INPUTS'!AB28","v":0},{"$f":"D77*'CTI INPUTS'!AC28","v":0},null,{"$f":"N77*'CTI INPUTS'!C37","v":0},{"$f":"N77*'CTI INPUTS'!C38","v":0},{"$f":"N77*'CTI INPUTS'!C39","v":0},{"$f":"O77*'CTI INPUTS'!C37","v":0},{"$f":"O77*'CTI INPUTS'!C38","v":0},{"$f":"O77*'CTI INPUTS'!C39","v":0},null,{"$f":"(AY77*'CTI INPUTS'!C6)/60","v":0},{"$f":"(AZ77*'CTI INPUTS'!C6)/60","v":0},null,{"$f":"(BE77/60)*'CTI INPUTS'!C6","v":0},{"$f":"(BF77/60)*'CTI INPUTS'!C6","v":0},{"$f":"(BG77/60)*'CTI INPUTS'!C6","v":0},{"$f":"(BH77/60)*'CTI INPUTS'!C6","v":0},{"$f":"(BI77/60)*'CTI INPUTS'!C6","v":0},{"$f":"(BJ77/60)*'CTI INPUTS'!C6","v":0},null,{"$f":"(Q77*('CTI INPUTS'!D17))+(T77*('CTI INPUTS'!D18))+(AE77*('CTI INPUTS'!D12))+(AF77*('CTI INPUTS'!D13))+(AG77*('CTI INPUTS'!D14))","v":0},{"$f":"(N77*('CTI INPUTS'!D19))+(T77*('CTI INPUTS'!D18))+(AG77*('CTI INPUTS'!D14))","v":0},{"$f":"(Y77*'CTI INPUTS'!D15)+(N77*'CTI INPUTS'!D16)","v":0},{"$f":"(R77*('CTI INPUTS'!D17))+(U77*('CTI INPUTS'!D18))+(AH77*('CTI INPUTS'!D12))+(AI77*('CTI INPUTS'!D13))+(AJ77*('CTI INPUTS'!D14))","v":0},{"$f":"(O77*('CTI INPUTS'!D19))+(U77*('CTI INPUTS'!D18))+(AJ77*('CTI INPUTS'!D14))","v":0},{"$f":"(Z77*'CTI INPUTS'!D15)+(O77*'CTI INPUTS'!D16)","v":0},null,{"$f":"(AE77*('CTI INPUTS'!D12))","v":0},{"$f":"(AF77*('CTI INPUTS'!D13))","v":0},{"$f":"(AG77*('CTI INPUTS'!D14))","v":0},{"$f":"(AH77*('CTI INPUTS'!D12))","v":0},{"$f":"(AI77*('CTI INPUTS'!D13))","v":0},{"$f":"(AJ77*('CTI INPUTS'!D14))","v":0},null,{"$f":"AL77*'CTI INPUTS'!D42","v":0},{"$f":"AM77*'CTI INPUTS'!D43","v":0},{"$f":"AN77*'CTI INPUTS'!D44","v":0},{"$f":"AS77*'CTI INPUTS'!D45","v":0},{"$f":"AO77*'CTI INPUTS'!D42","v":0},{"$f":"AP77*'CTI INPUTS'!D43","v":0},{"$f":"AQ77*'CTI INPUTS'!D44","v":0},{"$f":"AT77*'CTI INPUTS'!D45","v":0}]
[null,null,"4in",{"$f":"ProjectData!I43","v":0},null,{"$f":"(D78*8)*2","v":0},null,0,{"$f":"(D78*0)*2","v":0},null,{"$f":"D78*'CTI INPUTS'!AB14","v":0},{"$f":"D78*'CTI INPUTS'!AD14","v":0},null,0,0,null,{"$f":"(8*N78)/12","v":0},{"$f":"(8*O78)/12","v":0},null,{"$f":"N78*'CTI INPUTS'!C48","v":0},{"$f":"O78*'CTI INPUTS'!C48","v":0},null,null,null,{"$f":"N78*'CTI INPUTS'!C51","v":0},{"$f":"O78*'CTI INPUTS'!C51","v":0},null,null,null,null,{"$f":"N78*4","v":0},{"$f":"N78*4","v":0},{"$f":"N78*4","v":0},{"$f":"O78*4","v":0},{"$f":"O78*4","v":0},{"$f":"O78*4","v":0},null,{"$f":"N78*2","v":0},{"$f":"N78*2","v":0},{"$f":"N78*2","v":0},{"$f":"O78*2","v":0},{"$f":"O78*2","v":0},{"$f":"O78*2","v":0},null,{"$f":"N78*2","v":0},{"$f":"O78*2","v":0},null,null,null,null,{"$f":"(F78/4)*'CTI INPUTS'!C33","v":0},{"$f":"(H78*'CTI INPUTS'!C34)+(I78*'CTI INPUTS'!C33)","v":0},null,{"$f":"D78*'CTI INPUTS'!AB29","v":0},{"$f":"D78*'CTI INPUTS'!AC29","v":0},null,{"$f":"N78*'CTI INPUTS'!C37","v":0},{"$f":"N78*'CTI INPUTS'!C38","v":0},{"$f":"N78*'CTI INPUTS'!C39","v":0},{"$f":"O78*'CTI INPUTS'!C37","v":0},{"$f":"O78*'CTI INPUTS'!C38","v":0},{"$f":"O78*'CTI INPUTS'!C39","v":0},null,{"$f":"(AY78*'CTI INPUTS'!C6)/60","v":0},{"$f":"(AZ78*'CTI INPUTS'!C6)/60","v":0},null,{"$f":"(BE78/60)*'CTI INPUTS'!C6","v":0},{"$f":"(BF78/60)*'CTI INPUTS'!C6","v":0},{"$f":"(BG78/60)*'CTI INPUTS'!C6","v":0},{"$f":"(BH78/60)*'CTI INPUTS'!C6","v":0},{"$f":"(BI78/60)*'CTI INPUTS'!C6","v":0},{"$f":"(BJ78/60)*'CTI INPUTS'!C6","v":0},null,{"$f":"(Q78*('CTI INPUTS'!D17))+(T78*('CTI INPUTS'!D18))+(AE78*('CTI INPUTS'!D12))+(AF78*('CTI INPUTS'!D13))+(AG78*('CTI INPUTS'!D14))","v":0},{"$f":"(N78*('CTI INPUTS'!D19))+(T78*('CTI INPUTS'!D18))+(AG78*('CTI INPUTS'!D14))","v":0},{"$f":"(Y78*'CTI INPUTS'!D15)+(N78*'CTI INPUTS'!D16)","v":0},{"$f":"(R78*('CTI INPUTS'!D17))+(U78*('CTI INPUTS'!D18))+(AH78*('CTI INPUTS'!D12))+(AI78*('CTI INPUTS'!D13))+(AJ78*('CTI INPUTS'!D14))","v":0},{"$f":"(O78*('CTI INPUTS'!D19))+(U78*('CTI INPUTS'!D18))+(AJ78*('CTI INPUTS'!D14))","v":0},{"$f":"(Z78*'CTI INPUTS'!D15)+(O78*'CTI INPUTS'!D16)","v":0},null,{"$f":"(AE78*('CTI INPUTS'!D12))","v":0},{"$f":"(AF78*('CTI INPUTS'!D13))","v":0},{"$f":"(AG78*('CTI INPUTS'!D14))","v":0},{"$f":"(AH78*('CTI INPUTS'!D12))","v":0},{"$f":"(AI78*('CTI INPUTS'!D13))","v":0},{"$f":"(AJ78*('CTI INPUTS'!D14))","v":0},null,{"$f":"AL78*'CTI INPUTS'!D42","v":0},{"$f":"AM78*'CTI INPUTS'!D43","v":0},{"$f":"AN78*'CTI INPUTS'!D44","v":0},{"$f":"AS78*'CTI INPUTS'!D45","v":0},{"$f":"AO78*'CTI INPUTS'!D42","v":0},{"$f":"AP78*'CTI INPUTS'!D43","v":0},{"$f":"AQ78*'CTI INPUTS'!D44","v":0},{"$f":"AT78*'CTI INPUTS'!D45","v":0}]
[null,null,"6in",{"$f":"ProjectData!I44","v":0},null,{"$f":"(D79*16)*2","v":0},null,0,{"$f":"(D79*0)*2","v":0},null,{"$f":"D79*'CTI INPUTS'!AB15","v":0},{"$f":"D79*'CTI INPUTS'!AD15","v":0},null,0,0,null,{"$f":"(10*N79)/12","v":0},{"$f":"(10*O79)/12","v":0},null,{"$f":"N79*'CTI INPUTS'!C48","v":0},{"$f":"O79*'CTI INPUTS'!C48","v":0},null,null,null,{"$f":"N79*'CTI INPUTS'!C51","v":0},{"$f":"O79*'CTI INPUTS'!C51","v":0},null,null,null,null,0,0,0,0,0,0,null,0,0,0,0,0,0,null,{"$f":"N79*2","v":0},{"$f":"O79*2","v":0},null,null,null,null,{"$f":"(F79/4)*'CTI INPUTS'!C33","v":0},{"$f":"(H79*'CTI INPUTS'!C34)+(I79*'CTI INPUTS'!C33)","v":0},null,{"$f":"D79*'CTI INPUTS'!AB30","v":0},{"$f":"D79*'CTI INPUTS'!AC30","v":0},null,{"$f":"N79*'CTI INPUTS'!C37","v":0},{"$f":"N79*'CTI INPUTS'!C38","v":0},{"$f":"N79*'CTI INPUTS'!C39","v":0},{"$f":"O79*'CTI INPUTS'!C37","v":0},{"$f":"O79*'CTI INPUTS'!C38","v":0},{"$f":"O79*'CTI INPUTS'!C39","v":0},null,{"$f":"(AY79*'CTI INPUTS'!C6)/60","v":0},{"$f":"(AZ79*'CTI INPUTS'!C6)/60","v":0},null,{"$f":"(BE79/60)*'CTI INPUTS'!C6","v":0},{"$f":"(BF79/60)*'CTI INPUTS'!C6","v":0},{"$f":"(BG79/60)*'CTI INPUTS'!C6","v":0},{"$f":"(BH79/60)*'CTI INPUTS'!C6","v":0},{"$f":"(BI79/60)*'CTI INPUTS'!C6","v":0},{"$f":"(BJ79/60)*'CTI INPUTS'!C6","v":0},null,{"$f":"(Q79*('CTI INPUTS'!D17))+(T79*('CTI INPUTS'!D18))+(AE79*('CTI INPUTS'!D12))+(AF79*('CTI INPUTS'!D13))+(AG79*('CTI INPUTS'!D14))","v":0},{"$f":"(N79*('CTI INPUTS'!D19))+(T79*('CTI INPUTS'!D18))+(AG79*('CTI INPUTS'!D14))","v":0},{"$f":"(Y79*'CTI INPUTS'!D15)+(N79*'CTI INPUTS'!D16)","v":0},{"$f":"(R79*('CTI INPUTS'!D17))+(U79*('CTI INPUTS'!D18))+(AH79*('CTI INPUTS'!D12))+(AI79*('CTI INPUTS'!D13))+(AJ79*('CTI INPUTS'!D14))","v":0},{"$f":"(O79*('CTI INPUTS'!D19))+(U79*('CTI INPUTS'!D18))+(AJ79*('CTI INPUTS'!D14))","v":0},{"$f":"(Z79*'CTI INPUTS'!D15)+(O79*'CTI INPUTS'!D16)","v":0},null,{"$f":"(AE79*('CTI INPUTS'!D12))","v":0},{"$f":"(AF79*('CTI INPUTS'!D13))","v":0},{"$f":"(AG79*('CTI INPUTS'!D14))","v":0},{"$f":"(AH79*('CTI INPUTS'!D12))","v":0},{"$f":"(AI79*('CTI INPUTS'!D13))","v":0},{"$f":"(AJ79*('CTI INPUTS'!D14))","v":0},null,{"$f":"AL79*'CTI INPUTS'!D42","v":0},{"$f":"AM79*'CTI INPUTS'!D43","v":0},{"$f":"AN79*'CTI INPUTS'!D44","v":0},{"$f":"AS79*'CTI INPUTS'!D45","v":0},{"$f":"AO79*'CTI INPUTS'!D42","v":0},{"$f":"AP79*'CTI INPUTS'!D43","v":0},{"$f":"AQ79*'CTI INPUTS'!D44","v":0},{"$f":"AT79*'CTI INPUTS'!D45","v":0}]
[null,null,"8in",{"$f":"ProjectData!I45","v":0},null,{"$f":"(D80*20)*2","v":0},null,0,{"$f":"(D80*4)*2","v":0},null,{"$f":"D80*'CTI INPUTS'!AB16","v":0},{"$f":"D80*'CTI INPUTS'!AD16","v":0},null,0,0,null,{"$f":"(12*N80)/12","v":0},{"$f":"(12*O80)/12","v":0},null,{"$f":"N80*'CTI INPUTS'!C48","v":0},{"$f":"O80*'CTI INPUTS'!C48","v":0},null,null,null,{"$f":"N80*'CTI INPUTS'!C51","v":0},{"$f":"O80*'CTI INPUTS'!C51","v":0},null,null,null,null,0,0,0,0,0,0,null,0,0,0,0,0,0,null,0,0,null,null,null,null,{"$f":"(F80/4)*'CTI INPUTS'!C33","v":0},{"$f":"(H80*'CTI INPUTS'!C34)+(I80*'CTI INPUTS'!C33)","v":0},null,{"$f":"D80*'CTI INPUTS'!AB31","v":0},{"$f":"D80*'CTI INPUTS'!AC31","v":0},null,{"$f":"N80*'CTI INPUTS'!C37","v":0},{"$f":"N80*'CTI INPUTS'!C38","v":0},{"$f":"N80*'CTI INPUTS'!C39","v":0},{"$f":"O80*'CTI INPUTS'!C37","v":0},{"$f":"O80*'CTI INPUTS'!C38","v":0},{"$f":"O80*'CTI INPUTS'!C39","v":0},null,{"$f":"(AY80*'CTI INPUTS'!C6)/60","v":0},{"$f":"(AZ80*'CTI INPUTS'!C6)/60","v":0},null,{"$f":"(BE80/60)*'CTI INPUTS'!C6","v":0},{"$f":"(BF80/60)*'CTI INPUTS'!C6","v":0},{"$f":"(BG80/60)*'CTI INPUTS'!C6","v":0},{"$f":"(BH80/60)*'CTI INPUTS'!C6","v":0},{"$f":"(BI80/60)*'CTI INPUTS'!C6","v":0},{"$f":"(BJ80/60)*'CTI INPUTS'!C6","v":0},null,{"$f":"(Q80*('CTI INPUTS'!D17))+(T80*('CTI INPUTS'!D18))+(AE80*('CTI INPUTS'!D12))+(AF80*('CTI INPUTS'!D13))+(AG80*('CTI INPUTS'!D14))","v":0},{"$f":"(N80*('CTI INPUTS'!D19))+(T80*('CTI INPUTS'!D18))+(AG80*('CTI INPUTS'!D14))","v":0},{"$f":"(Y80*'CTI INPUTS'!D15)+(N80*'CTI INPUTS'!D16)","v":0},{"$f":"(R80*('CTI INPUTS'!D17))+(U80*('CTI INPUTS'!D18))+(AH80*('CTI INPUTS'!D12))+(AI80*('CTI INPUTS'!D13))+(AJ80*('CTI INPUTS'!D14))","v":0},{"$f":"(O80*('CTI INPUTS'!D19))+(U80*('CTI INPUTS'!D18))+(AJ80*('CTI INPUTS'!D14))","v":0},{"$f":"(Z80*'CTI INPUTS'!D15)+(O80*'CTI INPUTS'!D16)","v":0},null,{"$f":"(AE80*('CTI INPUTS'!D12))","v":0},{"$f":"(AF80*('CTI INPUTS'!D13))","v":0},{"$f":"(AG80*('CTI INPUTS'!D14))","v":0},{"$f":"(AH80*('CTI INPUTS'!D12))","v":0},{"$f":"(AI80*('CTI INPUTS'!D13))","v":0},{"$f":"(AJ80*('CTI INPUTS'!D14))","v":0},null,{"$f":"AL80*'CTI INPUTS'!D42","v":0},{"$f":"AM80*'CTI INPUTS'!D43","v":0},{"$f":"AN80*'CTI INPUTS'!D44","v":0},{"$f":"AS80*'CTI INPUTS'!D45","v":0},{"$f":"AO80*'CTI INPUTS'!D42","v":0},{"$f":"AP80*'CTI INPUTS'!D43","v":0},{"$f":"AQ80*'CTI INPUTS'!D44","v":0},{"$f":"AT80*'CTI INPUTS'!D45","v":0}]
[null,null,"10in",{"$f":"ProjectData!I46","v":0},null,{"$f":"(D81*20)*2","v":0},null,0,{"$f":"(D81*4)*2","v":0},null,{"$f":"D81*'CTI INPUTS'!AB17","v":0},{"$f":"D81*'CTI INPUTS'!AD17","v":0},null,0,0,null,{"$f":"(14*N81)/12","v":0},{"$f":"(14*O81)/12","v":0},null,{"$f":"N81*'CTI INPUTS'!C48","v":0},{"$f":"O81*'CTI INPUTS'!C48","v":0},null,null,null,{"$f":"N81*'CTI INPUTS'!C51","v":0},{"$f":"O81*'CTI INPUTS'!C51","v":0},null,null,null,null,0,0,0,0,0,0,null,0,0,0,0,0,0,null,0,0,null,null,null,null,{"$f":"(F81/4)*'CTI INPUTS'!C33","v":0},{"$f":"(H81*'CTI INPUTS'!C34)+(I81*'CTI INPUTS'!C33)","v":0},null,{"$f":"D81*'CTI INPUTS'!AB32","v":0},{"$f":"D81*'CTI INPUTS'!AC32","v":0},null,{"$f":"N81*'CTI INPUTS'!C37","v":0},{"$f":"N81*'CTI INPUTS'!C38","v":0},{"$f":"N81*'CTI INPUTS'!C39","v":0},{"$f":"O81*'CTI INPUTS'!C37","v":0},{"$f":"O81*'CTI INPUTS'!C38","v":0},{"$f":"O81*'CTI INPUTS'!C39","v":0},null,{"$f":"(AY81*'CTI INPUTS'!C6)/60","v":0},{"$f":"(AZ81*'CTI INPUTS'!C6)/60","v":0},null,{"$f":"(BE81/60)*'CTI INPUTS'!C6","v":0},{"$f":"(BF81/60)*'CTI INPUTS'!C6","v":0},{"$f":"(BG81/60)*'CTI INPUTS'!C6","v":0},{"$f":"(BH81/60)*'CTI INPUTS'!C6","v":0},{"$f":"(BI81/60)*'CTI INPUTS'!C6","v":0},{"$f":"(BJ81/60)*'CTI INPUTS'!C6","v":0},null,{"$f":"(Q81*('CTI INPUTS'!D17))+(T81*('CTI INPUTS'!D18))+(AE81*('CTI INPUTS'!D12))+(AF81*('CTI INPUTS'!D13))+(AG81*('CTI INPUTS'!D14))","v":0},{"$f":"(N81*('CTI INPUTS'!D19))+(T81*('CTI INPUTS'!D18))+(AG81*('CTI INPUTS'!D14))","v":0},{"$f":"(Y81*'CTI INPUTS'!D15)+(N81*'CTI INPUTS'!D16)","v":0},{"$f":"(R81*('CTI INPUTS'!D17))+(U81*('CTI INPUTS'!D18))+(AH81*('CTI INPUTS'!D12))+(AI81*('CTI INPUTS'!D13))+(AJ81*('CTI INPUTS'!D14))","v":0},{"$f":"(O81*('CTI INPUTS'!D19))+(U81*('CTI INPUTS'!D18))+(AJ81*('CTI INPUTS'!D14))","v":0},{"$f":"(Z81*'CTI INPUTS'!D15)+(O81*'CTI INPUTS'!D16)","v":0},null,{"$f":"(AE81*('CTI INPUTS'!D12))","v":0},{"$f":"(AF81*('CTI INPUTS'!D13))","v":0},{"$f":"(AG81*('CTI INPUTS'!D14))","v":0},{"$f":"(AH81*('CTI INPUTS'!D12))","v":0},{"$f":"(AI81*('CTI INPUTS'!D13))","v":0},{"$f":"(AJ81*('CTI INPUTS'!D14))","v":0},null,{"$f":"AL81*'CTI INPUTS'!D42","v":0},{"$f":"AM81*'CTI INPUTS'!D43","v":0},{"$f":"AN81*'CTI INPUTS'!D44","v":0},{"$f":"AS81*'CTI INPUTS'!D45","v":0},{"$f":"AO81*'CTI INPUTS'!D42","v":0},{"$f":"AP81*'CTI INPUTS'!D43","v":0},{"$f":"AQ81*'CTI INPUTS'!D44","v":0},{"$f":"AT81*'CTI INPUTS'!D45","v":0}]
[null,null,"12in",{"$f":"ProjectData!I47","v":60},null,{"$f":"(D82*24)*2","v":2880},null,240,{"$f":"(D82*4)*2","v":480},null,{"$f":"D82*'CTI INPUTS'!AB18","v":960},{"$f":"D82*'CTI INPUTS'!AD18","v":960},null,300,300,null,{"$f":"(16*N82)/12","v":400},{"$f":"(16*O82)/12","v":400},null,{"$f":"N82*'CTI INPUTS'!C48","v":1200},{"$f":"O82*'CTI INPUTS'!C48","v":1200},null,null,null,{"$f":"N82*'CTI INPUTS'!C51","v":1800},{"$f":"O82*'CTI INPUTS'!C51","v":1800},null,null,null,null,1200,1200,1200,1200,1200,1200,null,600,600,600,600,600,600,null,600,600,null,null,null,null,{"$f":"(F82/4)*'CTI INPUTS'!C33","v":360},{"$f":"(H82*'CTI INPUTS'!C34)+(I82*'CTI INPUTS'!C33)","v":288},null,{"$f":"D82*'CTI INPUTS'!AB33","v":48},{"$f":"D82*'CTI INPUTS'!AC33","v":120},null,{"$f":"N82*'CTI INPUTS'!C37","v":1200},{"$f":"N82*'CTI INPUTS'!C38","v":900},{"$f":"N82*'CTI INPUTS'!C39","v":600},{"$f":"O82*'CTI INPUTS'!C37","v":1200},{"$f":"O82*'CTI INPUTS'!C38","v":900},{"$f":"O82*'CTI INPUTS'!C39","v":600},null,{"$f":"(AY82*'CTI INPUTS'!C6)/60","v":600},{"$f":"(AZ82*'CTI INPUTS'!C6)/60","v":480},null,{"$f":"(BE82/60)*'CTI INPUTS'!C6","v":2000},{"$f":"(BF82/60)*'CTI INPUTS'!C6","v":1500},{"$f":"(BG82/60)*'CTI INPUTS'!C6","v":1000},{"$f":"(BH82/60)*'CTI INPUTS'!C6","v":2000},{"$f":"(BI82/60)*'CTI INPUTS'!C6","v":1500},{"$f":"(BJ82/60)*'CTI INPUTS'!C6","v":1000},null,{"$f":"(Q82*('CTI INPUTS'!D17))+(T82*('CTI INPUTS'!D18))+(AE82*('CTI INPUTS'!D12))+(AF82*('CTI INPUTS'!D13))+(AG82*('CTI INPUTS'!D14))","v":5520},{"$f":"(N82*('CTI INPUTS'!D19))+(T82*('CTI INPUTS'!D18))+(AG82*('CTI INPUTS'!D14))","v":3837},{"$f":"(Y82*'CTI INPUTS'!D15)+(N82*'CTI INPUTS'!D16)","v":3000},{"$f":"(R82*('CTI INPUTS'!D17))+(U82*('CTI INPUTS'!D18))+(AH82*('CTI INPUTS'!D12))+(AI82*('CTI INPUTS'!D13))+(AJ82*('CTI INPUTS'!D14))","v":5520},{"$f":"(O82*('CTI INPUTS'!D19))+(U82*('CTI INPUTS'!D18))+(AJ82*('CTI INPUTS'!D14))","v":3837},{"$f":"(Z82*'CTI INPUTS'!D15)+(O82*'CTI INPUTS'!D16)","v":3000},null,{"$f":"(AE82*('CTI INPUTS'!D12))","v":1200},{"$f":"(AF82*('CTI INPUTS'!D13))","v":180},{"$f":"(AG82*('CTI INPUTS'!D14))","v":300},{"$f":"(AH82*('CTI INPUTS'!D12))","v":1200},{"$f":"(AI82*('CTI INPUTS'!D13))","v":180},{"$f":"(AJ82*('CTI INPUTS'!D14))","v":300},null,{"$f":"AL82*'CTI INPUTS'!D42","v":1205.9999999999998},{"$f":"AM82*'CTI INPUTS'!D43","v":420},{"$f":"AN82*'CTI INPUTS'!D44","v":540},{"$f":"AS82*'CTI INPUTS'!D45","v":1650},{"$f":"AO82*'CTI INPUTS'!D42","v":1205.9999999999998},{"$f":"AP82*'CTI INPUTS'!D43","v":420},{"$f":"AQ82*'CTI INPUTS'!D44","v":540},{"$f":"AT82*'CTI INPUTS'!D45","v":1650}]
[null,null,"16in",{"$f":"ProjectData!I48","v":0},null,{"$f":"(D83*24)*2","v":0},null,0,{"$f":"(D83*8)*2","v":0},null,{"$f":"D83*'CTI INPUTS'!AB19","v":0},{"$f":"D83*'CTI INPUTS'!AD19","v":0},null,0,0,null,{"$f":"(20*N83)/12","v":0},{"$f":"(20*O83)/12","v":0},null,{"$f":"N83*'CTI INPUTS'!C48","v":0},{"$f":"O83*'CTI INPUTS'!C48","v":0},null,null,null,{"$f":"N83*'CTI INPUTS'!C51","v":0},{"$f":"O83*'CTI INPUTS'!C51","v":0},null,null,null,null,0,0,0,0,0,0,null,0,0,0,0,0,0,null,0,0,null,null,null,null,{"$f":"(F83/4)*'CTI INPUTS'!C33","v":0},{"$f":"(H83*'CTI INPUTS'!C34)+(I83*'CTI INPUTS'!C33)","v":0},null,{"$f":"D83*'CTI INPUTS'!AB34","v":0},{"$f":"D83*'CTI INPUTS'!AC34","v":0},null,{"$f":"N83*'CTI INPUTS'!C37","v":0},{"$f":"N83*'CTI INPUTS'!C38","v":0},{"$f":"N83*'CTI INPUTS'!C39","v":0},{"$f":"O83*'CTI INPUTS'!C37","v":0},{"$f":"O83*'CTI INPUTS'!C38","v":0},{"$f":"O83*'CTI INPUTS'!C39","v":0},null,{"$f":"(AY83*'CTI INPUTS'!C6)/60","v":0},{"$f":"(AZ83*'CTI INPUTS'!C6)/60","v":0},null,{"$f":"(BE83/60)*'CTI INPUTS'!C6","v":0},{"$f":"(BF83/60)*'CTI INPUTS'!C6","v":0},{"$f":"(BG83/60)*'CTI INPUTS'!C6","v":0},{"$f":"(BH83/60)*'CTI INPUTS'!C6","v":0},{"$f":"(BI83/60)*'CTI INPUTS'!C6","v":0},{"$f":"(BJ83/60)*'CTI INPUTS'!C6","v":0},null,{"$f":"(Q83*('CTI INPUTS'!D17))+(T83*('CTI INPUTS'!D18))+(AE83*('CTI INPUTS'!D12))+(AF83*('CTI INPUTS'!D13))+(AG83*('CTI INPUTS'!D14))","v":0},{"$f":"(N83*('CTI INPUTS'!D19))+(T83*('CTI INPUTS'!D18))+(AG83*('CTI INPUTS'!D14))","v":0},{"$f":"(Y83*'CTI INPUTS'!D15)+(N83*'CTI INPUTS'!D16)","v":0},{"$f":"(R83*('CTI INPUTS'!D17))+(U83*('CTI INPUTS'!D18))+(AH83*('CTI INPUTS'!D12))+(AI83*('CTI INPUTS'!D13))+(AJ83*('CTI INPUTS'!D14))","v":0},{"$f":"(O83*('CTI INPUTS'!D19))+(U83*('CTI INPUTS'!D18))+(AJ83*('CTI INPUTS'!D14))","v":0},{"$f":"(Z83*'CTI INPUTS'!D15)+(O83*'CTI INPUTS'!D16)","v":0},null,{"$f":"(AE83*('CTI INPUTS'!D12))","v":0},{"$f":"(AF83*('CTI INPUTS'!D13))","v":0},{"$f":"(AG83*('CTI INPUTS'!D14))","v":0},{"$f":"(AH83*('CTI INPUTS'!D12))","v":0},{"$f":"(AI83*('CTI INPUTS'!D13))","v":0},{"$f":"(AJ83*('CTI INPUTS'!D14))","v":0},null,{"$f":"AL83*'CTI INPUTS'!D42","v":0},{"$f":"AM83*'CTI INPUTS'!D43","v":0},{"$f":"AN83*'CTI INPUTS'!D44","v":0},{"$f":"AS83*'CTI INPUTS'!D45","v":0},{"$f":"AO83*'CTI INPUTS'!D42","v":0},{"$f":"AP83*'CTI INPUTS'!D43","v":0},{"$f":"AQ83*'CTI INPUTS'!D44","v":0},{"$f":"AT83*'CTI INPUTS'!D45","v":0}]
[null,null,"18in",{"$f":"ProjectData!I49","v":0},null,{"$f":"(D84*24)*2","v":0},null,0,{"$f":"(D84*8)*2","v":0},null,{"$f":"D84*'CTI INPUTS'!AB20","v":0},{"$f":"D84*'CTI INPUTS'!AD20","v":0},null,0,0,null,{"$f":"(22*N84)/12","v":0},{"$f":"(22*O84)/12","v":0},null,{"$f":"N84*'CTI INPUTS'!C48","v":0},{"$f":"O84*'CTI INPUTS'!C48","v":0},null,null,null,{"$f":"N84*'CTI INPUTS'!C51","v":0},{"$f":"O84*'CTI INPUTS'!C51","v":0},null,null,null,null,0,0,0,0,0,0,null,0,0,0,0,0,0,null,0,0,null,null,null,null,{"$f":"(F84/4)*'CTI INPUTS'!C33","v":0},{"$f":"(H84*'CTI INPUTS'!C34)+(I84*'CTI INPUTS'!C33)","v":0},null,{"$f":"D84*'CTI INPUTS'!AB35","v":0},{"$f":"D84*'CTI INPUTS'!AC35","v":0},null,{"$f":"N84*'CTI INPUTS'!C37","v":0},{"$f":"N84*'CTI INPUTS'!C38","v":0},{"$f":"N84*'CTI INPUTS'!C39","v":0},{"$f":"O84*'CTI INPUTS'!C37","v":0},{"$f":"O84*'CTI INPUTS'!C38","v":0},{"$f":"O84*'CTI INPUTS'!C39","v":0},null,{"$f":"(AY84*'CTI INPUTS'!C6)/60","v":0},{"$f":"(AZ84*'CTI INPUTS'!C6)/60","v":0},null,{"$f":"(BE84/60)*'CTI INPUTS'!C6","v":0},{"$f":"(BF84/60)*'CTI INPUTS'!C6","v":0},{"$f":"(BG84/60)*'CTI INPUTS'!C6","v":0},{"$f":"(BH84/60)*'CTI INPUTS'!C6","v":0},{"$f":"(BI84/60)*'CTI INPUTS'!C6","v":0},{"$f":"(BJ84/60)*'CTI INPUTS'!C6","v":0},null,{"$f":"(Q84*('CTI INPUTS'!D17))+(T84*('CTI INPUTS'!D18))+(AE84*('CTI INPUTS'!D12))+(AF84*('CTI INPUTS'!D13))+(AG84*('CTI INPUTS'!D14))","v":0},{"$f":"(N84*('CTI INPUTS'!D19))+(T84*('CTI INPUTS'!D18))+(AG84*('CTI INPUTS'!D14))","v":0},{"$f":"(Y84*'CTI INPUTS'!D15)+(N84*'CTI INPUTS'!D16)","v":0},{"$f":"(R84*('CTI INPUTS'!D17))+(U84*('CTI INPUTS'!D18))+(AH84*('CTI INPUTS'!D12))+(AI84*('CTI INPUTS'!D13))+(AJ84*('CTI INPUTS'!D14))","v":0},{"$f":"(O84*('CTI INPUTS'!D19))+(U84*('CTI INPUTS'!D18))+(AJ84*('CTI INPUTS'!D14))","v":0},{"$f":"(Z84*'CTI INPUTS'!D15)+(O84*'CTI INPUTS'!D16)","v":0},null,{"$f":"(AE84*('CTI INPUTS'!D12))","v":0},{"$f":"(AF84*('CTI INPUTS'!D13))","v":0},{"$f":"(AG84*('CTI INPUTS'!D14))","v":0},{"$f":"(AH84*('CTI INPUTS'!D12))","v":0},{"$f":"(AI84*('CTI INPUTS'!D13))","v":0},{"$f":"(AJ84*('CTI INPUTS'!D14))","v":0},null,{"$f":"AL84*'CTI INPUTS'!D42","v":0},{"$f":"AM84*'CTI INPUTS'!D43","v":0},{"$f":"AN84*'CTI INPUTS'!D44","v":0},{"$f":"AS84*'CTI INPUTS'!D45","v":0},{"$f":"AO84*'CTI INPUTS'!D42","v":0},{"$f":"AP84*'CTI INPUTS'!D43","v":0},{"$f":"AQ84*'CTI INPUTS'!D44","v":0},{"$f":"AT84*'CTI INPUTS'!D45","v":0}]
[null,null,"20in",{"$f":"ProjectData!I50","v":0},null,{"$f":"(D85*28)*2","v":0},null,0,{"$f":"(D85*8)*2","v":0},null,{"$f":"D85*'CTI INPUTS'!AB21","v":0},{"$f":"D85*'CTI INPUTS'!AD21","v":0},null,0,0,null,{"$f":"(24*N85)/12","v":0},{"$f":"(24*O85)/12","v":0},null,{"$f":"N85*'CTI INPUTS'!C48","v":0},{"$f":"O85*'CTI INPUTS'!C48","v":0},null,null,null,{"$f":"N85*'CTI INPUTS'!C51","v":0},{"$f":"O85*'CTI INPUTS'!C51","v":0},null,null,null,null,0,0,0,0,0,0,null,0,0,0,0,0,0,null,0,0,null,null,null,null,{"$f":"(F85/4)*'CTI INPUTS'!C33","v":0},{"$f":"(H85*'CTI INPUTS'!C34)+(I85*'CTI INPUTS'!C33)","v":0},null,{"$f":"D85*'CTI INPUTS'!AB36","v":0},{"$f":"D85*'CTI INPUTS'!AC36","v":0},null,{"$f":"N85*'CTI INPUTS'!C37","v":0},{"$f":"N85*'CTI INPUTS'!C38","v":0},{"$f":"N85*'CTI INPUTS'!C39","v":0},{"$f":"O85*'CTI INPUTS'!C37","v":0},{"$f":"O85*'CTI INPUTS'!C38","v":0},{"$f":"O85*'CTI INPUTS'!C39","v":0},null,{"$f":"(AY85*'CTI INPUTS'!C6)/60","v":0},{"$f":"(AZ85*'CTI INPUTS'!C6)/60","v":0},null,{"$f":"(BE85/60)*'CTI INPUTS'!C6","v":0},{"$f":"(BF85/60)*'CTI INPUTS'!C6","v":0},{"$f":"(BG85/60)*'CTI INPUTS'!C6","v":0},{"$f":"(BH85/60)*'CTI INPUTS'!C6","v":0},{"$f":"(BI85/60)*'CTI INPUTS'!C6","v":0},{"$f":"(BJ85/60)*'CTI INPUTS'!C6","v":0},null,{"$f":"(Q85*('CTI INPUTS'!D17))+(T85*('CTI INPUTS'!D18))+(AE85*('CTI INPUTS'!D12))+(AF85*('CTI INPUTS'!D13))+(AG85*('CTI INPUTS'!D14))","v":0},{"$f":"(N85*('CTI INPUTS'!D19))+(T85*('CTI INPUTS'!D18))+(AG85*('CTI INPUTS'!D14))","v":0},{"$f":"(Y85*'CTI INPUTS'!D15)+(N85*'CTI INPUTS'!D16)","v":0},{"$f":"(R85*('CTI INPUTS'!D17))+(U85*('CTI INPUTS'!D18))+(AH85*('CTI INPUTS'!D12))+(AI85*('CTI INPUTS'!D13))+(AJ85*('CTI INPUTS'!D14))","v":0},{"$f":"(O85*('CTI INPUTS'!D19))+(U85*('CTI INPUTS'!D18))+(AJ85*('CTI INPUTS'!D14))","v":0},{"$f":"(Z85*'CTI INPUTS'!D15)+(O85*'CTI INPUTS'!D16)","v":0},null,{"$f":"(AE85*('CTI INPUTS'!D12))","v":0},{"$f":"(AF85*('CTI INPUTS'!D13))","v":0},{"$f":"(AG85*('CTI INPUTS'!D14))","v":0},{"$f":"(AH85*('CTI INPUTS'!D12))","v":0},{"$f":"(AI85*('CTI INPUTS'!D13))","v":0},{"$f":"(AJ85*('CTI INPUTS'!D14))","v":0},null,{"$f":"AL85*'CTI INPUTS'!D42","v":0},{"$f":"AM85*'CTI INPUTS'!D43","v":0},{"$f":"AN85*'CTI INPUTS'!D44","v":0},{"$f":"AS85*'CTI INPUTS'!D45","v":0},{"$f":"AO85*'CTI INPUTS'!D42","v":0},{"$f":"AP85*'CTI INPUTS'!D43","v":0},{"$f":"AQ85*'CTI INPUTS'!D44","v":0},{"$f":"AT85*'CTI INPUTS'!D45","v":0}]
[null,null,"24in",{"$f":"ProjectData!I51","v":0},null,{"$f":"(D86*28)*2","v":0},null,0,{"$f":"(D86*8)*2","v":0},null,{"$f":"D86*'CTI INPUTS'!AB22","v":0},{"$f":"D86*'CTI INPUTS'!AD22","v":0},null,0,0,null,{"$f":"(28*N86)/12","v":0},{"$f":"(28*O86)/12","v":0},null,{"$f":"N86*'CTI INPUTS'!C48","v":0},{"$f":"O86*'CTI INPUTS'!C48","v":0},null,null,null,{"$f":"N86*'CTI INPUTS'!C51","v":0},{"$f":"O86*'CTI INPUTS'!C51","v":0},null,null,null,null,0,0,0,0,0,0,null,0,0,0,0,0,0,null,0,0,null,null,null,null,{"$f":"(F86/4)*'CTI INPUTS'!C33","v":0},{"$f":"(H86*'CTI INPUTS'!C34)+(I86*'CTI INPUTS'!C33)","v":0},null,{"$f":"D86*'CTI INPUTS'!AB37","v":0},{"$f":"D86*'CTI INPUTS'!AC37","v":0},null,{"$f":"N86*'CTI INPUTS'!C37","v":0},{"$f":"N86*'CTI INPUTS'!C38","v":0},{"$f":"N86*'CTI INPUTS'!C39","v":0},{"$f":"O86*'CTI INPUTS'!C37","v":0},{"$f":"O86*'CTI INPUTS'!C38","v":0},{"$f":"O86*'CTI INPUTS'!C39","v":0},null,{"$f":"(AY86*'CTI INPUTS'!C6)/60","v":0},{"$f":"(AZ86*'CTI INPUTS'!C6)/60","v":0},null,{"$f":"(BE86/60)*'CTI INPUTS'!C6","v":0},{"$f":"(BF86/60)*'CTI INPUTS'!C6","v":0},{"$f":"(BG86/60)*'CTI INPUTS'!C6","v":0},{"$f":"(BH86/60)*'CTI INPUTS'!C6","v":0},{"$f":"(BI86/60)*'CTI INPUTS'!C6","v":0},{"$f":"(BJ86/60)*'CTI INPUTS'!C6","v":0},null,{"$f":"(Q86*('CTI INPUTS'!D17))+(T86*('CTI INPUTS'!D18))+(AE86*('CTI INPUTS'!D12))+(AF86*('CTI INPUTS'!D13))+(AG86*('CTI INPUTS'!D14))","v":0},{"$f":"(N86*('CTI INPUTS'!D19))+(T86*('CTI INPUTS'!D18))+(AG86*('CTI INPUTS'!D14))","v":0},{"$f":"(Y86*'CTI INPUTS'!D15)+(N86*'CTI INPUTS'!D16)","v":0},{"$f":"(R86*('CTI INPUTS'!D17))+(U86*('CTI INPUTS'!D18))+(AH86*('CTI INPUTS'!D12))+(AI86*('CTI INPUTS'!D13))+(AJ86*('CTI INPUTS'!D14))","v":0},{"$f":"(O86*('CTI INPUTS'!D19))+(U86*('CTI INPUTS'!D18))+(AJ86*('CTI INPUTS'!D14))","v":0},{"$f":"(Z86*'CTI INPUTS'!D15)+(O86*'CTI INPUTS'!D16)","v":0},null,{"$f":"(AE86*('CTI INPUTS'!D12))","v":0},{"$f":"(AF86*('CTI INPUTS'!D13))","v":0},{"$f":"(AG86*('CTI INPUTS'!D14))","v":0},{"$f":"(AH86*('CTI INPUTS'!D12))","v":0},{"$f":"(AI86*('CTI INPUTS'!D13))","v":0},{"$f":"(AJ86*('CTI INPUTS'!D14))","v":0},null,{"$f":"AL86*'CTI INPUTS'!D42","v":0},{"$f":"AM86*'CTI INPUTS'!D43","v":0},{"$f":"AN86*'CTI INPUTS'!D44","v":0},{"$f":"AS86*'CTI INPUTS'!D45","v":0},{"$f":"AO86*'CTI INPUTS'!D42","v":0},{"$f":"AP86*'CTI INPUTS'!D43","v":0},{"$f":"AQ86*'CTI INPUTS'!D44","v":0},{"$f":"AT86*'CTI INPUTS'!D45","v":0}]
[null,null,"30in",{"$f":"ProjectData!I52","v":0},null,{"$f":"(D87*32)*2","v":0},null,0,{"$f":"(D87*12)*2","v":0},null,{"$f":"D87*'CTI INPUTS'!AB23","v":0},{"$f":"D87*'CTI INPUTS'!AD23","v":0},null,0,0,null,{"$f":"(34*N87)/12","v":0},{"$f":"(34*O87)/12","v":0},null,{"$f":"N87*'CTI INPUTS'!C48","v":0},{"$f":"O87*'CTI INPUTS'!C48","v":0},null,null,null,{"$f":"N87*'CTI INPUTS'!C51","v":0},{"$f":"O87*'CTI INPUTS'!C51","v":0},null,null,null,null,0,0,0,0,0,0,null,0,0,0,0,0,0,null,0,0,null,null,null,null,{"$f":"(F87/4)*'CTI INPUTS'!C33","v":0},{"$f":"(H87*'CTI INPUTS'!C34)+(I87*'CTI INPUTS'!C33)","v":0},null,{"$f":"D87*'CTI INPUTS'!AB38","v":0},{"$f":"D87*'CTI INPUTS'!AC38","v":0},null,{"$f":"N87*'CTI INPUTS'!C37","v":0},{"$f":"N87*'CTI INPUTS'!C38","v":0},{"$f":"N87*'CTI INPUTS'!C39","v":0},{"$f":"O87*'CTI INPUTS'!C37","v":0},{"$f":"O87*'CTI INPUTS'!C38","v":0},{"$f":"O87*'CTI INPUTS'!C39","v":0},null,{"$f":"(AY87*'CTI INPUTS'!C6)/60","v":0},{"$f":"(AZ87*'CTI INPUTS'!C6)/60","v":0},null,{"$f":"(BE87/60)*'CTI INPUTS'!C6","v":0},{"$f":"(BF87/60)*'CTI INPUTS'!C6","v":0},{"$f":"(BG87/60)*'CTI INPUTS'!C6","v":0},{"$f":"(BH87/60)*'CTI INPUTS'!C6","v":0},{"$f":"(BI87/60)*'CTI INPUTS'!C6","v":0},{"$f":"(BJ87/60)*'CTI INPUTS'!C6","v":0},null,{"$f":"(Q87*('CTI INPUTS'!D17))+(T87*('CTI INPUTS'!D18))+(AE87*('CTI INPUTS'!D12))+(AF87*('CTI INPUTS'!D13))+(AG87*('CTI INPUTS'!D14))","v":0},{"$f":"(N87*('CTI INPUTS'!D19))+(T87*('CTI INPUTS'!D18))+(AG87*('CTI INPUTS'!D14))","v":0},{"$f":"(Y87*'CTI INPUTS'!D15)+(N87*'CTI INPUTS'!D16)","v":0},{"$f":"(R87*('CTI INPUTS'!D17))+(U87*('CTI INPUTS'!D18))+(AH87*('CTI INPUTS'!D12))+(AI87*('CTI INPUTS'!D13))+(AJ87*('CTI INPUTS'!D14))","v":0},{"$f":"(O87*('CTI INPUTS'!D19))+(U87*('CTI INPUTS'!D18))+(AJ87*('CTI INPUTS'!D14))","v":0},{"$f":"(Z87*'CTI INPUTS'!D15)+(O87*'CTI INPUTS'!D16)","v":0},null,{"$f":"(AE87*('CTI INPUTS'!D12))","v":0},{"$f":"(AF87*('CTI INPUTS'!D13))","v":0},{"$f":"(AG87*('CTI INPUTS'!D14))","v":0},{"$f":"(AH87*('CTI INPUTS'!D12))","v":0},{"$f":"(AI87*('CTI INPUTS'!D13))","v":0},{"$f":"(AJ87*('CTI INPUTS'!D14))","v":0},null,{"$f":"AL87*'CTI INPUTS'!D42","v":0},{"$f":"AM87*'CTI INPUTS'!D43","v":0},{"$f":"AN87*'CTI INPUTS'!D44","v":0},{"$f":"AS87*'CTI INPUTS'!D45","v":0},{"$f":"AO87*'CTI INPUTS'!D42","v":0},{"$f":"AP87*'CTI INPUTS'!D43","v":0},{"$f":"AQ87*'CTI INPUTS'!D44","v":0},{"$f":"AT87*'CTI INPUTS'!D45","v":0}]
[null,null,"36in",{"$f":"ProjectData!I53","v":0},null,{"$f":"(D88*32)*2","v":0},null,0,{"$f":"(D88*12)*2","v":0},null,{"$f":"D88*'CTI INPUTS'!AB24","v":0},{"$f":"D88*'CTI INPUTS'!AD24","v":0},null,0,0,null,{"$f":"(40*N88)/12","v":0},{"$f":"(40*O88)/12","v":0},null,{"$f":"N88*'CTI INPUTS'!C48","v":0},{"$f":"O88*'CTI INPUTS'!C48","v":0},null,null,null,{"$f":"N88*'CTI INPUTS'!C51","v":0},{"$f":"O88*'CTI INPUTS'!C51","v":0},null,null,null,null,0,0,0,0,0,0,null,0,0,0,0,0,0,null,0,0,null,null,null,null,{"$f":"(F88/4)*'CTI INPUTS'!C33","v":0},{"$f":"(H88*'CTI INPUTS'!C34)+(I88*'CTI INPUTS'!C33)","v":0},null,{"$f":"D88*'CTI INPUTS'!AB39","v":0},{"$f":"D88*'CTI INPUTS'!AC39","v":0},null,{"$f":"N88*'CTI INPUTS'!C37","v":0},{"$f":"N88*'CTI INPUTS'!C38","v":0},{"$f":"N88*'CTI INPUTS'!C39","v":0},{"$f":"O88*'CTI INPUTS'!C37","v":0},{"$f":"O88*'CTI INPUTS'!C38","v":0},{"$f":"O88*'CTI INPUTS'!C39","v":0},null,{"$f":"(AY88*'CTI INPUTS'!C6)/60","v":0},{"$f":"(AZ88*'CTI INPUTS'!C6)/60","v":0},null,{"$f":"(BE88/60)*'CTI INPUTS'!C6","v":0},{"$f":"(BF88/60)*'CTI INPUTS'!C6","v":0},{"$f":"(BG88/60)*'CTI INPUTS'!C6","v":0},{"$f":"(BH88/60)*'CTI INPUTS'!C6","v":0},{"$f":"(BI88/60)*'CTI INPUTS'!C6","v":0},{"$f":"(BJ88/60)*'CTI INPUTS'!C6","v":0},null,{"$f":"(Q88*('CTI INPUTS'!D17))+(T88*('CTI INPUTS'!D18))+(AE88*('CTI INPUTS'!D12))+(AF88*('CTI INPUTS'!D13))+(AG88*('CTI INPUTS'!D14))","v":0},{"$f":"(N88*('CTI INPUTS'!D19))+(T88*('CTI INPUTS'!D18))+(AG88*('CTI INPUTS'!D14))","v":0},{"$f":"(Y88*'CTI INPUTS'!D15)+(N88*'CTI INPUTS'!D16)","v":0},{"$f":"(R88*('CTI INPUTS'!D17))+(U88*('CTI INPUTS'!D18))+(AH88*('CTI INPUTS'!D12))+(AI88*('CTI INPUTS'!D13))+(AJ88*('CTI INPUTS'!D14))","v":0},{"$f":"(O88*('CTI INPUTS'!D19))+(U88*('CTI INPUTS'!D18))+(AJ88*('CTI INPUTS'!D14))","v":0},{"$f":"(Z88*'CTI INPUTS'!D15)+(O88*'CTI INPUTS'!D16)","v":0},null,{"$f":"(AE88*('CTI INPUTS'!D12))","v":0},{"$f":"(AF88*('CTI INPUTS'!D13))","v":0},{"$f":"(AG88*('CTI INPUTS'!D14))","v":0},{"$f":"(AH88*('CTI INPUTS'!D12))","v":0},{"$f":"(AI88*('CTI INPUTS'!D13))","v":0},{"$f":"(AJ88*('CTI INPUTS'!D14))","v":0},null,{"$f":"AL88*'CTI INPUTS'!D42","v":0},{"$f":"AM88*'CTI INPUTS'!D43","v":0},{"$f":"AN88*'CTI INPUTS'!D44","v":0},{"$f":"AS88*'CTI INPUTS'!D45","v":0},{"$f":"AO88*'CTI INPUTS'!D42","v":0},{"$f":"AP88*'CTI INPUTS'!D43","v":0},{"$f":"AQ88*'CTI INPUTS'!D44","v":0},{"$f":"AT88*'CTI INPUTS'!D45","v":0}]
[null,null,null,null,null,{"$f":"SUM(F77:F88)","v":2880},null,{"$f":"SUM((H77:H88)+(I77:I88))","v":720},null,null,{"$f":"SUM(K77:K88)","v":960},{"$f":"SUM(L77:L88)","v":960},null,{"$f":"SUM(N77:N88)","v":300},{"$f":"SUM(O77:O88)","v":300},null,{"$f":"SUM(Q77:Q88)","v":400},{"$f":"SUM(R77:R88)","v":400},null,{"$f":"SUM(T77:T88)","v":1200},{"$f":"SUM(U77:U88)","v":1200},null,null,null,{"$f":"SUM(Y77:Y88)","v":1800},{"$f":"SUM(Z77:Z88)","v":1800},null,null,null,null,{"$f":"SUM((AE77:AE88)+(AF77:AF88)+(AG77:AG88))","v":3600},null,null,{"$f":"SUM((AH77:AH88)+(AI77:AI88)+(AJ77:AJ88))","v":3600},null,null,null,{"$f":"SUM((AL77:AL88)+(AM77:AM88)+(AN77:AN88))","v":1800},null,null,{"$f":"SUM((AO77:AO88)+(AP77:AP88)+(AQ77:AQ88))","v":1800},null,null,null,{"$f":"SUM(AS77:AS88)","v":600},{"$f":"SUM(AT77:AT88)","v":600},null,null,null,null,{"$f":"SUM(AY77:AY88)","v":360},{"$f":"SUM(AZ77:AZ88)","v":288},null,{"$f":"SUM(BB77:BB88)","v":48},{"$f":"SUM(BC77:BC88)","v":120},null,{"$f":"SUM(BE77:BE88)","v":1200},900,600,1200,900,600,null,{"$f":"SUM(BL77:BL88)","v":600},{"$f":"SUM(BM77:BM88)","v":480},null,{"$f":"SUM(BO77:BO88)","v":2000},1500,1000,2000,1500,1000,null,{"$f":"SUM(BV77:BV88)","v":5520},3837,3000,5520,3837,3000,null,{"$f":"SUM((CC77:CC88)+(CD77:CD88)+(CE77:CE88))","v":1680},null,null,{"$f":"SUM((CF77:CF88)+(CG77:CG88)+(CH77:CH88))","v":1680},null,null,null,{"$f":"SUM((CJ77:CJ88)+(CK77:CK88)+(CL77:CL88))","v":2166},null,null,{"$f":"SUM(CM77:CM88)","v":1650},{"$f":"SUM((CN77:CN88)+(CO77:CO88)+(CP77:CP88))","v":2166},null,null,{"$f":"SUM(CQ77:CQ88)","v":1650},null,{"$f":"SUM(CS77:CS88)","v":0},{"$f":"SUM(CT77:CT88)","v":0},{"$f":"SUM(CU77:CU88)","v":0}]
[]
[null,"HORIZONTAL CROSS",null,null,null,"SPLICE",null,"POSI-LOK",null,null,"FITTING FABRICATION",null,null,"SUPPORT QUANTITY",null,null,"STRUT L/FT",null,null,"ATR HANGER (L/FT)",null,null,null,null,"WIRE HANGER (L/FT)",null,null,null,null,null,"VE2 : ATR HARDWARE QUANTITY",null,null,"TSS : ATR HARDWARE QUANTITY",null,null,null,"HOLD DOWN & HDWR QUANTITY",null,null,"TSS: HOLD DOWN & HDWR QUANTITY",null,null,null,"H-DOWN CLIP QUANTITY",null,null,null,null,null,"SPLICE INSTALLATION TIME (MIN)",null,null,"FITTING FAB. TIME (MIN)",null,null,"VE2 : SUPPORT INSTAL TIME (MIN)",null,null,"TSS: SUPPORT INSTALLATION TIME (MIN)",null,null,null,"SPLICE INSTALLATION COST ($)",null,null,"SUPPORT INSTALLATION COST ($)",null,null,"TSS: SUPPORT INSTALLATION COST ($)",null,null,null,"SUPPORT COST ($)",null,null,"TSS: SUPPORT COST ($)",null,null,null,"ATR HARDWARE COST $",null,null,"TSS: ATR HARDWARE COST $",null,null,null,"HOLD DOWN CLAMPS & HARDWARE COST ($)",null,null,null,"TSS: HOLD DOWN CLAMPS & HARDWARE COST ($)",null,null,null,null,"SUPPORT WEIGHT (LBS)"]
[]
[null,"HEIGHT","WIDTH","QUANTITY",null,"WSKIT",null,"PLOK","WSKIT",null,"CUTS  QTY","WSKIT (pcs)",null,"FAB (VE2)","C2G (TSS)",null,"FAB (VE2)","C2G (TSS)",null,"FAB (VE2)","C2G (TSS)",null,null,null,"FAB (VE2)","C2G (TSS)",null,null,null,null,"SQ WSHR","FLT WSHR","HEX NUT","SQ WSHR","FLT WSHR","HEX NUT",null,"FLXW","25HX","25NC","FLXW","25HX","25NC",null,"VE2 : SRC (pc)","TSS : SRC (pc)",null,null,null,null,"WSKIT","POSI-LOK + WSKIT",null,"CUTS ","WSKIT",null,"STRUT","URH","WIRE","STRUT","URH","WIRE",null,"WSKIT","POSI-LOK + WSKIT",null,"VE2 : STRUT","VE2 : URH","VE2 : WIRE","TSS : STRUT","TSS : URH","TSS : WIRE",null,"STRUT","URH","WIRE","STRUT","URH","WIRE",null,"SQUARE WSHR","FLAT WSHR","HEX NUT","SQUARE WSHR","FLAT WSHR","HEX NUT",null,"FLXW","25HX","25NC","SRC CLIP","FLXW","25HX","25NC","SRC CLIP",null,"STRUT","URH","WIRE"]
[null,"2/4/6in","2in",{"$f":"ProjectData!K42","v":0},null,{"$f":"(D94*8)*3","v":0},null,{"$f":"(D94*2)*3","v":0},{"$f":"(D94*0)*3","v":0},null,{"$f":"D94*'CTI INPUTS'!AG13","v":0},{"$f":"D94*'CTI INPUTS'!AI13","v":0},null,{"$f":"D94*6","v":0},{"$f":"D94*6","v":0},null,{"$f":"(6*N94)/12","v":0},{"$f":"(6*O94)/12","v":0},null,{"$f":"N94*'CTI INPUTS'!C48","v":0},{"$f":"O94*'CTI INPUTS'!C48","v":0},null,null,null,{"$f":"N94*'CTI INPUTS'!C51","v":0},{"$f":"O94*'CTI INPUTS'!C51","v":0},null,null,null,null,{"$f":"N94*4","v":0},{"$f":"N94*4","v":0},{"$f":"N94*4","v":0},{"$f":"O94*4","v":0},{"$f":"O94*4","v":0},{"$f":"O94*4","v":0},null,{"$f":"N94*2","v":0},{"$f":"N94*2","v":0},{"$f":"N94*2","v":0},{"$f":"O94*2","v":0},{"$f":"O94*2","v":0},{"$f":"O94*2","v":0},null,{"$f":"N94*1","v":0},{"$f":"O94*1","v":0},null,null,null,null,{"$f":"(F94/4)*'CTI INPUTS'!C33","v":0},{"$f":"(H94*'CTI INPUTS'!C34)+(I94*'CTI INPUTS'!C33)","v":0},null,{"$f":"D94*'CTI INPUTS'!AG28","v":0},{"$f":"D94*'CTI INPUTS'!AH28","v":0},null,{"$f":"N94*'CTI INPUTS'!C37","v":0},{"$f":"N94*'CTI INPUTS'!C38","v":0},{"$f":"N94*'CTI INPUTS'!C39","v":0},{"$f":"O94*'CTI INPUTS'!C37","v":0},{"$f":"O94*'CTI INPUTS'!C38","v":0},{"$f":"O94*'CTI INPUTS'!C39","v":0},null,{"$f":"(AY94*'CTI INPUTS'!C6)/60","v":0},{"$f":"(AZ94*'CTI INPUTS'!C6)/60","v":0},null,{"$f":"(BE94/60)*'CTI INPUTS'!C6","v":0},{"$f":"(BF94/60)*'CTI INPUTS'!C6","v":0},{"$f":"(BG94/60)*'CTI INPUTS'!C6","v":0},{"$f":"(BH94/60)*'CTI INPUTS'!C6","v":0},{"$f":"(BI94/60)*'CTI INPUTS'!C6","v":0},{"$f":"(BJ94/60)*'CTI INPUTS'!C6","v":0},null,{"$f":"(Q94*('CTI INPUTS'!D17))+(T94*('CTI INPUTS'!D18))+(AE94*('CTI INPUTS'!D12))+(AF94*('CTI INPUTS'!D13))+(AG94*('CTI INPUTS'!D14))","v":0},{"$f":"(N94*('CTI INPUTS'!D19))+(T94*('CTI INPUTS'!D18))+(AG94*('CTI INPUTS'!D14))","v":0},{"$f":"(Y94*'CTI INPUTS'!D15)+(N94*'CTI INPUTS'!D16)","v":0},{"$f":"(R94*('CTI INPUTS'!D17))+(U94*('CTI INPUTS'!D18))+(AH94*('CTI INPUTS'!D12))+(AI94*('CTI INPUTS'!D13))+(AJ94*('CTI INPUTS'!D14))","v":0},{"$f":"(O94*('CTI INPUTS'!D19))+(U94*('CTI INPUTS'!D18))+(AJ94*('CTI INPUTS'!D14))","v":0},{"$f":"(Z94*'CTI INPUTS'!D15)+(O94*'CTI INPUTS'!D16)","v":0},null,{"$f":"(AE94*('CTI INPUTS'!D12))","v":0},{"$f":"(AF94*('CTI INPUTS'!D13))","v":0},{"$f":"(AG94*('CTI INPUTS'!D14))","v":0},{"$f":"(AH94*('CTI INPUTS'!D12))","v":0},{"$f":"(AI94*('CTI INPUTS'!D13))","v":0},{"$f":"(AJ94*('CTI INPUTS'!D14))","v":0},null,{"$f":"AL94*'CTI INPUTS'!D42","v":0},{"$f":"AM94*'CTI INPUTS'!D43","v":0},{"$f":"AN94*'CTI INPUTS'!D44","v":0},{"$f":"AS94*'CTI INPUTS'!D45","v":0},{"$f":"AO94*'CTI INPUTS'!D42","v":0},{"$f":"AP94*'CTI INPUTS'!D43","v":0},{"$f":"AQ94*'CTI INPUTS'!D44","v":0},{"$f":"AT94*'CTI INPUTS'!D45","v":0}]
[null,null,"4in",{"$f":"ProjectData!K43","v":0},null,{"$f":"(D95*16)*3","v":0},null,0,{"$f":"(D95*0)*3","v":0},null,{"$f":"D95*'CTI INPUTS'!AG14","v":0},{"$f":"D95*'CTI INPUTS'!AI14","v":0},null,0,0,null,{"$f":"(8*N95)/12","v":0},{"$f":"(8*O95)/12","v":0},null,{"$f":"N95*'CTI INPUTS'!C48","v":0},{"$f":"O95*'CTI INPUTS'!C48","v":0},null,null,null,{"$f":"N95*'CTI INPUTS'!C51","v":0},{"$f":"O95*'CTI INPUTS'!C51","v":0},null,null,null,null,{"$f":"N95*4","v":0},{"$f":"N95*4","v":0},{"$f":"N95*4","v":0},{"$f":"O95*4","v":0},{"$f":"O95*4","v":0},{"$f":"O95*4","v":0},null,{"$f":"N95*2","v":0},{"$f":"N95*2","v":0},{"$f":"N95*2","v":0},{"$f":"O95*2","v":0},{"$f":"O95*2","v":0},{"$f":"O95*2","v":0},null,{"$f":"N95*2","v":0},{"$f":"O95*2","v":0},null,null,null,null,{"$f":"(F95/4)*'CTI INPUTS'!C33","v":0},{"$f":"(H95*'CTI INPUTS'!C34)+(I95*'CTI INPUTS'!C33)","v":0},null,{"$f":"D95*'CTI INPUTS'!AG29","v":0},{"$f":"D95*'CTI INPUTS'!AH29","v":0},null,{"$f":"N95*'CTI INPUTS'!C37","v":0},{"$f":"N95*'CTI INPUTS'!C38","v":0},{"$f":"N95*'CTI INPUTS'!C39","v":0},{"$f":"O95*'CTI INPUTS'!C37","v":0},{"$f":"O95*'CTI INPUTS'!C38","v":0},{"$f":"O95*'CTI INPUTS'!C39","v":0},null,{"$f":"(AY95*'CTI INPUTS'!C6)/60","v":0},{"$f":"(AZ95*'CTI INPUTS'!C6)/60","v":0},null,{"$f":"(BE95/60)*'CTI INPUTS'!C6","v":0},{"$f":"(BF95/60)*'CTI INPUTS'!C6","v":0},{"$f":"(BG95/60)*'CTI INPUTS'!C6","v":0},{"$f":"(BH95/60)*'CTI INPUTS'!C6","v":0},{"$f":"(BI95/60)*'CTI INPUTS'!C6","v":0},{"$f":"(BJ95/60)*'CTI INPUTS'!C6","v":0},null,{"$f":"(Q95*('CTI INPUTS'!D17))+(T95*('CTI INPUTS'!D18))+(AE95*('CTI INPUTS'!D12))+(AF95*('CTI INPUTS'!D13))+(AG95*('CTI INPUTS'!D14))","v":0},{"$f":"(N95*('CTI INPUTS'!D20))+(T95*('CTI INPUTS'!D19))+(AG95*('CTI INPUTS'!D15))","v":0},{"$f":"(Y95*'CTI INPUTS'!D16)+(N95*'CTI INPUTS'!D17)","v":0},{"$f":"(R95*('CTI INPUTS'!D17))+(U95*('CTI INPUTS'!D18))+(AH95*('CTI INPUTS'!D12))+(AI95*('CTI INPUTS'!D13))+(AJ95*('CTI INPUTS'!D14))","v":0},{"$f":"(O95*('CTI INPUTS'!D19))+(U95*('CTI INPUTS'!D18))+(AJ95*('CTI INPUTS'!D14))","v":0},{"$f":"(Z95*'CTI INPUTS'!D15)+(O95*'CTI INPUTS'!D16)","v":0},null,{"$f":"(AE95*('CTI INPUTS'!D12))","v":0},{"$f":"(AF95*('CTI INPUTS'!D13))","v":0},{"$f":"(AG95*('CTI INPUTS'!D14))","v":0},{"$f":"(AH95*('CTI INPUTS'!D12))","v":0},{"$f":"(AI95*('CTI INPUTS'!D13))","v":0},{"$f":"(AJ95*('CTI INPUTS'!D14))","v":0},null,{"$f":"AL95*'CTI INPUTS'!D42","v":0},{"$f":"AM95*'CTI INPUTS'!D43","v":0},{"$f":"AN95*'CTI INPUTS'!D44","v":0},{"$f":"AS95*'CTI INPUTS'!D45","v":0},{"$f":"AO95*'CTI INPUTS'!D42","v":0},{"$f":"AP95*'CTI INPUTS'!D43","v":0},{"$f":"AQ95*'CTI INPUTS'!D44","v":0},{"$f":"AT95*'CTI INPUTS'!D45","v":0}]
[null,null,"6in",{"$f":"ProjectData!K44","v":0},null,{"$f":"(D96*16)*3","v":0},null,0,{"$f":"(D96*0)*3","v":0},null,{"$f":"D96*'CTI INPUTS'!AG15","v":0},{"$f":"D96*'CTI INPUTS'!AI15","v":0},null,0,0,null,{"$f":"(10*N96)/12","v":0},{"$f":"(10*O96)/12","v":0},null,{"$f":"N96*'CTI INPUTS'!C48","v":0},{"$f":"O96*'CTI INPUTS'!C48","v":0},null,null,null,{"$f":"N96*'CTI INPUTS'!C51","v":0},{"$f":"O96*'CTI INPUTS'!C51","v":0},null,null,null,null,0,0,0,0,0,0,null,0,0,0,0,0,0,null,{"$f":"N96*2","v":0},{"$f":"O96*2","v":0},null,null,null,null,{"$f":"(F96/4)*'CTI INPUTS'!C33","v":0},{"$f":"(H96*'CTI INPUTS'!C34)+(I96*'CTI INPUTS'!C33)","v":0},null,{"$f":"D96*'CTI INPUTS'!AG30","v":0},{"$f":"D96*'CTI INPUTS'!AH30","v":0},null,{"$f":"N96*'CTI INPUTS'!C37","v":0},{"$f":"N96*'CTI INPUTS'!C38","v":0},{"$f":"N96*'CTI INPUTS'!C39","v":0},{"$f":"O96*'CTI INPUTS'!C37","v":0},{"$f":"O96*'CTI INPUTS'!C38","v":0},{"$f":"O96*'CTI INPUTS'!C39","v":0},null,{"$f":"(AY96*'CTI INPUTS'!C6)/60","v":0},{"$f":"(AZ96*'CTI INPUTS'!C6)/60","v":0},null,{"$f":"(BE96/60)*'CTI INPUTS'!C6","v":0},{"$f":"(BF96/60)*'CTI INPUTS'!C6","v":0},{"$f":"(BG96/60)*'CTI INPUTS'!C6","v":0},{"$f":"(BH96/60)*'CTI INPUTS'!C6","v":0},{"$f":"(BI96/60)*'CTI INPUTS'!C6","v":0},{"$f":"(BJ96/60)*'CTI INPUTS'!C6","v":0},null,{"$f":"(Q96*('CTI INPUTS'!D19))+(T96*('CTI INPUTS'!D20))+(AE96*('CTI INPUTS'!D14))+(AF96*('CTI INPUTS'!D15))+(AG96*('CTI INPUTS'!D16))","v":0},{"$f":"(N96*('CTI INPUTS'!D21))+(T96*('CTI INPUTS'!D20))+(AG96*('CTI INPUTS'!D16))","v":0},{"$f":"(Y96*'CTI INPUTS'!D17)+(N96*'CTI INPUTS'!D18)","v":0},{"$f":"(R96*('CTI INPUTS'!D17))+(U96*('CTI INPUTS'!D18))+(AH96*('CTI INPUTS'!D12))+(AI96*('CTI INPUTS'!D13))+(AJ96*('CTI INPUTS'!D14))","v":0},{"$f":"(O96*('CTI INPUTS'!D19))+(U96*('CTI INPUTS'!D18))+(AJ96*('CTI INPUTS'!D14))","v":0},{"$f":"(Z96*'CTI INPUTS'!D15)+(O96*'CTI INPUTS'!D16)","v":0},null,{"$f":"(AE96*('CTI INPUTS'!D12))","v":0},{"$f":"(AF96*('CTI INPUTS'!D13))","v":0},{"$f":"(AG96*('CTI INPUTS'!D14))","v":0},{"$f":"(AH96*('CTI INPUTS'!D12))","v":0},{"$f":"(AI96*('CTI INPUTS'!D13))","v":0},{"$f":"(AJ96*('CTI INPUTS'!D14))","v":0},null,{"$f":"AL96*'CTI INPUTS'!D42","v":0},{"$f":"AM96*'CTI INPUTS'!D43","v":0},{"$f":"AN96*'CTI INPUTS'!D44","v":0},{"$f":"AS96*'CTI INPUTS'!D45","v":0},{"$f":"AO96*'CTI INPUTS'!D42","v":0},{"$f":"AP96*'CTI INPUTS'!D43","v":0},{"$f":"AQ96*'CTI INPUTS'!D44","v":0},{"$f":"AT96*'CTI INPUTS'!D45","v":0}]
[null,null,"8in",{"$f":"ProjectData!K45","v":0},null,{"$f":"(D97*20)*3","v":0},null,0,{"$f":"(D97*4)*3","v":0},null,{"$f":"D97*'CTI INPUTS'!AG16","v":0},{"$f":"D97*'CTI INPUTS'!AI16","v":0},null,0,0,null,{"$f":"(12*N97)/12","v":0},{"$f":"(12*O97)/12","v":0},null,{"$f":"N97*'CTI INPUTS'!C48","v":0},{"$f":"O97*'CTI INPUTS'!C48","v":0},null,null,null,{"$f":"N97*'CTI INPUTS'!C51","v":0},{"$f":"O97*'CTI INPUTS'!C51","v":0},null,null,null,null,0,0,0,0,0,0,null,0,0,0,0,0,0,null,0,0,null,null,null,null,{"$f":"(F97/4)*'CTI INPUTS'!C33","v":0},{"$f":"(H97*'CTI INPUTS'!C34)+(I97*'CTI INPUTS'!C33)","v":0},null,{"$f":"D97*'CTI INPUTS'!AG31","v":0},{"$f":"D97*'CTI INPUTS'!AH31","v":0},null,{"$f":"N97*'CTI INPUTS'!C37","v":0},{"$f":"N97*'CTI INPUTS'!C38","v":0},{"$f":"N97*'CTI INPUTS'!C39","v":0},{"$f":"O97*'CTI INPUTS'!C37","v":0},{"$f":"O97*'CTI INPUTS'!C38","v":0},{"$f":"O97*'CTI INPUTS'!C39","v":0},null,{"$f":"(AY97*'CTI INPUTS'!C6)/60","v":0},{"$f":"(AZ97*'CTI INPUTS'!C6)/60","v":0},null,{"$f":"(BE97/60)*'CTI INPUTS'!C6","v":0},{"$f":"(BF97/60)*'CTI INPUTS'!C6","v":0},{"$f":"(BG97/60)*'CTI INPUTS'!C6","v":0},{"$f":"(BH97/60)*'CTI INPUTS'!C6","v":0},{"$f":"(BI97/60)*'CTI INPUTS'!C6","v":0},{"$f":"(BJ97/60)*'CTI INPUTS'!C6","v":0},null,{"$f":"(Q97*('CTI INPUTS'!D20))+(T97*('CTI INPUTS'!D21))+(AE97*('CTI INPUTS'!D15))+(AF97*('CTI INPUTS'!D16))+(AG97*('CTI INPUTS'!D17))","v":0},{"$f":"(N97*('CTI INPUTS'!D22))+(T97*('CTI INPUTS'!D21))+(AG97*('CTI INPUTS'!D17))","v":0},{"$f":"(Y97*'CTI INPUTS'!D18)+(N97*'CTI INPUTS'!D19)","v":0},{"$f":"(R97*('CTI INPUTS'!D17))+(U97*('CTI INPUTS'!D18))+(AH97*('CTI INPUTS'!D12))+(AI97*('CTI INPUTS'!D13))+(AJ97*('CTI INPUTS'!D14))","v":0},{"$f":"(O97*('CTI INPUTS'!D19))+(U97*('CTI INPUTS'!D18))+(AJ97*('CTI INPUTS'!D14))","v":0},{"$f":"(Z97*'CTI INPUTS'!D15)+(O97*'CTI INPUTS'!D16)","v":0},null,{"$f":"(AE97*('CTI INPUTS'!D12))","v":0},{"$f":"(AF97*('CTI INPUTS'!D13))","v":0},{"$f":"(AG97*('CTI INPUTS'!D14))","v":0},{"$f":"(AH97*('CTI INPUTS'!D12))","v":0},{"$f":"(AI97*('CTI INPUTS'!D13))","v":0},{"$f":"(AJ97*('CTI INPUTS'!D14))","v":0},null,{"$f":"AL97*'CTI INPUTS'!D42","v":0},{"$f":"AM97*'CTI INPUTS'!D43","v":0},{"$f":"AN97*'CTI INPUTS'!D44","v":0},{"$f":"AS97*'CTI INPUTS'!D45","v":0},{"$f":"AO97*'CTI INPUTS'!D42","v":0},{"$f":"AP97*'CTI INPUTS'!D43","v":0},{"$f":"AQ97*'CTI INPUTS'!D44","v":0},{"$f":"AT97*'CTI INPUTS'!D45","v":0}]
[null,null,"10in",{"$f":"ProjectData!K46","v":0},null,{"$f":"(D98*20)*3","v":0},null,0,{"$f":"(D98*4)*3","v":0},null,{"$f":"D98*'CTI INPUTS'!AG17","v":0},{"$f":"D98*'CTI INPUTS'!AI17","v":0},null,0,0,null,{"$f":"(14*N98)/12","v":0},{"$f":"(14*O98)/12","v":0},null,{"$f":"N98*'CTI INPUTS'!C48","v":0},{"$f":"O98*'CTI INPUTS'!C48","v":0},null,null,null,{"$f":"N98*'CTI INPUTS'!C51","v":0},{"$f":"O98*'CTI INPUTS'!C51","v":0},null,null,null,null,0,0,0,0,0,0,null,0,0,0,0,0,0,null,0,0,null,null,null,null,{"$f":"(F98/4)*'CTI INPUTS'!C33","v":0},{"$f":"(H98*'CTI INPUTS'!C34)+(I98*'CTI INPUTS'!C33)","v":0},null,{"$f":"D98*'CTI INPUTS'!AG32","v":0},{"$f":"D98*'CTI INPUTS'!AH32","v":0},null,{"$f":"N98*'CTI INPUTS'!C37","v":0},{"$f":"N98*'CTI INPUTS'!C38","v":0},{"$f":"N98*'CTI INPUTS'!C39","v":0},{"$f":"O98*'CTI INPUTS'!C37","v":0},{"$f":"O98*'CTI INPUTS'!C38","v":0},{"$f":"O98*'CTI INPUTS'!C39","v":0},null,{"$f":"(AY98*'CTI INPUTS'!C6)/60","v":0},{"$f":"(AZ98*'CTI INPUTS'!C6)/60","v":0},null,{"$f":"(BE98/60)*'CTI INPUTS'!C6","v":0},{"$f":"(BF98/60)*'CTI INPUTS'!C6","v":0},{"$f":"(BG98/60)*'CTI INPUTS'!C6","v":0},{"$f":"(BH98/60)*'CTI INPUTS'!C6","v":0},{"$f":"(BI98/60)*'CTI INPUTS'!C6","v":0},{"$f":"(BJ98/60)*'CTI INPUTS'!C6","v":0},null,{"$f":"(Q98*('CTI INPUTS'!D21))+(T98*('CTI INPUTS'!D22))+(AE98*('CTI INPUTS'!D16))+(AF98*('CTI INPUTS'!D17))+(AG98*('CTI INPUTS'!D18))","v":0},{"$f":"(N98*('CTI INPUTS'!D23))+(T98*('CTI INPUTS'!D22))+(AG98*('CTI INPUTS'!D18))","v":0},{"$f":"(Y98*'CTI INPUTS'!D19)+(N98*'CTI INPUTS'!D20)","v":0},{"$f":"(R98*('CTI INPUTS'!D17))+(U98*('CTI INPUTS'!D18))+(AH98*('CTI INPUTS'!D12))+(AI98*('CTI INPUTS'!D13))+(AJ98*('CTI INPUTS'!D14))","v":0},{"$f":"(O98*('CTI INPUTS'!D19))+(U98*('CTI INPUTS'!D18))+(AJ98*('CTI INPUTS'!D14))","v":0},{"$f":"(Z98*'CTI INPUTS'!D15)+(O98*'CTI INPUTS'!D16)","v":0},null,{"$f":"(AE98*('CTI INPUTS'!D12))","v":0},{"$f":"(AF98*('CTI INPUTS'!D13))","v":0},{"$f":"(AG98*('CTI INPUTS'!D14))","v":0},{"$f":"(AH98*('CTI INPUTS'!D12))","v":0},{"$f":"(AI98*('CTI INPUTS'!D13))","v":0},{"$f":"(AJ98*('CTI INPUTS'!D14))","v":0},null,{"$f":"AL98*'CTI INPUTS'!D42","v":0},{"$f":"AM98*'CTI INPUTS'!D43","v":0},{"$f":"AN98*'CTI INPUTS'!D44","v":0},{"$f":"AS98*'CTI INPUTS'!D45","v":0},{"$f":"AO98*'CTI INPUTS'!D42","v":0},{"$f":"AP98*'CTI INPUTS'!D43","v":0},{"$f":"AQ98*'CTI INPUTS'!D44","v":0},{"$f":"AT98*'CTI INPUTS'!D45","v":0}]
[null,null,"12in",{"$f":"ProjectData!K47","v":10},null,{"$f":"(D99*24)*3","v":720},null,60,{"$f":"(D99*4)*3","v":120},null,{"$f":"D99*'CTI INPUTS'!AG18","v":320},{"$f":"D99*'CTI INPUTS'!AI18","v":320},null,60,60,null,{"$f":"(16*N99)/12","v":80},{"$f":"(16*O99)/12","v":80},null,{"$f":"N99*'CTI INPUTS'!C48","v":240},{"$f":"O99*'CTI INPUTS'!C48","v":240},null,null,null,{"$f":"N99*'CTI INPUTS'!C51","v":360},{"$f":"O99*'CTI INPUTS'!C51","v":360},null,null,null,null,240,240,240,240,240,240,null,120,120,120,120,120,120,null,120,120,null,null,null,null,{"$f":"(F99/4)*'CTI INPUTS'!C33","v":90},{"$f":"(H99*'CTI INPUTS'!C34)+(I99*'CTI INPUTS'!C33)","v":72},null,{"$f":"D99*'CTI INPUTS'!AG33","v":16},{"$f":"D99*'CTI INPUTS'!AH33","v":40},null,{"$f":"N99*'CTI INPUTS'!C37","v":240},{"$f":"N99*'CTI INPUTS'!C38","v":180},{"$f":"N99*'CTI INPUTS'!C39","v":120},{"$f":"O99*'CTI INPUTS'!C37","v":240},{"$f":"O99*'CTI INPUTS'!C38","v":180},{"$f":"O99*'CTI INPUTS'!C39","v":120},null,{"$f":"(AY99*'CTI INPUTS'!C6)/60","v":150},{"$f":"(AZ99*'CTI INPUTS'!C6)/60","v":120},null,{"$f":"(BE99/60)*'CTI INPUTS'!C6","v":400},{"$f":"(BF99/60)*'CTI INPUTS'!C6","v":300},{"$f":"(BG99/60)*'CTI INPUTS'!C6","v":200},{"$f":"(BH99/60)*'CTI INPUTS'!C6","v":400},{"$f":"(BI99/60)*'CTI INPUTS'!C6","v":300},{"$f":"(BJ99/60)*'CTI INPUTS'!C6","v":200},null,{"$f":"(Q99*('CTI INPUTS'!D22))+(T99*('CTI INPUTS'!D23))+(AE99*('CTI INPUTS'!D17))+(AF99*('CTI INPUTS'!D18))+(AG99*('CTI INPUTS'!D19))","v":5476.8000000000011},{"$f":"(N99*('CTI INPUTS'!D24))+(T99*('CTI INPUTS'!D23))+(AG99*('CTI INPUTS'!D19))","v":3989.4000000000005},{"$f":"(Y99*'CTI INPUTS'!D20)+(N99*'CTI INPUTS'!D21)","v":2494.2000000000003},{"$f":"(R99*('CTI INPUTS'!D17))+(U99*('CTI INPUTS'!D18))+(AH99*('CTI INPUTS'!D12))+(AI99*('CTI INPUTS'!D13))+(AJ99*('CTI INPUTS'!D14))","v":1104},{"$f":"(O99*('CTI INPUTS'!D19))+(U99*('CTI INPUTS'!D18))+(AJ99*('CTI INPUTS'!D14))","v":767.40000000000009},{"$f":"(Z99*'CTI INPUTS'!D15)+(O99*'CTI INPUTS'!D16)","v":600},null,{"$f":"(AE99*('CTI INPUTS'!D12))","v":240},{"$f":"(AF99*('CTI INPUTS'!D13))","v":36},{"$f":"(AG99*('CTI INPUTS'!D14))","v":60},{"$f":"(AH99*('CTI INPUTS'!D12))","v":240},{"$f":"(AI99*('CTI INPUTS'!D13))","v":36},{"$f":"(AJ99*('CTI INPUTS'!D14))","v":60},null,{"$f":"AL99*'CTI INPUTS'!D42","v":241.2},{"$f":"AM99*'CTI INPUTS'!D43","v":84},{"$f":"AN99*'CTI INPUTS'!D44","v":108},{"$f":"AS99*'CTI INPUTS'!D45","v":330},{"$f":"AO99*'CTI INPUTS'!D42","v":241.2},{"$f":"AP99*'CTI INPUTS'!D43","v":84},{"$f":"AQ99*'CTI INPUTS'!D44","v":108},{"$f":"AT99*'CTI INPUTS'!D45","v":330}]
[null,null,"16in",{"$f":"ProjectData!K48","v":0},null,{"$f":"(D100*24)*3","v":0},null,0,{"$f":"(D100*8)*3","v":0},null,{"$f":"D100*'CTI INPUTS'!AG19","v":0},{"$f":"D100*'CTI INPUTS'!AI19","v":0},null,0,0,null,{"$f":"(20*N100)/12","v":0},{"$f":"(20*O100)/12","v":0},null,{"$f":"N100*'CTI INPUTS'!C48","v":0},{"$f":"O100*'CTI INPUTS'!C48","v":0},null,null,null,{"$f":"N100*'CTI INPUTS'!C51","v":0},{"$f":"O100*'CTI INPUTS'!C51","v":0},null,null,null,null,0,0,0,0,0,0,null,0,0,0,0,0,0,null,0,0,null,null,null,null,{"$f":"(F100/4)*'CTI INPUTS'!C33","v":0},{"$f":"(H100*'CTI INPUTS'!C34)+(I100*'CTI INPUTS'!C33)","v":0},null,{"$f":"D100*'CTI INPUTS'!AG34","v":0},{"$f":"D100*'CTI INPUTS'!AH34","v":0},null,{"$f":"N100*'CTI INPUTS'!C37","v":0},{"$f":"N100*'CTI INPUTS'!C38","v":0},{"$f":"N100*'CTI INPUTS'!C39","v":0},{"$f":"O100*'CTI INPUTS'!C37","v":0},{"$f":"O100*'CTI INPUTS'!C38","v":0},{"$f":"O100*'CTI INPUTS'!C39","v":0},null,{"$f":"(AY100*'CTI INPUTS'!C6)/60","v":0},{"$f":"(AZ100*'CTI INPUTS'!C6)/60","v":0},null,{"$f":"(BE100/60)*'CTI INPUTS'!C6","v":0},{"$f":"(BF100/60)*'CTI INPUTS'!C6","v":0},{"$f":"(BG100/60)*'CTI INPUTS'!C6","v":0},{"$f":"(BH100/60)*'CTI INPUTS'!C6","v":0},{"$f":"(BI100/60)*'CTI INPUTS'!C6","v":0},{"$f":"(BJ100/60)*'CTI INPUTS'!C6","v":0},null,{"$f":"(Q100*('CTI INPUTS'!D23))+(T100*('CTI INPUTS'!D24))+(AE100*('CTI INPUTS'!D18))+(AF100*('CTI INPUTS'!D19))+(AG100*('CTI INPUTS'!D20))","v":0},{"$f":"(N100*('CTI INPUTS'!D25))+(T100*('CTI INPUTS'!D24))+(AG100*('CTI INPUTS'!D20))","v":0},{"$f":"(Y100*'CTI INPUTS'!D21)+(N100*'CTI INPUTS'!D22)","v":0},{"$f":"(R100*('CTI INPUTS'!D17))+(U100*('CTI INPUTS'!D18))+(AH100*('CTI INPUTS'!D12))+(AI100*('CTI INPUTS'!D13))+(AJ100*('CTI INPUTS'!D14))","v":0},{"$f":"(O100*('CTI INPUTS'!D19))+(U100*('CTI INPUTS'!D18))+(AJ100*('CTI INPUTS'!D14))","v":0},{"$f":"(Z100*'CTI INPUTS'!D15)+(O100*'CTI INPUTS'!D16)","v":0},null,{"$f":"(AE100*('CTI INPUTS'!D12))","v":0},{"$f":"(AF100*('CTI INPUTS'!D13))","v":0},{"$f":"(AG100*('CTI INPUTS'!D14))","v":0},{"$f":"(AH100*('CTI INPUTS'!D12))","v":0},{"$f":"(AI100*('CTI INPUTS'!D13))","v":0},{"$f":"(AJ100*('CTI INPUTS'!D14))","v":0},null,{"$f":"AL100*'CTI INPUTS'!D42","v":0},{"$f":"AM100*'CTI INPUTS'!D43","v":0},{"$f":"AN100*'CTI INPUTS'!D44","v":0},{"$f":"AS100*'CTI INPUTS'!D45","v":0},{"$f":"AO100*'CTI INPUTS'!D42","v":0},{"$f":"AP100*'CTI INPUTS'!D43","v":0},{"$f":"AQ100*'CTI INPUTS'!D44","v":0},{"$f":"AT100*'CTI INPUTS'!D45","v":0}]
[null,null,"18in",{"$f":"ProjectData!K49","v":0},null,{"$f":"(D101*24)*3","v":0},null,0,{"$f":"(D101*8)*3","v":0},null,{"$f":"D101*'CTI INPUTS'!AG20","v":0},{"$f":"D101*'CTI INPUTS'!AI20","v":0},null,0,0,null,{"$f":"(22*N101)/12","v":0},{"$f":"(22*O101)/12","v":0},null,{"$f":"N101*'CTI INPUTS'!C48","v":0},{"$f":"O101*'CTI INPUTS'!C48","v":0},null,null,null,{"$f":"N101*'CTI INPUTS'!C51","v":0},{"$f":"O101*'CTI INPUTS'!C51","v":0},null,null,null,null,0,0,0,0,0,0,null,0,0,0,0,0,0,null,0,0,null,null,null,null,{"$f":"(F101/4)*'CTI INPUTS'!C33","v":0},{"$f":"(H101*'CTI INPUTS'!C34)+(I101*'CTI INPUTS'!C33)","v":0},null,{"$f":"D101*'CTI INPUTS'!AG35","v":0},{"$f":"D101*'CTI INPUTS'!AH35","v":0},null,{"$f":"N101*'CTI INPUTS'!C37","v":0},{"$f":"N101*'CTI INPUTS'!C38","v":0},{"$f":"N101*'CTI INPUTS'!C39","v":0},{"$f":"O101*'CTI INPUTS'!C37","v":0},{"$f":"O101*'CTI INPUTS'!C38","v":0},{"$f":"O101*'CTI INPUTS'!C39","v":0},null,{"$f":"(AY101*'CTI INPUTS'!C6)/60","v":0},{"$f":"(AZ101*'CTI INPUTS'!C6)/60","v":0},null,{"$f":"(BE101/60)*'CTI INPUTS'!C6","v":0},{"$f":"(BF101/60)*'CTI INPUTS'!C6","v":0},{"$f":"(BG101/60)*'CTI INPUTS'!C6","v":0},{"$f":"(BH101/60)*'CTI INPUTS'!C6","v":0},{"$f":"(BI101/60)*'CTI INPUTS'!C6","v":0},{"$f":"(BJ101/60)*'CTI INPUTS'!C6","v":0},null,{"$f":"(Q101*('CTI INPUTS'!D24))+(T101*('CTI INPUTS'!D25))+(AE101*('CTI INPUTS'!D19))+(AF101*('CTI INPUTS'!D20))+(AG101*('CTI INPUTS'!D21))","v":0},{"$f":"(N101*('CTI INPUTS'!D26))+(T101*('CTI INPUTS'!D25))+(AG101*('CTI INPUTS'!D21))","v":0},{"$f":"(Y101*'CTI INPUTS'!D22)+(N101*'CTI INPUTS'!D23)","v":0},{"$f":"(R101*('CTI INPUTS'!D17))+(U101*('CTI INPUTS'!D18))+(AH101*('CTI INPUTS'!D12))+(AI101*('CTI INPUTS'!D13))+(AJ101*('CTI INPUTS'!D14))","v":0},{"$f":"(O101*('CTI INPUTS'!D19))+(U101*('CTI INPUTS'!D18))+(AJ101*('CTI INPUTS'!D14))","v":0},{"$f":"(Z101*'CTI INPUTS'!D15)+(O101*'CTI INPUTS'!D16)","v":0},null,{"$f":"(AE101*('CTI INPUTS'!D12))","v":0},{"$f":"(AF101*('CTI INPUTS'!D13))","v":0},{"$f":"(AG101*('CTI INPUTS'!D14))","v":0},{"$f":"(AH101*('CTI INPUTS'!D12))","v":0},{"$f":"(AI101*('CTI INPUTS'!D13))","v":0},{"$f":"(AJ101*('CTI INPUTS'!D14))","v":0},null,{"$f":"AL101*'CTI INPUTS'!D42","v":0},{"$f":"AM101*'CTI INPUTS'!D43","v":0},{"$f":"AN101*'CTI INPUTS'!D44","v":0},{"$f":"AS101*'CTI INPUTS'!D45","v":0},{"$f":"AO101*'CTI INPUTS'!D42","v":0},{"$f":"AP101*'CTI INPUTS'!D43","v":0},{"$f":"AQ101*'CTI INPUTS'!D44","v":0},{"$f":"AT101*'CTI INPUTS'!D45","v":0}]
[null,null,"20in",{"$f":"ProjectData!K50","v":0},null,{"$f":"(D102*28)*3","v":0},null,0,{"$f":"(D102*8)*3","v":0},null,{"$f":"D102*'CTI INPUTS'!AG21","v":0},{"$f":"D102*'CTI INPUTS'!AI21","v":0},null,0,0,null,{"$f":"(24*N102)/12","v":0},{"$f":"(24*O102)/12","v":0},null,{"$f":"N102*'CTI INPUTS'!C48","v":0},{"$f":"O102*'CTI INPUTS'!C48","v":0},null,null,null,{"$f":"N102*'CTI INPUTS'!C51","v":0},{"$f":"O102*'CTI INPUTS'!C51","v":0},null,null,null,null,0,0,0,0,0,0,null,0,0,0,0,0,0,null,0,0,null,null,null,null,{"$f":"(F102/4)*'CTI INPUTS'!C33","v":0},{"$f":"(H102*'CTI INPUTS'!C34)+(I102*'CTI INPUTS'!C33)","v":0},null,{"$f":"D102*'CTI INPUTS'!AG36","v":0},{"$f":"D102*'CTI INPUTS'!AH36","v":0},null,{"$f":"N102*'CTI INPUTS'!C37","v":0},{"$f":"N102*'CTI INPUTS'!C38","v":0},{"$f":"N102*'CTI INPUTS'!C39","v":0},{"$f":"O102*'CTI INPUTS'!C37","v":0},{"$f":"O102*'CTI INPUTS'!C38","v":0},{"$f":"O102*'CTI INPUTS'!C39","v":0},null,{"$f":"(AY102*'CTI INPUTS'!C6)/60","v":0},{"$f":"(AZ102*'CTI INPUTS'!C6)/60","v":0},null,{"$f":"(BE102/60)*'CTI INPUTS'!C6","v":0},{"$f":"(BF102/60)*'CTI INPUTS'!C6","v":0},{"$f":"(BG102/60)*'CTI INPUTS'!C6","v":0},{"$f":"(BH102/60)*'CTI INPUTS'!C6","v":0},{"$f":"(BI102/60)*'CTI INPUTS'!C6","v":0},{"$f":"(BJ102/60)*'CTI INPUTS'!C6","v":0},null,{"$f":"(Q102*('CTI INPUTS'!D25))+(T102*('CTI INPUTS'!D26))+(AE102*('CTI INPUTS'!D20))+(AF102*('CTI INPUTS'!D21))+(AG102*('CTI INPUTS'!D22))","v":0},{"$f":"(N102*('CTI INPUTS'!D27))+(T102*('CTI INPUTS'!D26))+(AG102*('CTI INPUTS'!D22))","v":0},{"$f":"(Y102*'CTI INPUTS'!D23)+(N102*'CTI INPUTS'!D24)","v":0},{"$f":"(R102*('CTI INPUTS'!D17))+(U102*('CTI INPUTS'!D18))+(AH102*('CTI INPUTS'!D12))+(AI102*('CTI INPUTS'!D13))+(AJ102*('CTI INPUTS'!D14))","v":0},{"$f":"(O102*('CTI INPUTS'!D19))+(U102*('CTI INPUTS'!D18))+(AJ102*('CTI INPUTS'!D14))","v":0},{"$f":"(Z102*'CTI INPUTS'!D15)+(O102*'CTI INPUTS'!D16)","v":0},null,{"$f":"(AE102*('CTI INPUTS'!D12))","v":0},{"$f":"(AF102*('CTI INPUTS'!D13))","v":0},{"$f":"(AG102*('CTI INPUTS'!D14))","v":0},{"$f":"(AH102*('CTI INPUTS'!D12))","v":0},{"$f":"(AI102*('CTI INPUTS'!D13))","v":0},{"$f":"(AJ102*('CTI INPUTS'!D14))","v":0},null,{"$f":"AL102*'CTI INPUTS'!D42","v":0},{"$f":"AM102*'CTI INPUTS'!D43","v":0},{"$f":"AN102*'CTI INPUTS'!D44","v":0},{"$f":"AS102*'CTI INPUTS'!D45","v":0},{"$f":"AO102*'CTI INPUTS'!D42","v":0},{"$f":"AP102*'CTI INPUTS'!D43","v":0},{"$f":"AQ102*'CTI INPUTS'!D44","v":0},{"$f":"AT102*'CTI INPUTS'!D45","v":0}]
[null,null,"24in",{"$f":"ProjectData!K51","v":0},null,{"$f":"(D103*28)*3","v":0},null,0,{"$f":"(D103*8)*3","v":0},null,{"$f":"D103*'CTI INPUTS'!AG22","v":0},{"$f":"D103*'CTI INPUTS'!AI22","v":0},null,0,0,null,{"$f":"(28*N103)/12","v":0},{"$f":"(28*O103)/12","v":0},null,{"$f":"N103*'CTI INPUTS'!C48","v":0},{"$f":"O103*'CTI INPUTS'!C48","v":0},null,null,null,{"$f":"N103*'CTI INPUTS'!C51","v":0},{"$f":"O103*'CTI INPUTS'!C51","v":0},null,null,null,null,0,0,0,0,0,0,null,0,0,0,0,0,0,null,0,0,null,null,null,null,{"$f":"(F103/4)*'CTI INPUTS'!C33","v":0},{"$f":"(H103*'CTI INPUTS'!C34)+(I103*'CTI INPUTS'!C33)","v":0},null,{"$f":"D103*'CTI INPUTS'!AG37","v":0},{"$f":"D103*'CTI INPUTS'!AH37","v":0},null,{"$f":"N103*'CTI INPUTS'!C37","v":0},{"$f":"N103*'CTI INPUTS'!C38","v":0},{"$f":"N103*'CTI INPUTS'!C39","v":0},{"$f":"O103*'CTI INPUTS'!C37","v":0},{"$f":"O103*'CTI INPUTS'!C38","v":0},{"$f":"O103*'CTI INPUTS'!C39","v":0},null,{"$f":"(AY103*'CTI INPUTS'!C6)/60","v":0},{"$f":"(AZ103*'CTI INPUTS'!C6)/60","v":0},null,{"$f":"(BE103/60)*'CTI INPUTS'!C6","v":0},{"$f":"(BF103/60)*'CTI INPUTS'!C6","v":0},{"$f":"(BG103/60)*'CTI INPUTS'!C6","v":0},{"$f":"(BH103/60)*'CTI INPUTS'!C6","v":0},{"$f":"(BI103/60)*'CTI INPUTS'!C6","v":0},{"$f":"(BJ103/60)*'CTI INPUTS'!C6","v":0},null,{"$f":"(Q103*('CTI INPUTS'!D26))+(T103*('CTI INPUTS'!D27))+(AE103*('CTI INPUTS'!D21))+(AF103*('CTI INPUTS'!D22))+(AG103*('CTI INPUTS'!D23))","v":0},{"$f":"(N103*('CTI INPUTS'!D28))+(T103*('CTI INPUTS'!D27))+(AG103*('CTI INPUTS'!D23))","v":0},{"$f":"(Y103*'CTI INPUTS'!D24)+(N103*'CTI INPUTS'!D25)","v":0},{"$f":"(R103*('CTI INPUTS'!D17))+(U103*('CTI INPUTS'!D18))+(AH103*('CTI INPUTS'!D12))+(AI103*('CTI INPUTS'!D13))+(AJ103*('CTI INPUTS'!D14))","v":0},{"$f":"(O103*('CTI INPUTS'!D19))+(U103*('CTI INPUTS'!D18))+(AJ103*('CTI INPUTS'!D14))","v":0},{"$f":"(Z103*'CTI INPUTS'!D15)+(O103*'CTI INPUTS'!D16)","v":0},null,{"$f":"(AE103*('CTI INPUTS'!D12))","v":0},{"$f":"(AF103*('CTI INPUTS'!D13))","v":0},{"$f":"(AG103*('CTI INPUTS'!D14))","v":0},{"$f":"(AH103*('CTI INPUTS'!D12))","v":0},{"$f":"(AI103*('CTI INPUTS'!D13))","v":0},{"$f":"(AJ103*('CTI INPUTS'!D14))","v":0},null,{"$f":"AL103*'CTI INPUTS'!D42","v":0},{"$f":"AM103*'CTI INPUTS'!D43","v":0},{"$f":"AN103*'CTI INPUTS'!D44","v":0},{"$f":"AS103*'CTI INPUTS'!D45","v":0},{"$f":"AO103*'CTI INPUTS'!D42","v":0},{"$f":"AP103*'CTI INPUTS'!D43","v":0},{"$f":"AQ103*'CTI INPUTS'!D44","v":0},{"$f":"AT103*'CTI INPUTS'!D45","v":0}]
[null,null,"30in",{"$f":"ProjectData!K52","v":0},null,{"$f":"(D104*32)*3","v":0},null,0,{"$f":"(D104*12)*3","v":0},null,{"$f":"D104*'CTI INPUTS'!AG23","v":0},{"$f":"D104*'CTI INPUTS'!AI23","v":0},null,0,0,null,{"$f":"(34*N104)/12","v":0},{"$f":"(34*O104)/12","v":0},null,{"$f":"N104*'CTI INPUTS'!C48","v":0},{"$f":"O104*'CTI INPUTS'!C48","v":0},null,null,null,{"$f":"N104*'CTI INPUTS'!C51","v":0},{"$f":"O104*'CTI INPUTS'!C51","v":0},null,null,null,null,0,0,0,0,0,0,null,0,0,0,0,0,0,null,0,0,null,null,null,null,{"$f":"(F104/4)*'CTI INPUTS'!C33","v":0},{"$f":"(H104*'CTI INPUTS'!C34)+(I104*'CTI INPUTS'!C33)","v":0},null,{"$f":"D104*'CTI INPUTS'!AG38","v":0},{"$f":"D104*'CTI INPUTS'!AH38","v":0},null,{"$f":"N104*'CTI INPUTS'!C37","v":0},{"$f":"N104*'CTI INPUTS'!C38","v":0},{"$f":"N104*'CTI INPUTS'!C39","v":0},{"$f":"O104*'CTI INPUTS'!C37","v":0},{"$f":"O104*'CTI INPUTS'!C38","v":0},{"$f":"O104*'CTI INPUTS'!C39","v":0},null,{"$f":"(AY104*'CTI INPUTS'!C6)/60","v":0},{"$f":"(AZ104*'CTI INPUTS'!C6)/60","v":0},null,{"$f":"(BE104/60)*'CTI INPUTS'!C6","v":0},{"$f":"(BF104/60)*'CTI INPUTS'!C6","v":0},{"$f":"(BG104/60)*'CTI INPUTS'!C6","v":0},{"$f":"(BH104/60)*'CTI INPUTS'!C6","v":0},{"$f":"(BI104/60)*'CTI INPUTS'!C6","v":0},{"$f":"(BJ104/60)*'CTI INPUTS'!C6","v":0},null,{"$f":"(Q104*('CTI INPUTS'!D27))+(T104*('CTI INPUTS'!D28))+(AE104*('CTI INPUTS'!D22))+(AF104*('CTI INPUTS'!D23))+(AG104*('CTI INPUTS'!D24))","v":0},{"$f":"(N104*('CTI INPUTS'!D29))+(T104*('CTI INPUTS'!D28))+(AG104*('CTI INPUTS'!D24))","v":0},{"$f":"(Y104*'CTI INPUTS'!D25)+(N104*'CTI INPUTS'!D26)","v":0},{"$f":"(R104*('CTI INPUTS'!D17))+(U104*('CTI INPUTS'!D18))+(AH104*('CTI INPUTS'!D12))+(AI104*('CTI INPUTS'!D13))+(AJ104*('CTI INPUTS'!D14))","v":0},{"$f":"(O104*('CTI INPUTS'!D19))+(U104*('CTI INPUTS'!D18))+(AJ104*('CTI INPUTS'!D14))","v":0},{"$f":"(Z104*'CTI INPUTS'!D15)+(O104*'CTI INPUTS'!D16)","v":0},null,{"$f":"(AE104*('CTI INPUTS'!D12))","v":0},{"$f":"(AF104*('CTI INPUTS'!D13))","v":0},{"$f":"(AG104*('CTI INPUTS'!D14))","v":0},{"$f":"(AH104*('CTI INPUTS'!D12))","v":0},{"$f":"(AI104*('CTI INPUTS'!D13))","v":0},{"$f":"(AJ104*('CTI INPUTS'!D14))","v":0},null,{"$f":"AL104*'CTI INPUTS'!D42","v":0},{"$f":"AM104*'CTI INPUTS'!D43","v":0},{"$f":"AN104*'CTI INPUTS'!D44","v":0},{"$f":"AS104*'CTI INPUTS'!D45","v":0},{"$f":"AO104*'CTI INPUTS'!D42","v":0},{"$f":"AP104*'CTI INPUTS'!D43","v":0},{"$f":"AQ104*'CTI INPUTS'!D44","v":0},{"$f":"AT104*'CTI INPUTS'!D45","v":0}]
[null,null,"36in",{"$f":"ProjectData!K53","v":0},null,{"$f":"(D105*32)*3","v":0},null,0,{"$f":"(D105*12)*3","v":0},null,{"$f":"D105*'CTI INPUTS'!AG24","v":0},{"$f":"D105*'CTI INPUTS'!AI24","v":0},null,0,0,null,{"$f":"(40*N105)/12","v":0},{"$f":"(40*O105)/12","v":0},null,{"$f":"N105*'CTI INPUTS'!C48","v":0},{"$f":"O105*'CTI INPUTS'!C48","v":0},null,null,null,{"$f":"N105*'CTI INPUTS'!C51","v":0},{"$f":"O105*'CTI INPUTS'!C51","v":0},null,null,null,null,0,0,0,0,0,0,null,0,0,0,0,0,0,null,0,0,null,null,null,null,{"$f":"(F105/4)*'CTI INPUTS'!C33","v":0},{"$f":"(H105*'CTI INPUTS'!C34)+(I105*'CTI INPUTS'!C33)","v":0},null,{"$f":"D105*'CTI INPUTS'!AG39","v":0},{"$f":"D105*'CTI INPUTS'!AH39","v":0},null,{"$f":"N105*'CTI INPUTS'!C37","v":0},{"$f":"N105*'CTI INPUTS'!C38","v":0},{"$f":"N105*'CTI INPUTS'!C39","v":0},{"$f":"O105*'CTI INPUTS'!C37","v":0},{"$f":"O105*'CTI INPUTS'!C38","v":0},{"$f":"O105*'CTI INPUTS'!C39","v":0},null,{"$f":"(AY105*'CTI INPUTS'!C6)/60","v":0},{"$f":"(AZ105*'CTI INPUTS'!C6)/60","v":0},null,{"$f":"(BE105/60)*'CTI INPUTS'!C6","v":0},{"$f":"(BF105/60)*'CTI INPUTS'!C6","v":0},{"$f":"(BG105/60)*'CTI INPUTS'!C6","v":0},{"$f":"(BH105/60)*'CTI INPUTS'!C6","v":0},{"$f":"(BI105/60)*'CTI INPUTS'!C6","v":0},{"$f":"(BJ105/60)*'CTI INPUTS'!C6","v":0},null,{"$f":"(Q105*('CTI INPUTS'!D28))+(T105*('CTI INPUTS'!D29))+(AE105*('CTI INPUTS'!D23))+(AF105*('CTI INPUTS'!D24))+(AG105*('CTI INPUTS'!D25))","v":0},{"$f":"(N105*('CTI INPUTS'!D30))+(T105*('CTI INPUTS'!D29))+(AG105*('CTI INPUTS'!D25))","v":0},{"$f":"(Y105*'CTI INPUTS'!D26)+(N105*'CTI INPUTS'!D27)","v":0},{"$f":"(R105*('CTI INPUTS'!D17))+(U105*('CTI INPUTS'!D18))+(AH105*('CTI INPUTS'!D12))+(AI105*('CTI INPUTS'!D13))+(AJ105*('CTI INPUTS'!D14))","v":0},{"$f":"(O105*('CTI INPUTS'!D19))+(U105*('CTI INPUTS'!D18))+(AJ105*('CTI INPUTS'!D14))","v":0},{"$f":"(Z105*'CTI INPUTS'!D15)+(O105*'CTI INPUTS'!D16)","v":0},null,{"$f":"(AE105*('CTI INPUTS'!D12))","v":0},{"$f":"(AF105*('CTI INPUTS'!D13))","v":0},{"$f":"(AG105*('CTI INPUTS'!D14))","v":0},{"$f":"(AH105*('CTI INPUTS'!D12))","v":0},{"$f":"(AI105*('CTI INPUTS'!D13))","v":0},{"$f":"(AJ105*('CTI INPUTS'!D14))","v":0},null,{"$f":"AL105*'CTI INPUTS'!D42","v":0},{"$f":"AM105*'CTI INPUTS'!D43","v":0},{"$f":"AN105*'CTI INPUTS'!D44","v":0},{"$f":"AS105*'CTI INPUTS'!D45","v":0},{"$f":"AO105*'CTI INPUTS'!D42","v":0},{"$f":"AP105*'CTI INPUTS'!D43","v":0},{"$f":"AQ105*'CTI INPUTS'!D44","v":0},{"$f":"AT105*'CTI INPUTS'!D45","v":0}]
[null,null,null,null,null,{"$f":"SUM(F94:F105)","v":720},null,{"$f":"SUM((H94:H105)+(I94:I105))","v":180},null,null,{"$f":"SUM(K94:K105)","v":320},{"$f":"SUM(L94:L105)","v":320},null,{"$f":"SUM(N94:N105)","v":60},{"$f":"SUM(O94:O105)","v":60},null,{"$f":"SUM(Q94:Q105)","v":80},{"$f":"SUM(R94:R105)","v":80},null,{"$f":"SUM(T94:T105)","v":240},{"$f":"SUM(U94:U105)","v":240},null,null,null,{"$f":"SUM(Y94:Y105)","v":360},{"$f":"SUM(Z94:Z105)","v":360},null,null,null,null,{"$f":"SUM((AE94:AE105)+(AF94:AF105)+(AG94:AG105))","v":720},null,null,{"$f":"SUM((AH94:AH105)+(AI94:AI105)+(AJ94:AJ105))","v":720},null,null,null,{"$f":"SUM((AL94:AL105)+(AM94:AM105)+(AN94:AN105))","v":360},null,null,{"$f":"SUM((AO94:AO105)+(AP94:AP105)+(AQ94:AQ105))","v":360},null,null,null,{"$f":"SUM(AS94:AS105)","v":120},{"$f":"SUM(AT94:AT105)","v":120},null,null,null,null,{"$f":"SUM(AY94:AY105)","v":90},{"$f":"SUM(AZ94:AZ105)","v":72},null,{"$f":"SUM(BB94:BB105)","v":16},{"$f":"SUM(BC94:BC105)","v":40},null,{"$f":"SUM(BE94:BE105)","v":240},180,120,240,180,120,null,{"$f":"SUM(BL94:BL105)","v":150},{"$f":"SUM(BM94:BM105)","v":120},null,{"$f":"SUM(BO94:BO105)","v":400},300,200,400,300,200,null,{"$f":"SUM(BV94:BV105)","v":5476.8000000000011},3989.4000000000005,2494.2000000000003,1104,767.40000000000009,600,null,{"$f":"SUM((CC94:CC105)+(CD94:CD105)+(CE94:CE105))","v":336},null,null,{"$f":"SUM((CF94:CF105)+(CG94:CG105)+(CH94:CH105))","v":336},null,null,null,{"$f":"SUM((CJ94:CJ105)+(CK94:CK105)+(CL94:CL105))","v":433.2},null,null,{"$f":"SUM(CM94:CM105)","v":330},{"$f":"SUM((CN94:CN105)+(CO94:CO105)+(CP94:CP105))","v":433.2},null,null,{"$f":"SUM(CQ94:CQ105)","v":330},null,{"$f":"SUM(CS94:CS105)","v":0},{"$f":"SUM(CT94:CT105)","v":0},{"$f":"SUM(CU94:CU105)","v":0}]
[]
[]
[null,"SUMMARY OF QUANTITIES",null,null,null,null,null,null,null,null,"SUMMARY OF INSTALLATION TIMES"]
[]
[null,"INDUSTRY STANDARD",null,null,null,"TOUGH SUPPORT SAVINGS",null,null,null,null,"INDUSTRY STANDARD",null,null,null,null,null,"TOUGH SUPPORT SAVINGS"]
[]
[null,"SUPPORT QTY (PCS)",null,{"$f":"SUM(N19+N38+N55+N72+N89+N106)","v":4459},null,"SUPPORT QTY (PCS)",null,null,{"$f":"SUM(O19+O38+O55+O72+O89+O106)","v":2413},null,"STRUT SUPPORT INSTALLATION TIME (MIN)",null,null,{"$f":"D113*'CTI INPUTS'!C37","v":17836},null,null,"STRUT SUPPORT INSTALLATION TIME (MIN)",null,null,{"$f":"I113*'CTI INPUTS'!C37","v":9652}]
[]
[null,"STRUT SUPPORT QTY (FT)",null,{"$f":"SUM(Q19+Q38+Q55+Q72+Q89+Q106)","v":6433.333333333333},null,"STRUT SUPPORT QTY (FT)",null,null,{"$f":"SUM(R19+R38+R55+R72+R89+R106)","v":3461.333333333333},null,"URH SUPPORT INSTALLATION TIME (MIN)",null,null,{"$f":"D117*'CTI INPUTS'!C38","v":13377},null,null,"URH SUPPORT INSTALLATION TIME (MIN)",null,null,{"$f":"I113*'CTI INPUTS'!C38","v":7239}]
[]
[null,"URH SUPPORT QTY (PCS)",null,{"$f":"SUM(N19+N38+N55+N72+N89+N106)","v":4459},null,"URH SUPPORT QTY (PCS)",null,null,{"$f":"SUM(O19+O38+O55+O72+O89+O106)","v":2413},null,"CABLE SUPPORT INSTALLATION TIME (MIN)",null,null,{"$f":"D113*'CTI INPUTS'!C39","v":8918},null,null,"CABLE SUPPORT INSTALLATION TIME (MIN)",null,null,{"$f":"I113*'CTI INPUTS'!C39","v":4826}]
[]
[null,"CABLE SUPPORT QTY (FT)",null,{"$f":"SUM(Y19+Y38+Y55+Y72+Y89+Y106)","v":26754},null,"CABLE SUPPORT QTY (FT)",null,null,{"$f":"SUM(AA19+Z38+Z55+Z72+Z89+Z106)","v":14478},null,"POSI-LOK + WSKIT INSTALLATION TIME (MIN)",null,null,{"$f":"D127*'CTI INPUTS'!C34","v":3299.6000000000004},null,null,"POSI-LOK + WSKIT INSTALLATION TIME (MIN)",null,null,{"$f":"I127*'CTI INPUTS'!C34","v":3275.6000000000004}]
[]
[null,"ALL THREAD ROD (FT)",null,{"$f":"SUM(T19+T38+T55+T72+T89+T106)","v":17836},null,"ALL THREAD ROD (FT)",null,null,{"$f":"SUM(V19+U38+U55+U72+U89+U106)","v":9652},null,"WASHER SPLICE KIT INSTALLATION TIME (MIN)",null,null,{"$f":"D129*'CTI INPUTS'!C33","v":26992},null,null,"WASHER SPLICE KIT INSTALLATION TIME (MIN)",null,null,{"$f":"I129*'CTI INPUTS'!C33","v":26932}]
[]
[null,"ATR HARDWARE FOR STRUT (PCS)",null,{"$f":"SUM(AE19+AE38+AE55+AE72+AE89+AE106)","v":53508},null,"ALL THREAD ROD HARDWARE (PCS)",null,null,{"$f":"SUM(AH19+AH38+AH55+AH72+AH89+AH106)","v":28956},null,"HOLD DOWN CLAMP INSTALLATION TIME (MIN)",null,null,{"$f":"D131*'CTI INPUTS'!C35","v":13377},null,null,"HOLD DOWN CLAMP INSTALLATION TIME (MIN)",null,null,{"$f":"I131*'CTI INPUTS'!C35","v":7239}]
[]
[null,"ATR HARDWARE FOR URH (PCS)",null,{"$f":"D123-(SUM(AE7:AE18+AE26:AE37+AE43:AE54+AE60:AE71+AE77:AE88+AE94:AE105))","v":35672},null,"ATR HARDWARE FOR URH (PCS)",null,null,{"$f":"I123-(SUM(AH7:AH18+AH26:AH37+AH43:AH54+AH60:AH71+AH77:AH88+AH94:AH105))","v":19304}]
[]
[null,"POSI-LOK SPLICE + WSKIT (PCS)",null,{"$f":"SUM(H19+H38+H55+H72+H89+H106+L106+L89+L55+L38)","v":16498},null,"POSI-LOK SPLICE + WSKIT (PCS)",null,null,{"$f":"SUM(H19+H38+H55+H72+H89+H106+L89+L106)","v":16378},null,"STRUT RETENTION CLIP  INSTALLATION TIME (MIN)",null,null,{"$f":"D133*'CTI INPUTS'!C36","v":445.90000000000003},null,null,"STRUT RETENTION CLIP  INSTALLATION TIME (MIN)",null,null,{"$f":"I133*'CTI INPUTS'!C36","v":241.3}]
[]
[null,"WASHER SPLICE KIT (PCS)",null,{"$f":"SUM(F19+F38+F55+F72+F89+F106+L38+L55+L89+L106)","v":53984},null,"WASHER SPLICE KIT (PCS)",null,null,{"$f":"SUM(F19+F38+F55+F72+F89+F106+L89+L106)","v":53864},null,"COVER INSTALLATION TIME (MIN)",null,null,{"$f":"BB19","v":10120},null,null,"COVER INSTALLATION TIME (MIN)",null,null,{"$f":"BC19","v":1012}]
[]
[null,"HOLD DOWN CLAMP + HWR (PCS)",null,{"$f":"SUM(AL19+AL38+AL55+AL72+AL89+AL106)","v":26754},null,"HOLD DOWN CLAMP + HWR (PCS)",null,null,{"$f":"SUM(AO19+AO38+AO55+AO72+AO89+AO106)","v":14478},null,"FITTINGS FABRICATION CUT WIRES TIME (MIN)",null,null,{"$f":"SUM(BB38+BB55+BB72+BB89+BB106)","v":109.6},null,null,"FITTINGS CUT WIRES TIME (MIN)",null,null,{"$f":"SUM(BB72+BB89+BB106)","v":85.6}]
[]
[null,"STRUT RETENTION CLIP (PCS)",null,{"$f":"SUM(AS19+AS38+AS55+AS72+AS89+AS106)","v":8918},null,"STRUT RETENTION CLIP (PCS)",null,null,{"$f":"SUM(AU19+AT38+AT55+AT72+AT89+AT106)","v":4826},null,"FITTINGS FABRICATION WSKIT TIME (MIN)",null,null,{"$f":"SUM(BC38+BC55+BC72+BC89+BC106)","v":175},null,null,"FITTINGS FABRICATION WSKIT TIME (MIN)",null,null,{"$f":"SUM(BC72+BC89+BC106)","v":160}]
[]
[null,"COVER HOLD DOWN KITS (PCS)",null,{"$f":"K19","v":72864},null,"SNAP-ON COVER H-D KITS (PCS)",null,null,{"$f":"L19","v":0},null,"FABRICATION TIME : FABRICATED HB (EA)",null,null,{"$f":"SUM(BB38+BC38+BB55+BC55)","v":39},null,null,"FABRICATION TIME : C2G HB (EA)",null,null,0]
[]
[null,"ALL FITTINGS CUT WIRES QTY (EACH)",null,{"$f":"SUM(K38+K55+K72+K89+K106)","v":2192},null,"FITTINGS CUT WIRES QTY (EACH)",null,null,{"$f":"SUM(K72+K89+K106)","v":1712}]
[]
[null,"SUPPORT QTY : FABRICATED HB (EA)",null,{"$f":"(N38+N55)","v":15},null,"SUPPORT QTY : C2G HB (EA)",null,null,{"$f":"(O38+O55)","v":5}]
[]
[]
[]
[]
[]
[null,"SUPPORT OPTIMIZATION",null,null,null,null,null,null,"SPEED OF INSTALLATION",null,null,null,null,null,null,null,"SAFETY & SCHEDULE RISK"]
[]
[null,"ST SC SUPPORT SPAN OPTIMIZATION",null,"QTY (EA)","QTY SAVED","% SAVING",null,null,"ST SC SUPPORT INSTALLATION TIME",null,null,"TIME (MIN)","TIME SAVED","% SAVING",null,null,"PERSONAL SAFETY",null,null,"QTY (EA)","QTY SAVED","% SAVING"]
[null,"SUPPORT QTY :  Customer Input",null,{"$f":"N233","v":4048},0,0,null,null,"STRUT INSTALLATION : Customer Input",null,null,{"$f":"D148*'CTI INPUTS'!$C$37","v":16192},0,0,null,null,"FABRICATED HB SHARP EDGES ",null,null,{"$f":"(D137-I137)","v":480},0,0]
[null,"SUPPORT QTY : TSS 8ft",null,{"$f":"N252","v":2530},{"$f":"(D148-D149)","v":1518},{"$f":"(D148-D149)/D148","v":0.375},null,null,"STRUT INSTALLATION : TSS 8ft",null,null,{"$f":"D149*'CTI INPUTS'!$C$37","v":10120},{"$f":"L148-L149","v":6072},{"$f":"(L148-L149)/L148","v":0.375},null,null,"PRE-FORMED HB SHARP EDGES",null,null,0,{"$f":"T148","v":480},1]
[null,"SUPPORT QTY : TSS 10ft",null,{"$f":"N271","v":2024},{"$f":"(D148-D150)","v":2024},{"$f":"(D148-D150)/D148","v":0.5},null,null,"STRUT INSTALLATION : TSS 10ft",null,null,{"$f":"D150*'CTI INPUTS'!$C$37","v":8096},{"$f":"L148-L150","v":8096},{"$f":"(L148-L150)/L148","v":0.5}]
[null,null,null,null,null,null,null,null,null,null,null,null,null,null,null,null,"CABLE SAFETY",null,null,"QTY (EA)","QTY SAVED","% SAVING"]
[null,"C2G FITTINGS SUPPORT OPTIMIZATION",null,"QTY (EA)","QTY SAVED","% SAVING",null,null,"ST SC COVERS",null,null,"TIME (MIN)","TIME SAVED","% SAVING",null,null,"All FABRICATED FITTINGS SHARP EDGES ",null,null,{"$f":"D137","v":2192},0,0]
[null,"SUPPORT QTY : FABRICATED FITTINGS",null,{"$f":"D139","v":15},0,0,null,null,"HDKIT SECURED COVERS",null,null,{"$f":"N129","v":10120},0,0,null,null,"USING C2G HB FITTINGS SHARP EDGES",null,null,{"$f":"I137","v":1712},{"$f":"(T152-T153)","v":480},{"$f":"(T152-T153)/T152","v":0.21897810218978103}]
[null,"SUPPORT QTY : USING C2G FITTINGS",null,{"$f":"I139","v":5},{"$f":"(D153-D154)","v":10},{"$f":"(D153-D154)/D153","v":0.66666666666666663},null,null,"SNAP-ON COVERS",null,null,{"$f":"T129","v":1012},{"$f":"L153-L154","v":9108},{"$f":"(L153-L154)/L153","v":0.9}]
[null,null,null,null,null,null,null,null,null,null,null,null,null,null,null,null,"MATERIAL HANDLING SAFETY",null,null,"QTY (L/FT)","QTY SAVED","% SAVING"]
[null,"TOTAL TRAY SYSTEM SUPPORT OPTIMIZATION",null,"QTY (EA)","QTY SAVED","% SAVING",null,null,"C2G FITTINGS INSTALLATION TIME",null,null,"TIME (MIN)","TIME SAVED","% SAVING",null,null,"TOTAL STRUT MATERIAL :Customer Input",null,null,{"$f":"D162","v":6433.333333333333},0,0]
[null,"SYSTEM SUPPORT QTY :  Customer Input",null,{"$f":"D113","v":4459},0,0,null,null,"FABRICATED HORIZONTAL BENDS",null,null,{"$f":"N135","v":39},0,0,null,null,"TOTAL STRUT MATERIAL : TSS 8ft",null,null,{"$f":"D163","v":4197},{"$f":"T156-T157","v":2236.333333333333},{"$f":"(T156-T157)/T156","v":0.34761658031088077}]
[null,"SYSTEM SUPPORT QTY : TSS 8ft",null,{"$f":"D159+(D149-D150)","v":2919},{"$f":"(D157-D158)","v":1540},{"$f":"(D157-D158)/D157","v":0.34536891679748821},null,null,"C2G HORIZONTAL BENDS",null,null,0,{"$f":"(L157-L158)","v":39},{"$f":"(L157-L158)/L157","v":1},null,null,"TOTAL STRUT MATERIAL : TSS 10ft",null,null,{"$f":"D164","v":3461.333333333333},{"$f":"T156-T158","v":2972},{"$f":"(T156-T158)/T156","v":0.46196891191709849}]
[null,"SYSTEM SUPPORT QTY : TSS 10ft",null,{"$f":"I113","v":2413},{"$f":"(D157-D159)","v":2046},{"$f":"(D157-D159)/D157","v":0.4588472751738058},null,null,null,null,null,null,null,null,null,null,"TOTAL URH MATERIAL : TSS 8ft",null,null,{"$f":"D174","v":4197},{"$f":"T156-T159","v":2236.333333333333},{"$f":"(T157-T159)/T157","v":0}]
[null,null,null,null,null,null,null,null,"ALL FITTINGS INSTALLATION TIME",null,null,"TIME (MIN)","TIME SAVED","% SAVING",null,null,"TOTAL URH MATERIAL : TSS 10ft",null,null,{"$f":"D175","v":3461.333333333333},{"$f":"T156-T160","v":2972},{"$f":"(T156-T160)/T156","v":0.46196891191709849}]
[null,"STRUT CHANNEL SUPPORT",null,"QTY","QTY SAVED","% SAVING",null,null,"ALL FABRICATED FITTINGS",null,null,{"$f":"(N131+N133)","v":284.60000000000002},0,0,null,null,"TOTAL CABLE MATERIAL : TSS 8ft",null,null,{"$f":"D185","v":17514},{"$f":"T156-T161","v":-11080.666666666668},{"$f":"(T156-T161)/T156","v":-1.7223834196891195}]
[null,"STRUT CHANNEL :  Customer Input (L/FT)",null,{"$f":"D115","v":6433.333333333333},0,0,null,null,"C2G HB +  FABRICATED FITTINGS",null,null,{"$f":"(L161-N135)","v":245.60000000000002},{"$f":"(L161-L162)","v":39},{"$f":"(L161-L162)/L161","v":0.13703443429374559},null,null,"TOTAL CABLE MATERIAL : TSS 10ft",null,null,{"$f":"D186","v":14478},{"$f":"T156-T162","v":-8044.666666666667},{"$f":"(T156-T162)/T156","v":-1.2504663212435234}]
[null,"STRUT CHANNEL : TSS 8ft (L/FT)",null,{"$f":"D164+(P252-P271)","v":4197},{"$f":"(D162-D163)","v":2236.333333333333},{"$f":"(D162-D163)/D162","v":0.34761658031088077}]
[null,"STRUT CHANNEL : TSS 10ft (L/FT)",null,{"$f":"I115","v":3461.333333333333},{"$f":"(D162-D164)","v":2972},{"$f":"(D162-D164)/D162","v":0.46196891191709849},null,null,"SPLICE INSTALLATION TIME",null,null,"TIME (MIN)","TIME SAVED","% SAVING",null,null,"MATERIAL HANDLING SAFETY",null,null,"QTY (PCS)","QTY SAVED","% SAVING"]
[null,"ALLTHREAD ROD :  Customer Input (L/FT)",null,{"$f":"D121","v":17836},0,0,null,null,"WSKIT TIME : Customer Input",null,null,{"$f":"D204*'CTI INPUTS'!C33","v":26992},0,0,null,null,"TOTAL TM SPLICING MATERIALS : Customer Input",null,null,{"$f":"D204","v":53984},0,0]
[null,"ALLTHREAD ROD : TSS 8ft (L/FT)",null,{"$f":"D167+(R252-R271)","v":11676},{"$f":"(D165-D166)","v":6160},{"$f":"(D165-D166)/D165","v":0.34536891679748821},null,null,"POSI-LOK TIME : Customer Input",null,null,{"$f":"D205*'CTI INPUTS'!C34","v":3299.6000000000004},{"$f":"L165-L166","v":23692.400000000001},{"$f":"(L165-L166)/L165","v":0.87775637225844705},null,null,"TOTAL TM SPLICING MATERIALS : TSS 8ft",null,null,{"$f":"D208","v":16378},{"$f":"T165-T166","v":37606},{"$f":"(T165-T166)/T165","v":0.69661381149970358}]
[null,"ALLTHREAD ROD : TSS 10ft (L/FT)",null,{"$f":"I121","v":9652},{"$f":"(D165-D167)","v":8184},{"$f":"(D165-D167)/D165","v":0.4588472751738058},null,null,"WSKIT TIME : TSS 8ft",null,null,{"$f":"D206*'CTI INPUTS'!$C$33","v":26932},{"$f":"L165-L167","v":60},{"$f":"(L165-L167)/L165","v":2.2228808535862477E-3},null,null,"TOTAL TM SPLICING MATERIALS : TSS 10ft",null,null,{"$f":"D209","v":16378},{"$f":"T165-T167","v":37606},{"$f":"(T165-T167)/T165","v":0.69661381149970358}]
[null,"HARDWARE :  Customer Input (PCS)",null,{"$f":"D123","v":53508},0,0,null,null,"WSKIT TIME : TSS 10ft",null,null,{"$f":"D207*'CTI INPUTS'!$C$33","v":26932},{"$f":"L165-L168","v":60},{"$f":"(L165-L168)/L165","v":2.2228808535862477E-3}]
[null,"HARDWARE : TSS 8ft (PCS)",null,{"$f":"D170+(X252-X271)","v":35028},{"$f":"(D168-D169)","v":18480},{"$f":"(D168-D169)/D168","v":0.34536891679748821},null,null,"POSI-LOK TIME : TSS 8ft",null,null,{"$f":"D208*'CTI INPUTS'!$C$34","v":3275.6000000000004},{"$f":"L165-L169","v":23716.400000000001},{"$f":"(L165-L169)/L165","v":0.87864552459988154},null,null,"MATERIAL HANDLING SAFETY",null,null,"QTY (PCS)","QTY SAVED","% SAVING"]
[null,"HARDWARE : TSS 10ft (PCS)",null,{"$f":"I123","v":28956},{"$f":"(D168-D170)","v":24552},{"$f":"(D168-D170)/D168","v":0.4588472751738058},null,null,"POSI-LOK TIME : TSS 10ft",null,null,{"$f":"D209*'CTI INPUTS'!$C$34","v":3275.6000000000004},{"$f":"L165-L170","v":23716.400000000001},{"$f":"(L165-L170)/L165","v":0.87864552459988154},null,null,"TOTAL HARDWARE MATERIALS : Customer Input",null,null,{"$f":"D212","v":134246},0,0]
[null,null,null,null,null,null,null,null,null,null,null,null,null,null,null,null,"TOTAL HARDWARE MATERIALS : TSS 8ft",null,null,{"$f":"D213","v":47592},{"$f":"T170-T171","v":86654},{"$f":"(T170-T171)/T170","v":0.64548664392235156}]
[null,"URH CHANNEL SUPPORT",null,"QTY","QTY SAVED","% SAVING",null,null,"SUPPORT TYPE INSTALLATION TIME",null,null,"TIME (MIN)","TIME SAVED","% SAVING",null,null,"TOTAL HARDWARE MATERIALS : TSS 10ft",null,null,{"$f":"D214","v":40508},{"$f":"T170-T172","v":93738},{"$f":"(T170-T172)/T170","v":0.69825544150291252}]
[null,"URH CHANNEL :  Customer Input (L/FT)",null,{"$f":"D115","v":6433.333333333333},0,0,null,null,"STRUT SUPPORT : Customer Input",null,null,{"$f":"N113","v":17836},0,0,null,null," (supports, hangers, hold downs)"]
[null,"URH CHANNEL : TSS 8ft (L/FT)",null,{"$f":"D175+(P252-P271)","v":4197},{"$f":"(D173-D174)","v":2236.333333333333},{"$f":"(D173-D174)/D173","v":0.34761658031088077},null,null,"URH SUPPORT : Customer Input",null,null,{"$f":"N115","v":13377},{"$f":"L173-L174","v":4459},{"$f":"(L173-L174)/L173","v":0.25}]
[null,"URH CHANNEL : TSS 10ft (L/FT)",null,{"$f":"I115","v":3461.333333333333},{"$f":"(D173-D175)","v":2972},{"$f":"(D173-D175)/D173","v":0.46196891191709849},null,null,"CABLE SUPPORT : Customer Input",null,null,{"$f":"N117","v":8918},{"$f":"L173-L175","v":8918},{"$f":"(L173-L175)/L173","v":0.5},null,null,"SCHEDULE : BUDGET",null,null,"COST ($)","COST SAVED","% SAVING"]
[null,"ALL THREAD ROD : Customer Input (L/FT)",null,{"$f":"D121","v":17836},0,0,null,null,"STRUT SUPPORT : TSS 8ft",null,null,{"$f":"L177+(AP252-AP271)","v":11676},{"$f":"L173-L176","v":6160},{"$f":"(L173-L176)/L173","v":0.34536891679748821},null,null,"TRAY INSTALLATION WORKS : Customer Input",null,null,{"$f":"E286","v":285292.06666666665},0,0]
[null,"ALL THREAD ROD : TSS 8ft (L/FT)",null,{"$f":"D178+(R252-R271)","v":11676},{"$f":"(D176-D177)","v":6160},{"$f":"(D176-D177)/D176","v":0.34536891679748821},null,null,"STRUT SUPPORT : TSS 10ft",null,null,{"$f":"T113","v":9652},{"$f":"L173-L177","v":8184},{"$f":"(L173-L177)/L173","v":0.4588472751738058},null,null,"TRAY INSTALLATION WORKS : TSS 8ft",null,null,{"$f":"K285","v":110864.33666666667},{"$f":"T176-T177","v":174427.72999999998},{"$f":"(T176-T177)/T176","v":0.61140056237105311}]
[null,"ALL THREAD ROD : TSS 10ft (L/FT)",null,{"$f":"I121","v":9652},{"$f":"(D176-D178)","v":8184},{"$f":"(D176-D178)/D176","v":0.4588472751738058},null,null,"URH SUPPORT : TSS 8ft",null,null,{"$f":"L179+(AQ252-AQ271)","v":8757},{"$f":"L173-L178","v":9079},{"$f":"(L173-L178)/L173","v":0.5090266875981162},null,null,"TRAY INSTALLATION WORKS : TSS 10ft",null,null,{"$f":"P285","v":97179.24},{"$f":"T176-T178","v":188112.82666666666},{"$f":"(T176-T178)/T176","v":0.65936928728710997}]
[null,"HARDWARE :  Customer Input (PCS)",null,{"$f":"D125","v":35672},0,0,null,null,"URH SUPPORT : TSS 10ft",null,null,{"$f":"T115","v":7239},{"$f":"L173-L179","v":10597},{"$f":"(L173-L179)/L173","v":0.59413545638035437},null,null,"TRAY INSTALLATION WORKS : TSS 8ft",null,null,{"$f":"K297","v":75030.44666666667},{"$f":"T176-T179","v":210261.62},{"$f":"(T176-T179)/T176","v":0.73700479111348116}]
[null,"HARDWARE : TSS 8ft (PCS)",null,{"$f":"D181+(X252-X271)","v":25376},{"$f":"(D179-D180)","v":10296},{"$f":"(D179-D180)/D179","v":0.28862973760932947},null,null,"CABLE SUPPORT : TSS 8ft",null,null,{"$f":"L181+(AR252-AR271)","v":5838},{"$f":"L173-L180","v":11998},{"$f":"(L173-L180)/L173","v":0.67268445839874413},null,null,"TRAY INSTALLATION WORKS : TSS 10ft",null,null,{"$f":"P297","v":68283.78},{"$f":"T176-T180","v":217008.28666666665},{"$f":"(T176-T180)/T176","v":0.7606530710866829}]
[null,"HARDWARE : TSS 10ft (PCS)",null,{"$f":"I125","v":19304},{"$f":"(D179-D181)","v":16368},{"$f":"(D179-D181)/D179","v":0.4588472751738058},null,null,"CABLE SUPPORT : TSS 10ft",null,null,{"$f":"T117","v":4826},{"$f":"L173-L181","v":13010},{"$f":"(L173-L181)/L173","v":0.72942363758690287},null,null,"(materials + installation time cost)"]
[]
[null,"CABLE SUPPORT",null,"QTY ","QTY SAVED","% SAVING",null,null,"H-D CLAMP INSTALLATION TIME",null,null,"TIME (MIN)","TIME SAVED","% SAVING",null,null,"SCHEULE : CRITICAL PATH RISK ",null,null,"WORK (MIN)","WORK SAVED","Risk Reduction"]
[null,"CABLE :  Customer Input (L/FT)",null,{"$f":"D119","v":26754},0,0,null,null,"FLXW + HDWR : Customer Input",null,null,{"$f":"D192*'CTI INPUTS'!C35","v":13377},0,0,null,null,"INSTALLATION WORKS : Customer Input",null,null,{"$f":"L173+L161+L165+L184","v":58489.599999999999},0,0]
[null,"CABLE : TSS 8ft (L/FT)",null,{"$f":"D186+(U252-U271)","v":17514},{"$f":"(D184-D185)","v":9240},{"$f":"(D184-D185)/D184","v":0.34536891679748821},null,null,"FLXW + HDWR : TSS 8ft",null,null,{"$f":"D193*'CTI INPUTS'!$C$35","v":8757},{"$f":"L184-L185","v":4620},{"$f":"(L184-L185)/L184","v":0.34536891679748821},null,null,"INSTALLATION WORKS : TSS 8ft URH",null,null,{"$f":"L178+L161+L169+L189","v":12609.1},{"$f":"T184-T185","v":45880.5},{"$f":"(T184-T185)/T184","v":0.78442150399387245}]
[null,"CABLE : TSS 10ft (L/FT)",null,{"$f":"I119","v":14478},{"$f":"(D184-D186)","v":12276},{"$f":"(D184-D186)/D184","v":0.4588472751738058},null,null,"FLXW + HDWR : TSS 10ft",null,null,{"$f":"D194*'CTI INPUTS'!$C$35","v":7239},{"$f":"L184-L186","v":6138},{"$f":"(L184-L186)/L184","v":0.4588472751738058},null,null,"INSTALLATION WORKS : TSS 10ft URH",null,null,{"$f":"L179+L162+L170+L190","v":11001.5},{"$f":"T184-T186","v":47488.1},{"$f":"(T184-T186)/T184","v":0.81190673213699527}]
[null,"HARDWARE :  Customer Input (PCS)",null,{"$f":"D117*2","v":8918},0,0,null,null,"SRC CLIP : TSS 8ft",null,null,{"$f":"D196*'CTI INPUTS'!$C$36","v":291.90000000000003},{"$f":"L184-L187","v":13085.1},{"$f":"(L184-L187)/L184","v":0.97817896389324965},null,null,"INSTALLATION WORKS : TSS 8ft CABLE",null,null,{"$f":"L180+L163+L171+L191","v":5838},{"$f":"T184-T187","v":52651.6},{"$f":"(T184-T187)/T184","v":0.90018738374001528}]
[null,"HARDWARE : TSS 8ft (PCS)",null,{"$f":"D189+(N252-N271)","v":5332},{"$f":"(D187-D188)","v":3586},{"$f":"(D187-D188)/D187","v":0.40210809598564701},null,null,"SRC CLIP : TSS 10ft",null,null,{"$f":"D197*'CTI INPUTS'!$C$36","v":241.3},{"$f":"L184-L188","v":13135.7},{"$f":"(L184-L188)/L184","v":0.98196157583912691},null,null,"INSTALLATION WORKS : TSS 10ft CABLE",null,null,{"$f":"L181+L162+L170+L192","v":8347.2000000000007},{"$f":"T186-T188","v":2654.2999999999993},{"$f":"(T184-T188)/T184","v":0.85728744939271251}]
[null,"HARDWARE : TSS 10ft (PCS)",null,{"$f":"I117*2","v":4826},{"$f":"(D187-D189)","v":4092},{"$f":"(D187-D189)/D187","v":0.4588472751738058},null,null,"URH TAB : TSS 8ft",null,null,{"$f":"D158*'CTI INPUTS'!$C$59","v":291.90000000000003},{"$f":"L184-L189","v":13085.1},{"$f":"(L184-L189)/L184","v":0.97817896389324965},null,null,"(installation time cost)"]
[null,null,null,null,null,null,null,null,"URH TAB : TSS 10ft",null,null,{"$f":"D159*'CTI INPUTS'!$C$59","v":241.3},{"$f":"L184-L190","v":13135.7},{"$f":"(L184-L190)/L184","v":0.98196157583912691}]
[null,"HOLD DOWN CLAMP OPTIMIZATION (PCS)",null,"QTY (PCS)","QTY SAVED","% SAVING",null,null,"CABLE SUPPORT : TSS 8ft",null,null,0,{"$f":"L184-L192","v":13377},{"$f":"(L184-L191)/L184","v":1},null,null,"FINISH PERFORMANCE"]
[null,"STRUT SUPPORT FLXW + HDWR QTY :  Customer Input",null,{"$f":"D119","v":26754},0,0,null,null,"CABLE SUPPORT : TSS 10ft",null,null,0,{"$f":"L184-L192","v":13377},{"$f":"(L184-L192)/L184","v":1},null,null,"FINISH",null,"COST ($)","SAVING (%)"]
[null,"STRUT SUPPORT FLXW + HDWR QTY : 8ft",null,{"$f":"D194+(AB252-AB271)","v":17514},{"$f":"(D192-D193)","v":9240},{"$f":"(D192-D193)/D192","v":0.34536891679748821},null,null,null,null,null,null,null,null,null,null,"SS316",null,200,0]
[null,"STRUT SUPPORT FLXW + HDWR QTY : 10ft",null,{"$f":"I119","v":14478},{"$f":"(D192-D194)","v":12276},{"$f":"(D192-D194)/D192","v":0.4588472751738058},null,null,null,null,null,null,null,null,null,null,"SS304",null,160,{"$f":"(S193-S194)/S193","v":0.2}]
[null,"STRUT SUPPORT SRC CKIP QTY :  Customer Input",null,{"$f":"D133","v":8918},0,0,null,null,null,null,null,null,null,null,null,null,"HDG",null,80,{"$f":"(S193-S195)/S193","v":0.6}]
[null,"STRUT SUPPORT SRC CKIP QTY : TSS 8ft",null,{"$f":"D197+(AF252-AF271)","v":5838},{"$f":"(D195-D196)","v":3080},{"$f":"(D195-D196)/D195","v":0.34536891679748821},null,null,null,null,null,null,null,null,null,null,"TG",null,60,{"$f":"(S193-S196)/S193","v":0.7}]
[null,"STRUT SUPPORT SRC CKIP QTY : TSS 10ft",null,{"$f":"I133","v":4826},{"$f":"(D195-D197)","v":4092},{"$f":"(D195-D197)/D195","v":0.4588472751738058},null,null,null,null,null,null,null,null,null,null,"EG",null,50,{"$f":"(S193-S197)/S193","v":0.75}]
[null,"CLAMP QUANTITY : URH 8ft SUPPORT",null,0,{"$f":"D192","v":26754},1]
[null,"CLAMP QUANTITY : URH 10ft SUPPORT",null,0,{"$f":"D192","v":26754},1,null,null,null,null,null,null,null,null,null,null,"PERFORMANCE",null,"LIFE (YRS)"]
[null,"CLAMP QUANTITY : CABLE SUPPORT",null,0,{"$f":"D192","v":26754},1,null,null,null,null,null,null,null,null,null,null,"SS316",null,45]
[null,"CLAMP QUANTITY : CABLE SUPPORT",null,0,{"$f":"D192","v":26754},1,null,null,null,null,null,null,null,null,null,null,"SS304",null,35]
[null,null,null,null,null,null,null,null,null,null,null,null,null,null,null,null,"HDG",null,25]
[null,"SPLICE PLATE OPTIMIZATION (PCS)",null,"QTY (PCS)","QTY SAVED","% SAVING",null,null,null,null,null,null,null,null,null,null,"TG",null,50]
[null,"WSKIT SPLICE QTY : Customer Input",null,{"$f":"D129","v":53984},0,0,null,null,null,null,null,null,null,null,null,null,"EG",null,5]
[null,"PLOK + WSKIT SPLICE QTY :  Customer Input",null,{"$f":"D127","v":16498},{"$f":"D204-D205","v":37486},{"$f":"(D204-D205)/D204","v":0.69439093064611734}]
[null,"WSKIT SPLICE QTY : TSS 8ft",null,{"$f":"D207+(F252-F271)","v":53864},{"$f":"(D204-D206)","v":120},{"$f":"(D204-D206)/D204","v":2.2228808535862477E-3},null,null,null,null,null,null,null,null,null,null,"AVAILABILITY",null,"WKS (ARO)","SAVING (%)"]
[null,"WSKIT SPLICE QTY : TSS 10ft",null,{"$f":"I129","v":53864},{"$f":"(D204-D207)","v":120},{"$f":"(D204-D207)/D204","v":2.2228808535862477E-3},null,null,null,null,null,null,null,null,null,null,"SS316",null,7,0]
[null,"PLOK + WSKIT SPLICE QTY : TSS 8ft",null,{"$f":"D209","v":16378},{"$f":"E209","v":37606},{"$f":"(D205-D208)/D205","v":7.2736089222936113E-3},null,null,null,null,null,null,null,null,null,null,"SS304",null,6,{"$f":"(S207-S208)/S207","v":0.14285714285714285}]
[null,"PLOK + WSKIT SPLICE QTY : TSS 10ft",null,{"$f":"I127","v":16378},{"$f":"(D204-D209)","v":37606},{"$f":"(D205-D209)/D205","v":7.2736089222936113E-3},null,null,null,null,null,null,null,null,null,null,"HDG",null,5,{"$f":"(S207-S209)/S207","v":0.2857142857142857}]
[null,null,null,null,null,null,null,null,null,null,null,null,null,null,null,null,"TG",null,3,{"$f":"(S207-S210)/S207","v":0.5714285714285714}]
[null,"TRAY HARDWARE OPTIMIZATION (PCS)",null,"QTY (PCS)","QTY SAVED","% SAVING",null,null,null,null,null,null,null,null,null,null,"EG",null,3,{"$f":"(S207-S211)/S207","v":0.5714285714285714}]
[null,"STANDARD INSTALLATION : Customer Input",null,{"$f":"(D168+D192+D204)","v":134246},0,0]
[null,"RECOMMENDED INSTALLATION : TSS 8ft",null,{"$f":"(D180+D196+D208)","v":47592},{"$f":"(D212-D213)","v":86654},{"$f":"(D212-D213)/D212","v":0.64548664392235156}]
[null,"RECOMMENDED INSTALLATION : TSS 10ft",null,{"$f":"(D181+D197+D209)","v":40508},{"$f":"(D212-D214)","v":93738},{"$f":"(D212-D214)/D212","v":0.69825544150291252}]
[]
[null,"TM STRAIGHT SECTIONS : Customer Input",null,null,null,null,null,{"$f":"ProjectData!B17","v":5},"FT"]
[]
[null,"STRAIGHT SECTIONS",null,null,null,"SPLICE",null,"POSI-LOK",null,null,"COVER FIXINGS",null,null,"SUPPORT QTY",null,"SUPPORT L/FT",null,"ATR HANGER",null,null,"WIRE HANGER",null,null,"ATR HARDWARE QUANTITY",null,null,null,"HOLD DOWN & HDWR QUANTITY",null,null,null,"SRC CLIP",null,"SRC CLIP",null,"SPLICE INSTALLATION TIME (MIN)",null,null,"COVER INSTAL TIME (MIN)",null,null,"SUPPORT INSTALLATION TIME (MIN)",null,null,null,"SPLICE INSTALLATION COST ($)",null,null,"SUPPORT INSTALLATION COST ($)",null,null,null,"SUPPORT COST ($)",null,null,null,"ATR HARDWARE COST $",null,null,null,"HOLD DOWN CLAMPS & HARDWARE COST ($)",null,null,null,null,"SUPPORT WEIGHT (LBS)"]
[]
[null,"HEIGHT","WIDTH","LINEAR FT",null,"WSKIT (pcs)",null,"PLOKM (pcs)","WSKIT (pcs)",null,"HDKIT (pcs)","SNAP-ON",null,"ALL TYPES",null,"STRUT (FT)",null,"LINEAR FT"," LBS",null,"LINEAR FT"," LBS",null,"SQ WSHR","FLT WSHR","HEX NUT",null,"FLXW","25HX","25NC",null,"QUANTITY (pc)",null,"INSTAL (MIN)",null,"WSKIT","POSI-LOK + WSKIT",null,"HDKIT","SNAP-ON",null,"STRUT","URH","CABLE",null,"WSKIT","POSI-LOK + WSKIT",null,"STRUT","URH","CABLE",null,"STRUT","URH","CABLE",null,"SQUARE WSHR","FLAT WSHR","HEX NUT",null,"FLXW","25HX","25NC","SRC CLIP",null,"STRUT","URH","WIRE"]
[null,"2/4/6in","2in",{"$f":"ProjectData!C24","v":0},null,{"$f":"(D221/10)*8","v":0},null,{"$f":"(D221/10)*2","v":0},{"$f":"(D221/10)*0","v":0},null,{"$f":"(D221/10)*36","v":0},0,null,{"$f":"D221/'CTI INPUTS'!$C$3","v":0},null,{"$f":"(6*N221)/12","v":0},null,{"$f":"N221*'CTI INPUTS'!C48","v":0},{"$f":"R221*('CTI INPUTS'!C203)","v":0},null,{"$f":"N221*'CTI INPUTS'!$C$51","v":0},{"$f":"U221*('CTI INPUTS'!C204)","v":0},null,{"$f":"N221*4","v":0},{"$f":"N221*4","v":0},{"$f":"N221*4","v":0},null,{"$f":"N221*2","v":0},{"$f":"N221*2","v":0},{"$f":"N221*2","v":0},null,{"$f":"N221*1","v":0},null,{"$f":"AF221*'CTI INPUTS'!C36","v":0},null,{"$f":"(F221/4)*'CTI INPUTS'!$C$33","v":0},{"$f":"(H221*'CTI INPUTS'!$C$34)+(I221*'CTI INPUTS'!$C$33)","v":0},null,{"$f":"(D221/10)*'CTI INPUTS'!$C$55","v":0},{"$f":"(D221/10)*'CTI INPUTS'!C56","v":0},null,{"$f":"N221*'CTI INPUTS'!$C$37","v":0},{"$f":"N221*'CTI INPUTS'!C38","v":0},{"$f":"N221*'CTI INPUTS'!C39","v":0},null,{"$f":"(AJ221*'CTI INPUTS'!$C$6)/60","v":0},{"$f":"(AK221*'CTI INPUTS'!$C$6)/60","v":0},null,{"$f":"(N221*'CTI INPUTS'!$C$37)*(('CTI INPUTS'!$C$6)/60)","v":0},{"$f":"(AQ221/60)*'CTI INPUTS'!C6","v":0},{"$f":"(AR221/60)*'CTI INPUTS'!C6","v":0},null,{"$f":"(P221*('CTI INPUTS'!$D$17))+(R221*('CTI INPUTS'!$D$18))+(X221*('CTI INPUTS'!$D$12))+(Y221*('CTI INPUTS'!$D$13))+(Z221*('CTI INPUTS'!$D$14))","v":0},{"$f":"(N221*('CTI INPUTS'!D19))+(R221*('CTI INPUTS'!D18))+(Z221*('CTI INPUTS'!D14))","v":0},{"$f":"(U221*'CTI INPUTS'!D15)+(N221*'CTI INPUTS'!D16)","v":0},null,{"$f":"(X221*('CTI INPUTS'!$D$12))","v":0},{"$f":"(Y221*('CTI INPUTS'!$D$13))","v":0},{"$f":"(Z221*('CTI INPUTS'!$D$14))","v":0},null,{"$f":"AB221*'CTI INPUTS'!$D$42","v":0},{"$f":"AC221*'CTI INPUTS'!$D$43","v":0},{"$f":"AD221*'CTI INPUTS'!$D$44","v":0},{"$f":"AF221*'CTI INPUTS'!$D$45","v":0}]
[null,null,"4in",{"$f":"ProjectData!C25","v":0},null,{"$f":"(D222/10)*16","v":0},null,0,{"$f":"(D222/10)*0","v":0},null,0,0,null,{"$f":"D222/'CTI INPUTS'!$C$3","v":0},null,{"$f":"(8*N222)/12","v":0},null,{"$f":"N222*'CTI INPUTS'!C48","v":0},{"$f":"R222*('CTI INPUTS'!C203)","v":0},null,{"$f":"N222*'CTI INPUTS'!C51","v":0},{"$f":"U222*('CTI INPUTS'!C204)","v":0},null,0,0,0,null,0,0,0,null,{"$f":"N222*2","v":0},null,{"$f":"AF222*'CTI INPUTS'!C36","v":0},null,{"$f":"(F222/4)*'CTI INPUTS'!C33","v":0},{"$f":"(H222*'CTI INPUTS'!C34)+(I222*'CTI INPUTS'!C33)","v":0},null,{"$f":"(D222/10)*'CTI INPUTS'!C55","v":0},{"$f":"(D222/10)*'CTI INPUTS'!C56","v":0},null,{"$f":"N222*'CTI INPUTS'!C37","v":0},{"$f":"N222*'CTI INPUTS'!C38","v":0},{"$f":"N222*'CTI INPUTS'!C39","v":0},null,{"$f":"(AJ222*'CTI INPUTS'!C6)/60","v":0},{"$f":"(AK222*'CTI INPUTS'!C6)/60","v":0},null,{"$f":"(N222*'CTI INPUTS'!C37)*(('CTI INPUTS'!C6)/60)","v":0},{"$f":"(AQ222/60)*'CTI INPUTS'!C6","v":0},{"$f":"(AR222/60)*'CTI INPUTS'!C6","v":0},null,{"$f":"(P222*('CTI INPUTS'!D17))+(R222*('CTI INPUTS'!D18))+(X222*('CTI INPUTS'!D12))+(Y222*('CTI INPUTS'!D13))+(Z222*('CTI INPUTS'!D14))","v":0},{"$f":"(N222*('CTI INPUTS'!D19))+(R222*('CTI INPUTS'!D18))+(Z222*('CTI INPUTS'!D14))","v":0},{"$f":"(U222*'CTI INPUTS'!D15)+(N222*'CTI INPUTS'!D16)","v":0},null,{"$f":"(X222*('CTI INPUTS'!$D$12))","v":0},{"$f":"(Y222*('CTI INPUTS'!$D$13))","v":0},{"$f":"(Z222*('CTI INPUTS'!$D$14))","v":0},null,{"$f":"AB222*'CTI INPUTS'!$D$42","v":0},{"$f":"AC222*'CTI INPUTS'!$D$43","v":0},{"$f":"AD222*'CTI INPUTS'!$D$44","v":0},{"$f":"AF222*'CTI INPUTS'!$D$45","v":0}]
[null,null,"6in",{"$f":"ProjectData!C26","v":0},null,{"$f":"(D223/10)*16","v":0},null,0,{"$f":"(D223/10)*0","v":0},null,0,0,null,{"$f":"D223/'CTI INPUTS'!$C$3","v":0},null,{"$f":"(10*N223)/12","v":0},null,{"$f":"N223*'CTI INPUTS'!C48","v":0},{"$f":"R223*('CTI INPUTS'!C203)","v":0},null,{"$f":"N223*'CTI INPUTS'!C51","v":0},{"$f":"U223*('CTI INPUTS'!C204)","v":0},null,0,0,0,null,0,0,0,null,0,null,{"$f":"AF223*'CTI INPUTS'!C36","v":0},null,{"$f":"(F223/4)*'CTI INPUTS'!C33","v":0},{"$f":"(H223*'CTI INPUTS'!C34)+(I223*'CTI INPUTS'!C33)","v":0},null,{"$f":"(D223/10)*'CTI INPUTS'!C55","v":0},{"$f":"(D223/10)*'CTI INPUTS'!C56","v":0},null,{"$f":"N223*'CTI INPUTS'!C37","v":0},{"$f":"N223*'CTI INPUTS'!C38","v":0},{"$f":"N223*'CTI INPUTS'!C39","v":0},null,{"$f":"(AJ223*'CTI INPUTS'!C6)/60","v":0},{"$f":"(AK223*'CTI INPUTS'!C6)/60","v":0},null,{"$f":"(N223*'CTI INPUTS'!C37)*(('CTI INPUTS'!C6)/60)","v":0},{"$f":"(AQ223/60)*'CTI INPUTS'!C6","v":0},{"$f":"(AR223/60)*'CTI INPUTS'!C6","v":0},null,{"$f":"(P223*('CTI INPUTS'!D17))+(R223*('CTI INPUTS'!D18))+(X223*('CTI INPUTS'!D12))+(Y223*('CTI INPUTS'!D13))+(Z223*('CTI INPUTS'!D14))","v":0},{"$f":"(N223*('CTI INPUTS'!D19))+(R223*('CTI INPUTS'!D18))+(Z223*('CTI INPUTS'!D14))","v":0},{"$f":"(U223*'CTI INPUTS'!D15)+(N223*'CTI INPUTS'!D16)","v":0},null,{"$f":"(X223*('CTI INPUTS'!$D$12))","v":0},{"$f":"(Y223*('CTI INPUTS'!$D$13))","v":0},{"$f":"(Z223*('CTI INPUTS'!$D$14))","v":0},null,{"$f":"AB223*'CTI INPUTS'!$D$42","v":0},{"$f":"AC223*'CTI INPUTS'!$D$43","v":0},{"$f":"AD223*'CTI INPUTS'!$D$44","v":0},{"$f":"AF223*'CTI INPUTS'!$D$45","v":0}]
[null,null,"8in",{"$f":"ProjectData!C27","v":0},null,{"$f":"(D224/10)*20","v":0},null,0,{"$f":"(D224/10)*4","v":0},null,0,0,null,{"$f":"D224/'CTI INPUTS'!$C$3","v":0},null,{"$f":"(12*N224)/12","v":0},null,{"$f":"N224*'CTI INPUTS'!C48","v":0},{"$f":"R224*('CTI INPUTS'!C203)","v":0},null,{"$f":"N224*'CTI INPUTS'!C51","v":0},{"$f":"U224*('CTI INPUTS'!C204)","v":0},null,0,0,0,null,0,0,0,null,0,null,{"$f":"AF224*'CTI INPUTS'!C36","v":0},null,{"$f":"(F224/4)*'CTI INPUTS'!C33","v":0},{"$f":"(H224*'CTI INPUTS'!C34)+(I224*'CTI INPUTS'!C33)","v":0},null,{"$f":"(D224/10)*'CTI INPUTS'!C55","v":0},{"$f":"(D224/10)*'CTI INPUTS'!C56","v":0},null,{"$f":"N224*'CTI INPUTS'!C37","v":0},{"$f":"N224*'CTI INPUTS'!C38","v":0},{"$f":"N224*'CTI INPUTS'!C39","v":0},null,{"$f":"(AJ224*'CTI INPUTS'!C6)/60","v":0},{"$f":"(AK224*'CTI INPUTS'!C6)/60","v":0},null,{"$f":"(N224*'CTI INPUTS'!C37)*(('CTI INPUTS'!C6)/60)","v":0},{"$f":"(AQ224/60)*'CTI INPUTS'!C6","v":0},{"$f":"(AR224/60)*'CTI INPUTS'!C6","v":0},null,{"$f":"(P224*('CTI INPUTS'!D17))+(R224*('CTI INPUTS'!D18))+(X224*('CTI INPUTS'!D12))+(Y224*('CTI INPUTS'!D13))+(Z224*('CTI INPUTS'!D14))","v":0},{"$f":"(N224*('CTI INPUTS'!D19))+(R224*('CTI INPUTS'!D18))+(Z224*('CTI INPUTS'!D14))","v":0},{"$f":"(U224*'CTI INPUTS'!D15)+(N224*'CTI INPUTS'!D16)","v":0},null,{"$f":"(X224*('CTI INPUTS'!$D$12))","v":0},{"$f":"(Y224*('CTI INPUTS'!$D$13))","v":0},{"$f":"(Z224*('CTI INPUTS'!$D$14))","v":0},null,{"$f":"AB224*'CTI INPUTS'!$D$42","v":0},{"$f":"AC224*'CTI INPUTS'!$D$43","v":0},{"$f":"AD224*'CTI INPUTS'!$D$44","v":0},{"$f":"AF224*'CTI INPUTS'!$D$45","v":0}]
[null,null,"10in",{"$f":"ProjectData!C28","v":0},null,{"$f":"(D225/10)*20","v":0},null,0,{"$f":"(D225/10)*4","v":0},null,0,0,null,{"$f":"D225/'CTI INPUTS'!$C$3","v":0},null,{"$f":"(14*N225)/12","v":0},null,{"$f":"N225*'CTI INPUTS'!C48","v":0},{"$f":"R225*('CTI INPUTS'!C203)","v":0},null,{"$f":"N225*'CTI INPUTS'!C51","v":0},{"$f":"U225*('CTI INPUTS'!C204)","v":0},null,0,0,0,null,0,0,0,null,0,null,{"$f":"AF225*'CTI INPUTS'!C36","v":0},null,{"$f":"(F225/4)*'CTI INPUTS'!C33","v":0},{"$f":"(H225*'CTI INPUTS'!C34)+(I225*'CTI INPUTS'!C33)","v":0},null,{"$f":"(D225/10)*'CTI INPUTS'!C55","v":0},{"$f":"(D225/10)*'CTI INPUTS'!C56","v":0},null,{"$f":"N225*'CTI INPUTS'!C37","v":0},{"$f":"N225*'CTI INPUTS'!C38","v":0},{"$f":"N225*'CTI INPUTS'!C39","v":0},null,{"$f":"(AJ225*'CTI INPUTS'!C6)/60","v":0},{"$f":"(AK225*'CTI INPUTS'!C6)/60","v":0},null,{"$f":"(N225*'CTI INPUTS'!C37)*(('CTI INPUTS'!C6)/60)","v":0},{"$f":"(AQ225/60)*'CTI INPUTS'!C6","v":0},{"$f":"(AR225/60)*'CTI INPUTS'!C6","v":0},null,{"$f":"(P225*('CTI INPUTS'!D17))+(R225*('CTI INPUTS'!D18))+(X225*('CTI INPUTS'!D12))+(Y225*('CTI INPUTS'!D13))+(Z225*('CTI INPUTS'!D14))","v":0},{"$f":"(N225*('CTI INPUTS'!D19))+(R225*('CTI INPUTS'!D18))+(Z225*('CTI INPUTS'!D14))","v":0},{"$f":"(U225*'CTI INPUTS'!D15)+(N225*'CTI INPUTS'!D16)","v":0},null,{"$f":"(X225*('CTI INPUTS'!$D$12))","v":0},{"$f":"(Y225*('CTI INPUTS'!$D$13))","v":0},{"$f":"(Z225*('CTI INPUTS'!$D$14))","v":0},null,{"$f":"AB225*'CTI INPUTS'!$D$42","v":0},{"$f":"AC225*'CTI INPUTS'!$D$43","v":0},{"$f":"AD225*'CTI INPUTS'!$D$44","v":0},{"$f":"AF225*'CTI INPUTS'!$D$45","v":0}]
[null,null,"12in",{"$f":"ProjectData!C29","v":15360},null,{"$f":"(D226/10)*24","v":36864},null,3072,{"$f":"(D226/10)*4","v":6144},null,55296,0,null,{"$f":"D226/'CTI INPUTS'!$C$3","v":3072},null,{"$f":"(16*N226)/12","v":4096},null,{"$f":"N226*'CTI INPUTS'!C48","v":12288},{"$f":"R226*('CTI INPUTS'!C203)","v":0},null,{"$f":"N226*'CTI INPUTS'!C51","v":18432},{"$f":"U226*('CTI INPUTS'!C204)","v":0},null,12288,12288,12288,null,6144,6144,6144,null,6144,null,{"$f":"AF226*'CTI INPUTS'!C36","v":307.20000000000005},null,{"$f":"(F226/4)*'CTI INPUTS'!C33","v":4608},{"$f":"(H226*'CTI INPUTS'!C34)+(I226*'CTI INPUTS'!C33)","v":3686.4},null,{"$f":"(D226/10)*'CTI INPUTS'!C55","v":7680},{"$f":"(D226/10)*'CTI INPUTS'!C56","v":768},null,{"$f":"N226*'CTI INPUTS'!C37","v":12288},{"$f":"N226*'CTI INPUTS'!C38","v":9216},{"$f":"N226*'CTI INPUTS'!C39","v":6144},null,{"$f":"(AJ226*'CTI INPUTS'!C6)/60","v":7680},{"$f":"(AK226*'CTI INPUTS'!C6)/60","v":6144},null,{"$f":"(N226*'CTI INPUTS'!C37)*(('CTI INPUTS'!C6)/60)","v":20480},{"$f":"(AQ226/60)*'CTI INPUTS'!C6","v":15360},{"$f":"(AR226/60)*'CTI INPUTS'!C6","v":10240},null,{"$f":"(P226*('CTI INPUTS'!D17))+(R226*('CTI INPUTS'!D18))+(X226*('CTI INPUTS'!D12))+(Y226*('CTI INPUTS'!D13))+(Z226*('CTI INPUTS'!D14))","v":56524.799999999996},{"$f":"(N226*('CTI INPUTS'!D19))+(R226*('CTI INPUTS'!D18))+(Z226*('CTI INPUTS'!D14))","v":39290.879999999997},{"$f":"(U226*'CTI INPUTS'!D15)+(N226*'CTI INPUTS'!D16)","v":30720},null,{"$f":"(X226*('CTI INPUTS'!$D$12))","v":12288},{"$f":"(Y226*('CTI INPUTS'!$D$13))","v":1843.1999999999998},{"$f":"(Z226*('CTI INPUTS'!$D$14))","v":3072},null,{"$f":"AB226*'CTI INPUTS'!$D$42","v":12349.439999999999},{"$f":"AC226*'CTI INPUTS'!$D$43","v":4300.7999999999993},{"$f":"AD226*'CTI INPUTS'!$D$44","v":5529.6},{"$f":"AF226*'CTI INPUTS'!$D$45","v":16896}]
[null,null,"16in",{"$f":"ProjectData!C30","v":0},null,{"$f":"(D227/10)*24","v":0},null,0,{"$f":"(D227/10)*8","v":0},null,0,0,null,{"$f":"D227/'CTI INPUTS'!$C$3","v":0},null,{"$f":"(20*N227)/12","v":0},null,{"$f":"N227*'CTI INPUTS'!C48","v":0},{"$f":"R227*('CTI INPUTS'!C203)","v":0},null,{"$f":"N227*'CTI INPUTS'!C51","v":0},{"$f":"U227*('CTI INPUTS'!C204)","v":0},null,0,0,0,null,0,0,0,null,0,null,{"$f":"AF227*'CTI INPUTS'!C36","v":0},null,{"$f":"(F227/4)*'CTI INPUTS'!C33","v":0},{"$f":"(H227*'CTI INPUTS'!C34)+(I227*'CTI INPUTS'!C33)","v":0},null,{"$f":"(D227/10)*'CTI INPUTS'!C55","v":0},{"$f":"(D227/10)*'CTI INPUTS'!C56","v":0},null,{"$f":"N227*'CTI INPUTS'!C37","v":0},{"$f":"N227*'CTI INPUTS'!C38","v":0},{"$f":"N227*'CTI INPUTS'!C39","v":0},null,{"$f":"(AJ227*'CTI INPUTS'!C6)/60","v":0},{"$f":"(AK227*'CTI INPUTS'!C6)/60","v":0},null,{"$f":"(N227*'CTI INPUTS'!C37)*(('CTI INPUTS'!C6)/60)","v":0},{"$f":"(AQ227/60)*'CTI INPUTS'!C6","v":0},{"$f":"(AR227/60)*'CTI INPUTS'!C6","v":0},null,{"$f":"(P227*('CTI INPUTS'!D17))+(R227*('CTI INPUTS'!D18))+(X227*('CTI INPUTS'!D12))+(Y227*('CTI INPUTS'!D13))+(Z227*('CTI INPUTS'!D14))","v":0},{"$f":"(N227*('CTI INPUTS'!D19))+(R227*('CTI INPUTS'!D18))+(Z227*('CTI INPUTS'!D14))","v":0},{"$f":"(U227*'CTI INPUTS'!D15)+(N227*'CTI INPUTS'!D16)","v":0},null,{"$f":"(X227*('CTI INPUTS'!$D$12))","v":0},{"$f":"(Y227*('CTI INPUTS'!$D$13))","v":0},{"$f":"(Z227*('CTI INPUTS'!$D$14))","v":0},null,{"$f":"AB227*'CTI INPUTS'!$D$42","v":0},{"$f":"AC227*'CTI INPUTS'!$D$43","v":0},{"$f":"AD227*'CTI INPUTS'!$D$44","v":0},{"$f":"AF227*'CTI INPUTS'!$D$45","v":0}]
[null,null,"18in",{"$f":"ProjectData!C31","v":4880},null,{"$f":"(D228/10)*24","v":11712},null,976,{"$f":"(D228/10)*8","v":3904},null,17568,0,null,{"$f":"D228/'CTI INPUTS'!$C$3","v":976},null,{"$f":"(22*N228)/12","v":1789.3333333333333},null,{"$f":"N228*'CTI INPUTS'!C48","v":3904},{"$f":"R228*('CTI INPUTS'!C203)","v":0},null,{"$f":"N228*'CTI INPUTS'!C51","v":5856},{"$f":"U228*('CTI INPUTS'!C204)","v":0},null,3904,3904,3904,null,1952,1952,1952,null,1952,null,{"$f":"AF228*'CTI INPUTS'!C36","v":97.600000000000009},null,{"$f":"(F228/4)*'CTI INPUTS'!C33","v":1464},{"$f":"(H228*'CTI INPUTS'!C34)+(I228*'CTI INPUTS'!C33)","v":2147.1999999999998},null,{"$f":"(D228/10)*'CTI INPUTS'!C55","v":2440},{"$f":"(D228/10)*'CTI INPUTS'!C56","v":244},null,{"$f":"N228*'CTI INPUTS'!C37","v":3904},{"$f":"N228*'CTI INPUTS'!C38","v":2928},{"$f":"N228*'CTI INPUTS'!C39","v":1952},null,{"$f":"(AJ228*'CTI INPUTS'!C6)/60","v":2440},{"$f":"(AK228*'CTI INPUTS'!C6)/60","v":3578.6666666666661},null,{"$f":"(N228*'CTI INPUTS'!C37)*(('CTI INPUTS'!C6)/60)","v":6506.666666666667},{"$f":"(AQ228/60)*'CTI INPUTS'!C6","v":4880},{"$f":"(AR228/60)*'CTI INPUTS'!C6","v":3253.333333333333},null,{"$f":"(P228*('CTI INPUTS'!D17))+(R228*('CTI INPUTS'!D18))+(X228*('CTI INPUTS'!D12))+(Y228*('CTI INPUTS'!D13))+(Z228*('CTI INPUTS'!D14))","v":20154.399999999998},{"$f":"(N228*('CTI INPUTS'!D19))+(R228*('CTI INPUTS'!D18))+(Z228*('CTI INPUTS'!D14))","v":12483.04},{"$f":"(U228*'CTI INPUTS'!D15)+(N228*'CTI INPUTS'!D16)","v":9760},null,{"$f":"(X228*('CTI INPUTS'!$D$12))","v":3904},{"$f":"(Y228*('CTI INPUTS'!$D$13))","v":585.6},{"$f":"(Z228*('CTI INPUTS'!$D$14))","v":976},null,{"$f":"AB228*'CTI INPUTS'!$D$42","v":3923.5199999999995},{"$f":"AC228*'CTI INPUTS'!$D$43","v":1366.3999999999999},{"$f":"AD228*'CTI INPUTS'!$D$44","v":1756.8},{"$f":"AF228*'CTI INPUTS'!$D$45","v":5368}]
[null,null,"20in",{"$f":"ProjectData!C32","v":0},null,{"$f":"(D229/10)*28","v":0},null,0,{"$f":"(D229/10)*8","v":0},null,0,0,null,{"$f":"D229/'CTI INPUTS'!$C$3","v":0},null,{"$f":"(24*N229)/12","v":0},null,{"$f":"N229*'CTI INPUTS'!C48","v":0},{"$f":"R229*('CTI INPUTS'!C203)","v":0},null,{"$f":"N229*'CTI INPUTS'!C51","v":0},{"$f":"U229*('CTI INPUTS'!C204)","v":0},null,0,0,0,null,0,0,0,null,0,null,{"$f":"AF229*'CTI INPUTS'!C36","v":0},null,{"$f":"(F229/4)*'CTI INPUTS'!C33","v":0},{"$f":"(H229*'CTI INPUTS'!C34)+(I229*'CTI INPUTS'!C33)","v":0},null,{"$f":"(D229/10)*'CTI INPUTS'!C55","v":0},{"$f":"(D229/10)*'CTI INPUTS'!C56","v":0},null,{"$f":"N229*'CTI INPUTS'!C37","v":0},{"$f":"N229*'CTI INPUTS'!C38","v":0},{"$f":"N229*'CTI INPUTS'!C39","v":0},null,{"$f":"(AJ229*'CTI INPUTS'!C6)/60","v":0},{"$f":"(AK229*'CTI INPUTS'!C6)/60","v":0},null,{"$f":"(N229*'CTI INPUTS'!C37)*(('CTI INPUTS'!C6)/60)","v":0},{"$f":"(AQ229/60)*'CTI INPUTS'!C6","v":0},{"$f":"(AR229/60)*'CTI INPUTS'!C6","v":0},null,{"$f":"(P229*('CTI INPUTS'!D17))+(R229*('CTI INPUTS'!D18))+(X229*('CTI INPUTS'!D12))+(Y229*('CTI INPUTS'!D13))+(Z229*('CTI INPUTS'!D14))","v":0},{"$f":"(N229*('CTI INPUTS'!D19))+(R229*('CTI INPUTS'!D18))+(Z229*('CTI INPUTS'!D14))","v":0},{"$f":"(U229*'CTI INPUTS'!D15)+(N229*'CTI INPUTS'!D16)","v":0},null,{"$f":"(X229*('CTI INPUTS'!$D$12))","v":0},{"$f":"(Y229*('CTI INPUTS'!$D$13))","v":0},{"$f":"(Z229*('CTI INPUTS'!$D$14))","v":0},null,{"$f":"AB229*'CTI INPUTS'!$D$42","v":0},{"$f":"AC229*'CTI INPUTS'!$D$43","v":0},{"$f":"AD229*'CTI INPUTS'!$D$44","v":0},{"$f":"AF229*'CTI INPUTS'!$D$45","v":0}]
[null,null,"24in",{"$f":"ProjectData!C33","v":0},null,{"$f":"(D230/10)*28","v":0},null,0,{"$f":"(D230/10)*8","v":0},null,0,0,null,{"$f":"D230/'CTI INPUTS'!$C$3","v":0},null,{"$f":"(28*N230)/12","v":0},null,{"$f":"N230*'CTI INPUTS'!C48","v":0},{"$f":"R230*('CTI INPUTS'!C203)","v":0},null,{"$f":"N230*'CTI INPUTS'!C51","v":0},{"$f":"U230*('CTI INPUTS'!C204)","v":0},null,0,0,0,null,0,0,0,null,0,null,{"$f":"AF230*'CTI INPUTS'!C36","v":0},null,{"$f":"(F230/4)*'CTI INPUTS'!C33","v":0},{"$f":"(H230*'CTI INPUTS'!C34)+(I230*'CTI INPUTS'!C33)","v":0},null,{"$f":"(D230/10)*'CTI INPUTS'!C55","v":0},{"$f":"(D230/10)*'CTI INPUTS'!C56","v":0},null,{"$f":"N230*'CTI INPUTS'!C37","v":0},{"$f":"N230*'CTI INPUTS'!C38","v":0},{"$f":"N230*'CTI INPUTS'!C39","v":0},null,{"$f":"(AJ230*'CTI INPUTS'!C6)/60","v":0},{"$f":"(AK230*'CTI INPUTS'!C6)/60","v":0},null,{"$f":"(N230*'CTI INPUTS'!C37)*(('CTI INPUTS'!C6)/60)","v":0},{"$f":"(AQ230/60)*'CTI INPUTS'!C6","v":0},{"$f":"(AR230/60)*'CTI INPUTS'!C6","v":0},null,{"$f":"(P230*('CTI INPUTS'!D17))+(R230*('CTI INPUTS'!D18))+(X230*('CTI INPUTS'!D12))+(Y230*('CTI INPUTS'!D13))+(Z230*('CTI INPUTS'!D14))","v":0},{"$f":"(N230*('CTI INPUTS'!D19))+(R230*('CTI INPUTS'!D18))+(Z230*('CTI INPUTS'!D14))","v":0},{"$f":"(U230*'CTI INPUTS'!D15)+(N230*'CTI INPUTS'!D16)","v":0},null,{"$f":"(X230*('CTI INPUTS'!$D$12))","v":0},{"$f":"(Y230*('CTI INPUTS'!$D$13))","v":0},{"$f":"(Z230*('CTI INPUTS'!$D$14))","v":0},null,{"$f":"AB230*'CTI INPUTS'!$D$42","v":0},{"$f":"AC230*'CTI INPUTS'!$D$43","v":0},{"$f":"AD230*'CTI INPUTS'!$D$44","v":0},{"$f":"AF230*'CTI INPUTS'!$D$45","v":0}]
[null,null,"30in",{"$f":"ProjectData!C34","v":0},null,{"$f":"(D231/10)*32","v":0},null,0,{"$f":"(D231/10)*12","v":0},null,0,0,null,{"$f":"D231/'CTI INPUTS'!$C$3","v":0},null,{"$f":"(34*N231)/12","v":0},null,{"$f":"N231*'CTI INPUTS'!C48","v":0},{"$f":"R231*('CTI INPUTS'!C203)","v":0},null,{"$f":"N231*'CTI INPUTS'!C51","v":0},{"$f":"U231*('CTI INPUTS'!C204)","v":0},null,0,0,0,null,0,0,0,null,0,null,{"$f":"AF231*'CTI INPUTS'!C36","v":0},null,{"$f":"(F231/4)*'CTI INPUTS'!C33","v":0},{"$f":"(H231*'CTI INPUTS'!C34)+(I231*'CTI INPUTS'!C33)","v":0},null,{"$f":"(D231/10)*'CTI INPUTS'!C55","v":0},{"$f":"(D231/10)*'CTI INPUTS'!C56","v":0},null,{"$f":"N231*'CTI INPUTS'!C37","v":0},{"$f":"N231*'CTI INPUTS'!C38","v":0},{"$f":"N231*'CTI INPUTS'!C39","v":0},null,{"$f":"(AJ231*'CTI INPUTS'!C6)/60","v":0},{"$f":"(AK231*'CTI INPUTS'!C6)/60","v":0},null,{"$f":"(N231*'CTI INPUTS'!C37)*(('CTI INPUTS'!C6)/60)","v":0},{"$f":"(AQ231/60)*'CTI INPUTS'!C6","v":0},{"$f":"(AR231/60)*'CTI INPUTS'!C6","v":0},null,{"$f":"(P231*('CTI INPUTS'!D17))+(R231*('CTI INPUTS'!D18))+(X231*('CTI INPUTS'!D12))+(Y231*('CTI INPUTS'!D13))+(Z231*('CTI INPUTS'!D14))","v":0},{"$f":"(N231*('CTI INPUTS'!D19))+(R231*('CTI INPUTS'!D18))+(Z231*('CTI INPUTS'!D14))","v":0},{"$f":"(U231*'CTI INPUTS'!D15)+(N231*'CTI INPUTS'!D16)","v":0},null,{"$f":"(X231*('CTI INPUTS'!$D$12))","v":0},{"$f":"(Y231*('CTI INPUTS'!$D$13))","v":0},{"$f":"(Z231*('CTI INPUTS'!$D$14))","v":0},null,{"$f":"AB231*'CTI INPUTS'!$D$42","v":0},{"$f":"AC231*'CTI INPUTS'!$D$43","v":0},{"$f":"AD231*'CTI INPUTS'!$D$44","v":0},{"$f":"AF231*'CTI INPUTS'!$D$45","v":0}]
[null,null,"36in",{"$f":"ProjectData!C35","v":0},null,{"$f":"(D232/10)*32","v":0},null,0,{"$f":"(D232/10)*12","v":0},null,0,0,null,{"$f":"D232/'CTI INPUTS'!$C$3","v":0},null,{"$f":"(40*N232)/12","v":0},null,{"$f":"N232*'CTI INPUTS'!C48","v":0},{"$f":"R232*('CTI INPUTS'!C203)","v":0},null,{"$f":"N232*'CTI INPUTS'!C51","v":0},{"$f":"U232*('CTI INPUTS'!C204)","v":0},null,0,0,0,null,0,0,0,null,0,null,{"$f":"AF232*'CTI INPUTS'!C36","v":0},null,{"$f":"(F232/4)*'CTI INPUTS'!C33","v":0},{"$f":"(H232*'CTI INPUTS'!C34)+(I232*'CTI INPUTS'!C33)","v":0},null,{"$f":"(D232/10)*'CTI INPUTS'!C55","v":0},{"$f":"(D232/10)*'CTI INPUTS'!C56","v":0},null,{"$f":"N232*'CTI INPUTS'!C37","v":0},{"$f":"N232*'CTI INPUTS'!C38","v":0},{"$f":"N232*'CTI INPUTS'!C39","v":0},null,{"$f":"(AJ232*'CTI INPUTS'!C6)/60","v":0},{"$f":"(AK232*'CTI INPUTS'!C6)/60","v":0},null,{"$f":"(N232*'CTI INPUTS'!C37)*(('CTI INPUTS'!C6)/60)","v":0},{"$f":"(AQ232/60)*'CTI INPUTS'!C6","v":0},{"$f":"(AR232/60)*'CTI INPUTS'!C6","v":0},null,{"$f":"(P232*('CTI INPUTS'!D17))+(R232*('CTI INPUTS'!D18))+(X232*('CTI INPUTS'!D12))+(Y232*('CTI INPUTS'!D13))+(Z232*('CTI INPUTS'!D14))","v":0},{"$f":"(N232*('CTI INPUTS'!D19))+(R232*('CTI INPUTS'!D18))+(Z232*('CTI INPUTS'!D14))","v":0},{"$f":"(U232*'CTI INPUTS'!D15)+(N232*'CTI INPUTS'!D16)","v":0},null,{"$f":"(X232*('CTI INPUTS'!$D$12))","v":0},{"$f":"(Y232*('CTI INPUTS'!$D$13))","v":0},{"$f":"(Z232*('CTI INPUTS'!$D$14))","v":0},null,{"$f":"AB232*'CTI INPUTS'!$D$42","v":0},{"$f":"AC232*'CTI INPUTS'!$D$43","v":0},{"$f":"AD232*'CTI INPUTS'!$D$44","v":0},{"$f":"AF232*'CTI INPUTS'!$D$45","v":0}]
[null,null,null,null,null,{"$f":"SUM(F221:F232)","v":48576},null,{"$f":"SUM((H221:H232)+(I221:I232))","v":14096},null,null,{"$f":"SUM(K221:K232)","v":72864},{"$f":"SUM(L221:L232)","v":0},null,{"$f":"SUM(N221:N232)","v":4048},null,{"$f":"SUM(P221:P232)","v":5885.333333333333},null,{"$f":"SUM(R221:R232)","v":16192},{"$f":"SUM(S221:S232)","v":0},null,{"$f":"SUM(U221:U232)","v":24288},{"$f":"SUM(V221:V232)","v":0},null,{"$f":"SUM((X221:X232)+(Y221:Y232)+(Z221:Z232))","v":48576},null,null,null,{"$f":"SUM((AB221:AB232)+(AC221:AC232)+(AD221:AD232))","v":24288},null,null,null,{"$f":"SUM(AF221:AF232)","v":8096},null,{"$f":"SUM(AH221:AH232)","v":404.80000000000007},null,{"$f":"SUM(AJ221:AJ232)","v":6072},{"$f":"SUM(AK221:AK232)","v":5833.6},null,{"$f":"SUM(AM221:AM232)","v":10120},{"$f":"SUM(AN221:AN232)","v":1012},null,{"$f":"SUM(AP221:AP232)","v":16192},{"$f":"SUM(AQ221:AQ232)","v":12144},{"$f":"SUM(AR221:AR232)","v":8096},null,{"$f":"SUM(AT221:AT232)","v":10120},{"$f":"SUM(AU221:AU232)","v":9722.6666666666661},null,{"$f":"SUM(AW221:AW232)","v":26986.666666666668},{"$f":"SUM(AX221:AX232)","v":20240},{"$f":"SUM(AY221:AY232)","v":13493.333333333332},null,{"$f":"SUM(BA221:BA232)","v":76679.199999999997},{"$f":"SUM(BB221:BB232)","v":51773.919999999998},{"$f":"SUM(BC221:BC232)","v":40480},null,{"$f":"SUM((BE221:BE232)+(BF221:BF232)+(BG221:BG232))","v":22668.800000000003},null,null,null,{"$f":"SUM((BI221:BI232)+(BJ221:BJ232)+(BK221:BK232))","v":29226.559999999998},null,null,{"$f":"SUM(BL221:BL232)","v":22264},null,{"$f":"SUM(BN221:BN232)","v":0},{"$f":"SUM(BO221:BO232)","v":0},{"$f":"SUM(BP221:BP232)","v":0}]
[]
[null,"TM STRAIGHT SECTIONS: 8FT SPAN",null,null,null,null,null,8,"FT"]
[]
[null,"STRAIGHT SECTIONS",null,null,null,"SPLICE",null,"POSI-LOK",null,null,"COVER FIXINGS",null,null,"SUPPORT QTY",null,"SUPPORT L/FT",null,"ATR HANGER",null,null,"WIRE HANGER",null,null,"ATR HARDWARE QUANTITY",null,null,null,"HOLD DOWN & HDWR QUANTITY",null,null,null,"SRC CLIP",null,"SRC CLIP",null,"SPLICE INSTALLATION TIME (MIN)",null,null,"COVER INSTAL TIME (MIN)",null,null,"SUPPORT INSTALLATION TIME (MIN)",null,null,null,"SPLICE INSTALLATION COST ($)",null,null,"SUPPORT INSTALLATION COST ($)",null,null,null,"SUPPORT COST ($)",null,null,null,"ATR HARDWARE COST $",null,null,null,"HOLD DOWN CLAMPS & HARDWARE COST ($)",null,null,null,null,"SUPPORT WEIGHT (LBS)"]
[]
[null,"HEIGHT","WIDTH","LINEAR FT",null,"WSKIT (pcs)",null,"PLOKM (pcs)","WSKIT (pcs)",null,"HDKIT (pcs)","SNAP-ON",null,"ALL TYPES",null,"STRUT (FT)",null,"LINEAR FT"," LBS",null,"LINEAR FT"," LBS",null,"SQ WSHR","FLT WSHR","HEX NUT",null,"FLXW","25HX","25NC",null,"QUANTITY (pc)",null,"INSTAL (MIN)",null,"WSKIT","POSI-LOK + WSKIT",null,"HDKIT","SNAP-ON",null,"STRUT","URH","CABLE",null,"WSKIT","POSI-LOK + WSKIT",null,"STRUT","URH","CABLE",null,"STRUT","URH","CABLE",null,"SQUARE WSHR","FLAT WSHR","HEX NUT",null,"FLXW","25HX","25NC","SRC CLIP",null,"STRUT","URH","WIRE"]
[null,"2/4/6in","2in",{"$f":"D221","v":0},null,{"$f":"(D240/10)*8","v":0},null,{"$f":"(D240/10)*2","v":0},{"$f":"(D240/10)*0","v":0},null,{"$f":"(D240/10)*36","v":0},0,null,{"$f":"D240/$H$235","v":0},null,{"$f":"(6*N240)/12","v":0},null,{"$f":"N240*'CTI INPUTS'!$C$48","v":0},{"$f":"R240*('CTI INPUTS'!C200)","v":0},null,{"$f":"N240*'CTI INPUTS'!$C$51","v":0},{"$f":"U240*('CTI INPUTS'!C201)","v":0},null,{"$f":"N240*4","v":0},{"$f":"N240*4","v":0},{"$f":"N240*4","v":0},null,{"$f":"N240*2","v":0},{"$f":"N240*2","v":0},{"$f":"N240*2","v":0},null,{"$f":"N240*1","v":0},null,{"$f":"AF240*'CTI INPUTS'!$C$36","v":0},null,{"$f":"(F240/4)*'CTI INPUTS'!$C$33","v":0},{"$f":"(H240*'CTI INPUTS'!$C$34)+(I240*'CTI INPUTS'!$C$33)","v":0},null,{"$f":"(D240/10)*'CTI INPUTS'!$C$55","v":0},{"$f":"(D240/10)*'CTI INPUTS'!C53","v":0},null,{"$f":"N240*'CTI INPUTS'!$C$37","v":0},{"$f":"N240*'CTI INPUTS'!$C$38","v":0},{"$f":"N240*'CTI INPUTS'!$C$39","v":0},null,{"$f":"(AJ240*'CTI INPUTS'!$C$6)/60","v":0},{"$f":"(AK240*'CTI INPUTS'!$C$6)/60","v":0},null,{"$f":"(N240*'CTI INPUTS'!$C$37)*(('CTI INPUTS'!$C$6)/60)","v":0},{"$f":"(AQ240/60)*'CTI INPUTS'!$C$6","v":0},{"$f":"(AR240/60)*'CTI INPUTS'!$C$6","v":0},null,{"$f":"(P240*('CTI INPUTS'!$D$17))+(R240*('CTI INPUTS'!$D$18))+(X240*('CTI INPUTS'!$D$12))+(Y240*('CTI INPUTS'!$D$13))+(Z240*('CTI INPUTS'!$D$14))","v":0},{"$f":"(N240*('CTI INPUTS'!$D$19))+(R240*('CTI INPUTS'!$D$18))+(Z240*('CTI INPUTS'!$D$14))","v":0},{"$f":"(U240*'CTI INPUTS'!$D$15)+(N240*'CTI INPUTS'!$D$16)","v":0},null,{"$f":"(X240*('CTI INPUTS'!$D$12))","v":0},{"$f":"(Y240*('CTI INPUTS'!$D$13))","v":0},{"$f":"(Z240*('CTI INPUTS'!$D$14))","v":0},null,{"$f":"AB240*'CTI INPUTS'!$D$42","v":0},{"$f":"AC240*'CTI INPUTS'!$D$43","v":0},{"$f":"AD240*'CTI INPUTS'!$D$44","v":0},{"$f":"AF240*'CTI INPUTS'!$D$45","v":0}]
[null,null,"4in",{"$f":"D222","v":0},null,{"$f":"(D241/10)*16","v":0},null,0,{"$f":"(D241/10)*0","v":0},null,0,0,null,0,null,{"$f":"(8*N241)/12","v":0},null,{"$f":"N241*'CTI INPUTS'!$C$48","v":0},{"$f":"R241*('CTI INPUTS'!C200)","v":0},null,{"$f":"N241*'CTI INPUTS'!$C$51","v":0},{"$f":"U241*('CTI INPUTS'!C201)","v":0},null,0,0,0,null,0,0,0,null,{"$f":"N241*2","v":0},null,{"$f":"AF241*'CTI INPUTS'!$C$36","v":0},null,{"$f":"(F241/4)*'CTI INPUTS'!$C$33","v":0},{"$f":"(H241*'CTI INPUTS'!$C$34)+(I241*'CTI INPUTS'!$C$33)","v":0},null,{"$f":"(D241/10)*'CTI INPUTS'!$C$55","v":0},{"$f":"(D241/10)*'CTI INPUTS'!C53","v":0},null,{"$f":"N241*'CTI INPUTS'!$C$37","v":0},{"$f":"N241*'CTI INPUTS'!$C$38","v":0},{"$f":"N241*'CTI INPUTS'!$C$39","v":0},null,{"$f":"(AJ241*'CTI INPUTS'!$C$6)/60","v":0},{"$f":"(AK241*'CTI INPUTS'!$C$6)/60","v":0},null,{"$f":"(N241*'CTI INPUTS'!$C$37)*(('CTI INPUTS'!$C$6)/60)","v":0},{"$f":"(AQ241/60)*'CTI INPUTS'!$C$6","v":0},{"$f":"(AR241/60)*'CTI INPUTS'!$C$6","v":0},null,{"$f":"(P241*('CTI INPUTS'!$D$17))+(R241*('CTI INPUTS'!$D$18))+(X241*('CTI INPUTS'!$D$12))+(Y241*('CTI INPUTS'!$D$13))+(Z241*('CTI INPUTS'!$D$14))","v":0},{"$f":"(N241*('CTI INPUTS'!$D$19))+(R241*('CTI INPUTS'!$D$18))+(Z241*('CTI INPUTS'!$D$14))","v":0},{"$f":"(U241*'CTI INPUTS'!$D$15)+(N241*'CTI INPUTS'!$D$16)","v":0},null,{"$f":"(X241*('CTI INPUTS'!$D$12))","v":0},{"$f":"(Y241*('CTI INPUTS'!$D$13))","v":0},{"$f":"(Z241*('CTI INPUTS'!$D$14))","v":0},null,{"$f":"AB241*'CTI INPUTS'!$D$42","v":0},{"$f":"AC241*'CTI INPUTS'!$D$43","v":0},{"$f":"AD241*'CTI INPUTS'!$D$44","v":0},{"$f":"AF241*'CTI INPUTS'!$D$45","v":0}]
[null,null,"6in",0,null,{"$f":"(D242/10)*16","v":0},null,0,{"$f":"(D242/10)*0","v":0},null,0,0,null,0,null,{"$f":"(10*N242)/12","v":0},null,{"$f":"N242*'CTI INPUTS'!$C$48","v":0},{"$f":"R242*('CTI INPUTS'!C200)","v":0},null,{"$f":"N242*'CTI INPUTS'!$C$51","v":0},{"$f":"U242*('CTI INPUTS'!C201)","v":0},null,0,0,0,null,0,0,0,null,0,null,{"$f":"AF242*'CTI INPUTS'!$C$36","v":0},null,{"$f":"(F242/4)*'CTI INPUTS'!$C$33","v":0},{"$f":"(H242*'CTI INPUTS'!$C$34)+(I242*'CTI INPUTS'!$C$33)","v":0},null,{"$f":"(D242/10)*'CTI INPUTS'!$C$55","v":0},{"$f":"(D242/10)*'CTI INPUTS'!C53","v":0},null,{"$f":"N242*'CTI INPUTS'!$C$37","v":0},{"$f":"N242*'CTI INPUTS'!$C$38","v":0},{"$f":"N242*'CTI INPUTS'!$C$39","v":0},null,{"$f":"(AJ242*'CTI INPUTS'!$C$6)/60","v":0},{"$f":"(AK242*'CTI INPUTS'!$C$6)/60","v":0},null,{"$f":"(N242*'CTI INPUTS'!$C$37)*(('CTI INPUTS'!$C$6)/60)","v":0},{"$f":"(AQ242/60)*'CTI INPUTS'!$C$6","v":0},{"$f":"(AR242/60)*'CTI INPUTS'!$C$6","v":0},null,{"$f":"(P242*('CTI INPUTS'!$D$17))+(R242*('CTI INPUTS'!$D$18))+(X242*('CTI INPUTS'!$D$12))+(Y242*('CTI INPUTS'!$D$13))+(Z242*('CTI INPUTS'!$D$14))","v":0},{"$f":"(N242*('CTI INPUTS'!$D$19))+(R242*('CTI INPUTS'!$D$18))+(Z242*('CTI INPUTS'!$D$14))","v":0},{"$f":"(U242*'CTI INPUTS'!$D$15)+(N242*'CTI INPUTS'!$D$16)","v":0},null,{"$f":"(X242*('CTI INPUTS'!$D$12))","v":0},{"$f":"(Y242*('CTI INPUTS'!$D$13))","v":0},{"$f":"(Z242*('CTI INPUTS'!$D$14))","v":0},null,{"$f":"AB242*'CTI INPUTS'!$D$42","v":0},{"$f":"AC242*'CTI INPUTS'!$D$43","v":0},{"$f":"AD242*'CTI INPUTS'!$D$44","v":0},{"$f":"AF242*'CTI INPUTS'!$D$45","v":0}]
[null,null,"8in",0,null,{"$f":"(D243/10)*20","v":0},null,0,{"$f":"(D243/10)*4","v":0},null,0,0,null,0,null,{"$f":"(12*N243)/12","v":0},null,{"$f":"N243*'CTI INPUTS'!$C$48","v":0},{"$f":"R243*('CTI INPUTS'!C200)","v":0},null,{"$f":"N243*'CTI INPUTS'!$C$51","v":0},{"$f":"U243*('CTI INPUTS'!C201)","v":0},null,0,0,0,null,0,0,0,null,0,null,{"$f":"AF243*'CTI INPUTS'!$C$36","v":0},null,{"$f":"(F243/4)*'CTI INPUTS'!$C$33","v":0},{"$f":"(H243*'CTI INPUTS'!$C$34)+(I243*'CTI INPUTS'!$C$33)","v":0},null,{"$f":"(D243/10)*'CTI INPUTS'!$C$55","v":0},{"$f":"(D243/10)*'CTI INPUTS'!C53","v":0},null,{"$f":"N243*'CTI INPUTS'!$C$37","v":0},{"$f":"N243*'CTI INPUTS'!$C$38","v":0},{"$f":"N243*'CTI INPUTS'!$C$39","v":0},null,{"$f":"(AJ243*'CTI INPUTS'!$C$6)/60","v":0},{"$f":"(AK243*'CTI INPUTS'!$C$6)/60","v":0},null,{"$f":"(N243*'CTI INPUTS'!$C$37)*(('CTI INPUTS'!$C$6)/60)","v":0},{"$f":"(AQ243/60)*'CTI INPUTS'!$C$6","v":0},{"$f":"(AR243/60)*'CTI INPUTS'!$C$6","v":0},null,{"$f":"(P243*('CTI INPUTS'!$D$17))+(R243*('CTI INPUTS'!$D$18))+(X243*('CTI INPUTS'!$D$12))+(Y243*('CTI INPUTS'!$D$13))+(Z243*('CTI INPUTS'!$D$14))","v":0},{"$f":"(N243*('CTI INPUTS'!$D$19))+(R243*('CTI INPUTS'!$D$18))+(Z243*('CTI INPUTS'!$D$14))","v":0},{"$f":"(U243*'CTI INPUTS'!$D$15)+(N243*'CTI INPUTS'!$D$16)","v":0},null,{"$f":"(X243*('CTI INPUTS'!$D$12))","v":0},{"$f":"(Y243*('CTI INPUTS'!$D$13))","v":0},{"$f":"(Z243*('CTI INPUTS'!$D$14))","v":0},null,{"$f":"AB243*'CTI INPUTS'!$D$42","v":0},{"$f":"AC243*'CTI INPUTS'!$D$43","v":0},{"$f":"AD243*'CTI INPUTS'!$D$44","v":0},{"$f":"AF243*'CTI INPUTS'!$D$45","v":0}]
[null,null,"10in",0,null,{"$f":"(D244/10)*20","v":0},null,0,{"$f":"(D244/10)*4","v":0},null,0,0,null,0,null,{"$f":"(14*N244)/12","v":0},null,{"$f":"N244*'CTI INPUTS'!$C$48","v":0},{"$f":"R244*('CTI INPUTS'!C200)","v":0},null,{"$f":"N244*'CTI INPUTS'!$C$51","v":0},{"$f":"U244*('CTI INPUTS'!C201)","v":0},null,0,0,0,null,0,0,0,null,0,null,{"$f":"AF244*'CTI INPUTS'!$C$36","v":0},null,{"$f":"(F244/4)*'CTI INPUTS'!$C$33","v":0},{"$f":"(H244*'CTI INPUTS'!$C$34)+(I244*'CTI INPUTS'!$C$33)","v":0},null,{"$f":"(D244/10)*'CTI INPUTS'!$C$55","v":0},{"$f":"(D244/10)*'CTI INPUTS'!C53","v":0},null,{"$f":"N244*'CTI INPUTS'!$C$37","v":0},{"$f":"N244*'CTI INPUTS'!$C$38","v":0},{"$f":"N244*'CTI INPUTS'!$C$39","v":0},null,{"$f":"(AJ244*'CTI INPUTS'!$C$6)/60","v":0},{"$f":"(AK244*'CTI INPUTS'!$C$6)/60","v":0},null,{"$f":"(N244*'CTI INPUTS'!$C$37)*(('CTI INPUTS'!$C$6)/60)","v":0},{"$f":"(AQ244/60)*'CTI INPUTS'!$C$6","v":0},{"$f":"(AR244/60)*'CTI INPUTS'!$C$6","v":0},null,{"$f":"(P244*('CTI INPUTS'!$D$17))+(R244*('CTI INPUTS'!$D$18))+(X244*('CTI INPUTS'!$D$12))+(Y244*('CTI INPUTS'!$D$13))+(Z244*('CTI INPUTS'!$D$14))","v":0},{"$f":"(N244*('CTI INPUTS'!$D$19))+(R244*('CTI INPUTS'!$D$18))+(Z244*('CTI INPUTS'!$D$14))","v":0},{"$f":"(U244*'CTI INPUTS'!$D$15)+(N244*'CTI INPUTS'!$D$16)","v":0},null,{"$f":"(X244*('CTI INPUTS'!$D$12))","v":0},{"$f":"(Y244*('CTI INPUTS'!$D$13))","v":0},{"$f":"(Z244*('CTI INPUTS'!$D$14))","v":0},null,{"$f":"AB244*'CTI INPUTS'!$D$42","v":0},{"$f":"AC244*'CTI INPUTS'!$D$43","v":0},{"$f":"AD244*'CTI INPUTS'!$D$44","v":0},{"$f":"AF244*'CTI INPUTS'!$D$45","v":0}]
[null,null,"12in",15360,null,{"$f":"(D245/10)*24","v":36864},null,3072,{"$f":"(D245/10)*4","v":6144},null,55296,0,null,1920,null,{"$f":"(16*N245)/12","v":2560},null,{"$f":"N245*'CTI INPUTS'!$C$48","v":7680},{"$f":"R245*('CTI INPUTS'!C200)","v":0},null,{"$f":"N245*'CTI INPUTS'!$C$51","v":11520},{"$f":"U245*('CTI INPUTS'!C201)","v":0},null,7680,7680,7680,null,3840,3840,3840,null,3840,null,{"$f":"AF245*'CTI INPUTS'!$C$36","v":192},null,{"$f":"(F245/4)*'CTI INPUTS'!$C$33","v":4608},{"$f":"(H245*'CTI INPUTS'!$C$34)+(I245*'CTI INPUTS'!$C$33)","v":3686.4},null,{"$f":"(D245/10)*'CTI INPUTS'!$C$55","v":7680},{"$f":"(D245/10)*'CTI INPUTS'!C53","v":0},null,{"$f":"N245*'CTI INPUTS'!$C$37","v":7680},{"$f":"N245*'CTI INPUTS'!$C$38","v":5760},{"$f":"N245*'CTI INPUTS'!$C$39","v":3840},null,{"$f":"(AJ245*'CTI INPUTS'!$C$6)/60","v":7680},{"$f":"(AK245*'CTI INPUTS'!$C$6)/60","v":6144},null,{"$f":"(N245*'CTI INPUTS'!$C$37)*(('CTI INPUTS'!$C$6)/60)","v":12800},{"$f":"(AQ245/60)*'CTI INPUTS'!$C$6","v":9600},{"$f":"(AR245/60)*'CTI INPUTS'!$C$6","v":6400},null,{"$f":"(P245*('CTI INPUTS'!$D$17))+(R245*('CTI INPUTS'!$D$18))+(X245*('CTI INPUTS'!$D$12))+(Y245*('CTI INPUTS'!$D$13))+(Z245*('CTI INPUTS'!$D$14))","v":35328},{"$f":"(N245*('CTI INPUTS'!$D$19))+(R245*('CTI INPUTS'!$D$18))+(Z245*('CTI INPUTS'!$D$14))","v":24556.800000000003},{"$f":"(U245*'CTI INPUTS'!$D$15)+(N245*'CTI INPUTS'!$D$16)","v":19200},null,{"$f":"(X245*('CTI INPUTS'!$D$12))","v":7680},{"$f":"(Y245*('CTI INPUTS'!$D$13))","v":1152},{"$f":"(Z245*('CTI INPUTS'!$D$14))","v":1920},null,{"$f":"AB245*'CTI INPUTS'!$D$42","v":7718.4},{"$f":"AC245*'CTI INPUTS'!$D$43","v":2688},{"$f":"AD245*'CTI INPUTS'!$D$44","v":3456},{"$f":"AF245*'CTI INPUTS'!$D$45","v":10560}]
[null,null,"16in",0,null,{"$f":"(D246/10)*24","v":0},null,0,{"$f":"(D246/10)*8","v":0},null,0,0,null,0,null,{"$f":"(20*N246)/12","v":0},null,{"$f":"N246*'CTI INPUTS'!$C$48","v":0},{"$f":"R246*('CTI INPUTS'!C200)","v":0},null,{"$f":"N246*'CTI INPUTS'!$C$51","v":0},{"$f":"U246*('CTI INPUTS'!C201)","v":0},null,0,0,0,null,0,0,0,null,0,null,{"$f":"AF246*'CTI INPUTS'!$C$36","v":0},null,{"$f":"(F246/4)*'CTI INPUTS'!$C$33","v":0},{"$f":"(H246*'CTI INPUTS'!$C$34)+(I246*'CTI INPUTS'!$C$33)","v":0},null,{"$f":"(D246/10)*'CTI INPUTS'!$C$55","v":0},{"$f":"(D246/10)*'CTI INPUTS'!C53","v":0},null,{"$f":"N246*'CTI INPUTS'!$C$37","v":0},{"$f":"N246*'CTI INPUTS'!$C$38","v":0},{"$f":"N246*'CTI INPUTS'!$C$39","v":0},null,{"$f":"(AJ246*'CTI INPUTS'!$C$6)/60","v":0},{"$f":"(AK246*'CTI INPUTS'!$C$6)/60","v":0},null,{"$f":"(N246*'CTI INPUTS'!$C$37)*(('CTI INPUTS'!$C$6)/60)","v":0},{"$f":"(AQ246/60)*'CTI INPUTS'!$C$6","v":0},{"$f":"(AR246/60)*'CTI INPUTS'!$C$6","v":0},null,{"$f":"(P246*('CTI INPUTS'!$D$17))+(R246*('CTI INPUTS'!$D$18))+(X246*('CTI INPUTS'!$D$12))+(Y246*('CTI INPUTS'!$D$13))+(Z246*('CTI INPUTS'!$D$14))","v":0},{"$f":"(N246*('CTI INPUTS'!$D$19))+(R246*('CTI INPUTS'!$D$18))+(Z246*('CTI INPUTS'!$D$14))","v":0},{"$f":"(U246*'CTI INPUTS'!$D$15)+(N246*'CTI INPUTS'!$D$16)","v":0},null,{"$f":"(X246*('CTI INPUTS'!$D$12))","v":0},{"$f":"(Y246*('CTI INPUTS'!$D$13))","v":0},{"$f":"(Z246*('CTI INPUTS'!$D$14))","v":0},null,{"$f":"AB246*'CTI INPUTS'!$D$42","v":0},{"$f":"AC246*'CTI INPUTS'!$D$43","v":0},{"$f":"AD246*'CTI INPUTS'!$D$44","v":0},{"$f":"AF246*'CTI INPUTS'!$D$45","v":0}]
[null,null,"18in",4880,null,{"$f":"(D247/10)*24","v":11712},null,976,{"$f":"(D247/10)*8","v":3904},null,17568,0,null,610,null,{"$f":"(22*N247)/12","v":1118.3333333333333},null,{"$f":"N247*'CTI INPUTS'!$C$48","v":2440},{"$f":"R247*('CTI INPUTS'!C200)","v":0},null,{"$f":"N247*'CTI INPUTS'!$C$51","v":3660},{"$f":"U247*('CTI INPUTS'!C201)","v":0},null,2440,2440,2440,null,1220,1220,1220,null,1220,null,{"$f":"AF247*'CTI INPUTS'!$C$36","v":61},null,{"$f":"(F247/4)*'CTI INPUTS'!$C$33","v":1464},{"$f":"(H247*'CTI INPUTS'!$C$34)+(I247*'CTI INPUTS'!$C$33)","v":2147.1999999999998},null,{"$f":"(D247/10)*'CTI INPUTS'!$C$55","v":2440},{"$f":"(D247/10)*'CTI INPUTS'!C53","v":0},null,{"$f":"N247*'CTI INPUTS'!$C$37","v":2440},{"$f":"N247*'CTI INPUTS'!$C$38","v":1830},{"$f":"N247*'CTI INPUTS'!$C$39","v":1220},null,{"$f":"(AJ247*'CTI INPUTS'!$C$6)/60","v":2440},{"$f":"(AK247*'CTI INPUTS'!$C$6)/60","v":3578.6666666666661},null,{"$f":"(N247*'CTI INPUTS'!$C$37)*(('CTI INPUTS'!$C$6)/60)","v":4066.666666666667},{"$f":"(AQ247/60)*'CTI INPUTS'!$C$6","v":3050},{"$f":"(AR247/60)*'CTI INPUTS'!$C$6","v":2033.3333333333333},null,{"$f":"(P247*('CTI INPUTS'!$D$17))+(R247*('CTI INPUTS'!$D$18))+(X247*('CTI INPUTS'!$D$12))+(Y247*('CTI INPUTS'!$D$13))+(Z247*('CTI INPUTS'!$D$14))","v":12596.5},{"$f":"(N247*('CTI INPUTS'!$D$19))+(R247*('CTI INPUTS'!$D$18))+(Z247*('CTI INPUTS'!$D$14))","v":7801.9},{"$f":"(U247*'CTI INPUTS'!$D$15)+(N247*'CTI INPUTS'!$D$16)","v":6100},null,{"$f":"(X247*('CTI INPUTS'!$D$12))","v":2440},{"$f":"(Y247*('CTI INPUTS'!$D$13))","v":366},{"$f":"(Z247*('CTI INPUTS'!$D$14))","v":610},null,{"$f":"AB247*'CTI INPUTS'!$D$42","v":2452.1999999999998},{"$f":"AC247*'CTI INPUTS'!$D$43","v":854},{"$f":"AD247*'CTI INPUTS'!$D$44","v":1098},{"$f":"AF247*'CTI INPUTS'!$D$45","v":3355}]
[null,null,"20in",0,null,{"$f":"(D248/10)*28","v":0},null,0,{"$f":"(D248/10)*8","v":0},null,0,0,null,0,null,{"$f":"(24*N248)/12","v":0},null,{"$f":"N248*'CTI INPUTS'!$C$48","v":0},{"$f":"R248*('CTI INPUTS'!C200)","v":0},null,{"$f":"N248*'CTI INPUTS'!$C$51","v":0},{"$f":"U248*('CTI INPUTS'!C201)","v":0},null,0,0,0,null,0,0,0,null,0,null,{"$f":"AF248*'CTI INPUTS'!$C$36","v":0},null,{"$f":"(F248/4)*'CTI INPUTS'!$C$33","v":0},{"$f":"(H248*'CTI INPUTS'!$C$34)+(I248*'CTI INPUTS'!$C$33)","v":0},null,{"$f":"(D248/10)*'CTI INPUTS'!$C$55","v":0},{"$f":"(D248/10)*'CTI INPUTS'!C53","v":0},null,{"$f":"N248*'CTI INPUTS'!$C$37","v":0},{"$f":"N248*'CTI INPUTS'!$C$38","v":0},{"$f":"N248*'CTI INPUTS'!$C$39","v":0},null,{"$f":"(AJ248*'CTI INPUTS'!$C$6)/60","v":0},{"$f":"(AK248*'CTI INPUTS'!$C$6)/60","v":0},null,{"$f":"(N248*'CTI INPUTS'!$C$37)*(('CTI INPUTS'!$C$6)/60)","v":0},{"$f":"(AQ248/60)*'CTI INPUTS'!$C$6","v":0},{"$f":"(AR248/60)*'CTI INPUTS'!$C$6","v":0},null,{"$f":"(P248*('CTI INPUTS'!$D$17))+(R248*('CTI INPUTS'!$D$18))+(X248*('CTI INPUTS'!$D$12))+(Y248*('CTI INPUTS'!$D$13))+(Z248*('CTI INPUTS'!$D$14))","v":0},{"$f":"(N248*('CTI INPUTS'!$D$19))+(R248*('CTI INPUTS'!$D$18))+(Z248*('CTI INPUTS'!$D$14))","v":0},{"$f":"(U248*'CTI INPUTS'!$D$15)+(N248*'CTI INPUTS'!$D$16)","v":0},null,{"$f":"(X248*('CTI INPUTS'!$D$12))","v":0},{"$f":"(Y248*('CTI INPUTS'!$D$13))","v":0},{"$f":"(Z248*('CTI INPUTS'!$D$14))","v":0},null,{"$f":"AB248*'CTI INPUTS'!$D$42","v":0},{"$f":"AC248*'CTI INPUTS'!$D$43","v":0},{"$f":"AD248*'CTI INPUTS'!$D$44","v":0},{"$f":"AF248*'CTI INPUTS'!$D$45","v":0}]
[null,null,"24in",0,null,{"$f":"(D249/10)*28","v":0},null,0,{"$f":"(D249/10)*8","v":0},null,0,0,null,0,null,{"$f":"(28*N249)/12","v":0},null,{"$f":"N249*'CTI INPUTS'!$C$48","v":0},{"$f":"R249*('CTI INPUTS'!C200)","v":0},null,{"$f":"N249*'CTI INPUTS'!$C$51","v":0},{"$f":"U249*('CTI INPUTS'!C201)","v":0},null,0,0,0,null,0,0,0,null,0,null,{"$f":"AF249*'CTI INPUTS'!$C$36","v":0},null,{"$f":"(F249/4)*'CTI INPUTS'!$C$33","v":0},{"$f":"(H249*'CTI INPUTS'!$C$34)+(I249*'CTI INPUTS'!$C$33)","v":0},null,{"$f":"(D249/10)*'CTI INPUTS'!$C$55","v":0},{"$f":"(D249/10)*'CTI INPUTS'!C53","v":0},null,{"$f":"N249*'CTI INPUTS'!$C$37","v":0},{"$f":"N249*'CTI INPUTS'!$C$38","v":0},{"$f":"N249*'CTI INPUTS'!$C$39","v":0},null,{"$f":"(AJ249*'CTI INPUTS'!$C$6)/60","v":0},{"$f":"(AK249*'CTI INPUTS'!$C$6)/60","v":0},null,{"$f":"(N249*'CTI INPUTS'!$C$37)*(('CTI INPUTS'!$C$6)/60)","v":0},{"$f":"(AQ249/60)*'CTI INPUTS'!$C$6","v":0},{"$f":"(AR249/60)*'CTI INPUTS'!$C$6","v":0},null,{"$f":"(P249*('CTI INPUTS'!$D$17))+(R249*('CTI INPUTS'!$D$18))+(X249*('CTI INPUTS'!$D$12))+(Y249*('CTI INPUTS'!$D$13))+(Z249*('CTI INPUTS'!$D$14))","v":0},{"$f":"(N249*('CTI INPUTS'!$D$19))+(R249*('CTI INPUTS'!$D$18))+(Z249*('CTI INPUTS'!$D$14))","v":0},{"$f":"(U249*'CTI INPUTS'!$D$15)+(N249*'CTI INPUTS'!$D$16)","v":0},null,{"$f":"(X249*('CTI INPUTS'!$D$12))","v":0},{"$f":"(Y249*('CTI INPUTS'!$D$13))","v":0},{"$f":"(Z249*('CTI INPUTS'!$D$14))","v":0},null,{"$f":"AB249*'CTI INPUTS'!$D$42","v":0},{"$f":"AC249*'CTI INPUTS'!$D$43","v":0},{"$f":"AD249*'CTI INPUTS'!$D$44","v":0},{"$f":"AF249*'CTI INPUTS'!$D$45","v":0}]
[null,null,"30in",0,null,{"$f":"(D250/10)*32","v":0},null,0,{"$f":"(D250/10)*12","v":0},null,0,0,null,0,null,{"$f":"(34*N250)/12","v":0},null,{"$f":"N250*'CTI INPUTS'!$C$48","v":0},{"$f":"R250*('CTI INPUTS'!C200)","v":0},null,{"$f":"N250*'CTI INPUTS'!$C$51","v":0},{"$f":"U250*('CTI INPUTS'!C201)","v":0},null,0,0,0,null,0,0,0,null,0,null,{"$f":"AF250*'CTI INPUTS'!$C$36","v":0},null,{"$f":"(F250/4)*'CTI INPUTS'!$C$33","v":0},{"$f":"(H250*'CTI INPUTS'!$C$34)+(I250*'CTI INPUTS'!$C$33)","v":0},null,{"$f":"(D250/10)*'CTI INPUTS'!$C$55","v":0},{"$f":"(D250/10)*'CTI INPUTS'!C53","v":0},null,{"$f":"N250*'CTI INPUTS'!$C$37","v":0},{"$f":"N250*'CTI INPUTS'!$C$38","v":0},{"$f":"N250*'CTI INPUTS'!$C$39","v":0},null,{"$f":"(AJ250*'CTI INPUTS'!$C$6)/60","v":0},{"$f":"(AK250*'CTI INPUTS'!$C$6)/60","v":0},null,{"$f":"(N250*'CTI INPUTS'!$C$37)*(('CTI INPUTS'!$C$6)/60)","v":0},{"$f":"(AQ250/60)*'CTI INPUTS'!$C$6","v":0},{"$f":"(AR250/60)*'CTI INPUTS'!$C$6","v":0},null,{"$f":"(P250*('CTI INPUTS'!$D$17))+(R250*('CTI INPUTS'!$D$18))+(X250*('CTI INPUTS'!$D$12))+(Y250*('CTI INPUTS'!$D$13))+(Z250*('CTI INPUTS'!$D$14))","v":0},{"$f":"(N250*('CTI INPUTS'!$D$19))+(R250*('CTI INPUTS'!$D$18))+(Z250*('CTI INPUTS'!$D$14))","v":0},{"$f":"(U250*'CTI INPUTS'!$D$15)+(N250*'CTI INPUTS'!$D$16)","v":0},null,{"$f":"(X250*('CTI INPUTS'!$D$12))","v":0},{"$f":"(Y250*('CTI INPUTS'!$D$13))","v":0},{"$f":"(Z250*('CTI INPUTS'!$D$14))","v":0},null,{"$f":"AB250*'CTI INPUTS'!$D$42","v":0},{"$f":"AC250*'CTI INPUTS'!$D$43","v":0},{"$f":"AD250*'CTI INPUTS'!$D$44","v":0},{"$f":"AF250*'CTI INPUTS'!$D$45","v":0}]
[null,null,"36in",0,null,{"$f":"(D251/10)*32","v":0},null,0,{"$f":"(D251/10)*12","v":0},null,0,0,null,0,null,{"$f":"(40*N251)/12","v":0},null,{"$f":"N251*'CTI INPUTS'!$C$48","v":0},{"$f":"R251*('CTI INPUTS'!C200)","v":0},null,{"$f":"N251*'CTI INPUTS'!$C$51","v":0},{"$f":"U251*('CTI INPUTS'!C201)","v":0},null,0,0,0,null,0,0,0,null,0,null,{"$f":"AF251*'CTI INPUTS'!$C$36","v":0},null,{"$f":"(F251/4)*'CTI INPUTS'!$C$33","v":0},{"$f":"(H251*'CTI INPUTS'!$C$34)+(I251*'CTI INPUTS'!$C$33)","v":0},null,{"$f":"(D251/10)*'CTI INPUTS'!$C$55","v":0},{"$f":"(D251/10)*'CTI INPUTS'!C53","v":0},null,{"$f":"N251*'CTI INPUTS'!$C$37","v":0},{"$f":"N251*'CTI INPUTS'!$C$38","v":0},{"$f":"N251*'CTI INPUTS'!$C$39","v":0},null,{"$f":"(AJ251*'CTI INPUTS'!$C$6)/60","v":0},{"$f":"(AK251*'CTI INPUTS'!$C$6)/60","v":0},null,{"$f":"(N251*'CTI INPUTS'!$C$37)*(('CTI INPUTS'!$C$6)/60)","v":0},{"$f":"(AQ251/60)*'CTI INPUTS'!$C$6","v":0},{"$f":"(AR251/60)*'CTI INPUTS'!$C$6","v":0},null,{"$f":"(P251*('CTI INPUTS'!$D$17))+(R251*('CTI INPUTS'!$D$18))+(X251*('CTI INPUTS'!$D$12))+(Y251*('CTI INPUTS'!$D$13))+(Z251*('CTI INPUTS'!$D$14))","v":0},{"$f":"(N251*('CTI INPUTS'!$D$19))+(R251*('CTI INPUTS'!$D$18))+(Z251*('CTI INPUTS'!$D$14))","v":0},{"$f":"(U251*'CTI INPUTS'!$D$15)+(N251*'CTI INPUTS'!$D$16)","v":0},null,{"$f":"(X251*('CTI INPUTS'!$D$12))","v":0},{"$f":"(Y251*('CTI INPUTS'!$D$13))","v":0},{"$f":"(Z251*('CTI INPUTS'!$D$14))","v":0},null,{"$f":"AB251*'CTI INPUTS'!$D$42","v":0},{"$f":"AC251*'CTI INPUTS'!$D$43","v":0},{"$f":"AD251*'CTI INPUTS'!$D$44","v":0},{"$f":"AF251*'CTI INPUTS'!$D$45","v":0}]
[null,null,null,null,null,{"$f":"SUM(F240:F251)","v":48576},null,{"$f":"SUM((H240:H251)+(I240:I251))","v":14096},null,null,{"$f":"SUM(K240:K251)","v":72864},{"$f":"SUM(L240:L251)","v":0},null,{"$f":"SUM(N240:N251)","v":2530},null,{"$f":"SUM(P240:P251)","v":3678.333333333333},null,{"$f":"SUM(R240:R251)","v":10120},{"$f":"SUM(S240:S251)","v":0},null,{"$f":"SUM(U240:U251)","v":15180},{"$f":"SUM(V240:V251)","v":0},null,{"$f":"SUM((X240:X251)+(Y240:Y251)+(Z240:Z251))","v":30360},null,null,null,{"$f":"SUM((AB240:AB251)+(AC240:AC251)+(AD240:AD251))","v":15180},null,null,null,{"$f":"SUM(AF240:AF251)","v":5060},null,{"$f":"SUM(AH240:AH251)","v":253},null,{"$f":"SUM(AJ240:AJ251)","v":6072},{"$f":"SUM(AK240:AK251)","v":5833.6},null,{"$f":"SUM(AM240:AM251)","v":10120},{"$f":"SUM(AN240:AN251)","v":0},null,{"$f":"SUM(AP240:AP251)","v":10120},{"$f":"SUM(AQ240:AQ251)","v":7590},{"$f":"SUM(AR240:AR251)","v":5060},null,{"$f":"SUM(AT240:AT251)","v":10120},{"$f":"SUM(AU240:AU251)","v":9722.6666666666661},null,{"$f":"SUM(AW240:AW251)","v":16866.666666666668},{"$f":"SUM(AX240:AX251)","v":12650},{"$f":"SUM(AY240:AY251)","v":8433.3333333333339},null,{"$f":"SUM(BA240:BA251)","v":47924.5},{"$f":"SUM(BB240:BB251)","v":32358.700000000004},{"$f":"SUM(BC240:BC251)","v":25300},null,{"$f":"SUM((BE240:BE251)+(BF240:BF251)+(BG240:BG251))","v":14168},null,null,null,{"$f":"SUM((BI240:BI251)+(BJ240:BJ251)+(BK240:BK251))","v":18266.599999999999},null,null,{"$f":"SUM(BL240:BL251)","v":13915},null,{"$f":"SUM(BN240:BN251)","v":0},{"$f":"SUM(BO240:BO251)","v":0},{"$f":"SUM(BP240:BP251)","v":0}]
[]
[null,"TM STRAIGHT SECTIONS: 10FT SPAN",null,null,null,null,null,10,"FT"]
[]
[null,"STRAIGHT SECTIONS",null,null,null,"SPLICE",null,"POSI-LOK",null,null,"COVER FIXINGS",null,null,"SUPPORT QTY",null,"SUPPORT L/FT",null,"ATR HANGER",null,null,"WIRE HANGER",null,null,"ATR HARDWARE QUANTITY",null,null,null,"HOLD DOWN & HDWR QUANTITY",null,null,null,"SRC CLIP",null,"SRC CLIP",null,"SPLICE INSTALLATION TIME (MIN)",null,null,"COVER INSTAL TIME (MIN)",null,null,"SUPPORT INSTALLATION TIME (MIN)",null,null,null,"SPLICE INSTALLATION COST ($)",null,null,"SUPPORT INSTALLATION COST ($)",null,null,null,"SUPPORT COST ($)",null,null,null,"ATR HARDWARE COST $",null,null,null,"HOLD DOWN CLAMPS & HARDWARE COST ($)",null,null,null,null,"SUPPORT WEIGHT (LBS)"]
[]
[null,"HEIGHT","WIDTH","LINEAR FT",null,"WSKIT (pcs)",null,"PLOKM (pcs)","WSKIT (pcs)",null,"HDKIT (pcs)","SNAP-ON",null,"ALL TYPES",null,"STRUT (FT)",null,"LINEAR FT"," LBS",null,"LINEAR FT"," LBS",null,"SQ WSHR","FLT WSHR","HEX NUT",null,"FLXW","25HX","25NC",null,"QUANTITY (pc)",null,"INSTAL (MIN)",null,"WSKIT","POSI-LOK + WSKIT",null,"HDKIT","SNAP-ON",null,"STRUT","URH","CABLE",null,"WSKIT","POSI-LOK + WSKIT",null,"STRUT","URH","CABLE",null,"STRUT","URH","CABLE",null,"SQUARE WSHR","FLAT WSHR","HEX NUT",null,"FLXW","25HX","25NC","SRC CLIP",null,"STRUT","URH","WIRE"]
[null,"2/4/6in","2in",{"$f":"D221","v":0},null,{"$f":"(D259/10)*8","v":0},null,{"$f":"(D259/10)*2","v":0},{"$f":"(D259/10)*0","v":0},null,{"$f":"(D259/10)*36","v":0},0,null,{"$f":"D259/$H$254","v":0},null,{"$f":"(6*N259)/12","v":0},null,{"$f":"N259*'CTI INPUTS'!$C$48","v":0},{"$f":"R259*('CTI INPUTS'!C223)","v":0},null,{"$f":"N259*'CTI INPUTS'!$C$51","v":0},{"$f":"U259*('CTI INPUTS'!C224)","v":0},null,{"$f":"N259*4","v":0},{"$f":"N259*4","v":0},{"$f":"N259*4","v":0},null,{"$f":"N259*2","v":0},{"$f":"N259*2","v":0},{"$f":"N259*2","v":0},null,{"$f":"N259*1","v":0},null,{"$f":"AF259*'CTI INPUTS'!$C$36","v":0},null,{"$f":"(F259/4)*'CTI INPUTS'!$C$33","v":0},{"$f":"(H259*'CTI INPUTS'!$C$34)+(I259*'CTI INPUTS'!$C$33)","v":0},null,{"$f":"(D259/10)*'CTI INPUTS'!$C$55","v":0},{"$f":"(D259/10)*'CTI INPUTS'!C76","v":0},null,{"$f":"N259*'CTI INPUTS'!$C$37","v":0},{"$f":"N259*'CTI INPUTS'!$C$38","v":0},{"$f":"N259*'CTI INPUTS'!$C$39","v":0},null,{"$f":"(AJ259*'CTI INPUTS'!$C$6)/60","v":0},{"$f":"(AK259*'CTI INPUTS'!$C$6)/60","v":0},null,{"$f":"(N259*'CTI INPUTS'!$C$37)*(('CTI INPUTS'!$C$6)/60)","v":0},{"$f":"(AQ259/60)*'CTI INPUTS'!$C$6","v":0},{"$f":"(AR259/60)*'CTI INPUTS'!$C$6","v":0},null,{"$f":"(P259*('CTI INPUTS'!$D$17))+(R259*('CTI INPUTS'!$D$18))+(X259*('CTI INPUTS'!$D$12))+(Y259*('CTI INPUTS'!$D$13))+(Z259*('CTI INPUTS'!$D$14))","v":0},{"$f":"(N259*('CTI INPUTS'!$D$19))+(R259*('CTI INPUTS'!$D$18))+(Z259*('CTI INPUTS'!$D$14))","v":0},{"$f":"(U259*'CTI INPUTS'!$D$15)+(N259*'CTI INPUTS'!$D$16)","v":0},null,{"$f":"(X259*('CTI INPUTS'!$D$12))","v":0},{"$f":"(Y259*('CTI INPUTS'!$D$13))","v":0},{"$f":"(Z259*('CTI INPUTS'!$D$14))","v":0},null,{"$f":"AB259*'CTI INPUTS'!$D$42","v":0},{"$f":"AC259*'CTI INPUTS'!$D$43","v":0},{"$f":"AD259*'CTI INPUTS'!$D$44","v":0},{"$f":"AF259*'CTI INPUTS'!$D$45","v":0}]
[null,null,"4in",{"$f":"D222","v":0},null,{"$f":"(D260/10)*16","v":0},null,0,{"$f":"(D260/10)*0","v":0},null,0,0,null,0,null,{"$f":"(8*N260)/12","v":0},null,{"$f":"N260*'CTI INPUTS'!$C$48","v":0},{"$f":"R260*('CTI INPUTS'!C223)","v":0},null,{"$f":"N260*'CTI INPUTS'!$C$51","v":0},{"$f":"U260*('CTI INPUTS'!C224)","v":0},null,0,0,0,null,0,0,0,null,{"$f":"N260*2","v":0},null,{"$f":"AF260*'CTI INPUTS'!$C$36","v":0},null,{"$f":"(F260/4)*'CTI INPUTS'!$C$33","v":0},{"$f":"(H260*'CTI INPUTS'!$C$34)+(I260*'CTI INPUTS'!$C$33)","v":0},null,{"$f":"(D260/10)*'CTI INPUTS'!$C$55","v":0},{"$f":"(D260/10)*'CTI INPUTS'!C76","v":0},null,{"$f":"N260*'CTI INPUTS'!$C$37","v":0},{"$f":"N260*'CTI INPUTS'!$C$38","v":0},{"$f":"N260*'CTI INPUTS'!$C$39","v":0},null,{"$f":"(AJ260*'CTI INPUTS'!$C$6)/60","v":0},{"$f":"(AK260*'CTI INPUTS'!$C$6)/60","v":0},null,{"$f":"(N260*'CTI INPUTS'!$C$37)*(('CTI INPUTS'!$C$6)/60)","v":0},{"$f":"(AQ260/60)*'CTI INPUTS'!$C$6","v":0},{"$f":"(AR260/60)*'CTI INPUTS'!$C$6","v":0},null,{"$f":"(P260*('CTI INPUTS'!$D$17))+(R260*('CTI INPUTS'!$D$18))+(X260*('CTI INPUTS'!$D$12))+(Y260*('CTI INPUTS'!$D$13))+(Z260*('CTI INPUTS'!$D$14))","v":0},{"$f":"(N260*('CTI INPUTS'!$D$19))+(R260*('CTI INPUTS'!$D$18))+(Z260*('CTI INPUTS'!$D$14))","v":0},{"$f":"(U260*'CTI INPUTS'!$D$15)+(N260*'CTI INPUTS'!$D$16)","v":0},null,{"$f":"(X260*('CTI INPUTS'!$D$12))","v":0},{"$f":"(Y260*('CTI INPUTS'!$D$13))","v":0},{"$f":"(Z260*('CTI INPUTS'!$D$14))","v":0},null,{"$f":"AB260*'CTI INPUTS'!$D$42","v":0},{"$f":"AC260*'CTI INPUTS'!$D$43","v":0},{"$f":"AD260*'CTI INPUTS'!$D$44","v":0},{"$f":"AF260*'CTI INPUTS'!$D$45","v":0}]
[null,null,"6in",0,null,{"$f":"(D261/10)*16","v":0},null,0,{"$f":"(D261/10)*0","v":0},null,0,0,null,0,null,{"$f":"(10*N261)/12","v":0},null,{"$f":"N261*'CTI INPUTS'!$C$48","v":0},{"$f":"R261*('CTI INPUTS'!C223)","v":0},null,{"$f":"N261*'CTI INPUTS'!$C$51","v":0},{"$f":"U261*('CTI INPUTS'!C224)","v":0},null,0,0,0,null,0,0,0,null,0,null,{"$f":"AF261*'CTI INPUTS'!$C$36","v":0},null,{"$f":"(F261/4)*'CTI INPUTS'!$C$33","v":0},{"$f":"(H261*'CTI INPUTS'!$C$34)+(I261*'CTI INPUTS'!$C$33)","v":0},null,{"$f":"(D261/10)*'CTI INPUTS'!$C$55","v":0},{"$f":"(D261/10)*'CTI INPUTS'!C76","v":0},null,{"$f":"N261*'CTI INPUTS'!$C$37","v":0},{"$f":"N261*'CTI INPUTS'!$C$38","v":0},{"$f":"N261*'CTI INPUTS'!$C$39","v":0},null,{"$f":"(AJ261*'CTI INPUTS'!$C$6)/60","v":0},{"$f":"(AK261*'CTI INPUTS'!$C$6)/60","v":0},null,{"$f":"(N261*'CTI INPUTS'!$C$37)*(('CTI INPUTS'!$C$6)/60)","v":0},{"$f":"(AQ261/60)*'CTI INPUTS'!$C$6","v":0},{"$f":"(AR261/60)*'CTI INPUTS'!$C$6","v":0},null,{"$f":"(P261*('CTI INPUTS'!$D$17))+(R261*('CTI INPUTS'!$D$18))+(X261*('CTI INPUTS'!$D$12))+(Y261*('CTI INPUTS'!$D$13))+(Z261*('CTI INPUTS'!$D$14))","v":0},{"$f":"(N261*('CTI INPUTS'!$D$19))+(R261*('CTI INPUTS'!$D$18))+(Z261*('CTI INPUTS'!$D$14))","v":0},{"$f":"(U261*'CTI INPUTS'!$D$15)+(N261*'CTI INPUTS'!$D$16)","v":0},null,{"$f":"(X261*('CTI INPUTS'!$D$12))","v":0},{"$f":"(Y261*('CTI INPUTS'!$D$13))","v":0},{"$f":"(Z261*('CTI INPUTS'!$D$14))","v":0},null,{"$f":"AB261*'CTI INPUTS'!$D$42","v":0},{"$f":"AC261*'CTI INPUTS'!$D$43","v":0},{"$f":"AD261*'CTI INPUTS'!$D$44","v":0},{"$f":"AF261*'CTI INPUTS'!$D$45","v":0}]
[null,null,"8in",0,null,{"$f":"(D262/10)*20","v":0},null,0,{"$f":"(D262/10)*4","v":0},null,0,0,null,0,null,{"$f":"(12*N262)/12","v":0},null,{"$f":"N262*'CTI INPUTS'!$C$48","v":0},{"$f":"R262*('CTI INPUTS'!C223)","v":0},null,{"$f":"N262*'CTI INPUTS'!$C$51","v":0},{"$f":"U262*('CTI INPUTS'!C224)","v":0},null,0,0,0,null,0,0,0,null,0,null,{"$f":"AF262*'CTI INPUTS'!$C$36","v":0},null,{"$f":"(F262/4)*'CTI INPUTS'!$C$33","v":0},{"$f":"(H262*'CTI INPUTS'!$C$34)+(I262*'CTI INPUTS'!$C$33)","v":0},null,{"$f":"(D262/10)*'CTI INPUTS'!$C$55","v":0},{"$f":"(D262/10)*'CTI INPUTS'!C76","v":0},null,{"$f":"N262*'CTI INPUTS'!$C$37","v":0},{"$f":"N262*'CTI INPUTS'!$C$38","v":0},{"$f":"N262*'CTI INPUTS'!$C$39","v":0},null,{"$f":"(AJ262*'CTI INPUTS'!$C$6)/60","v":0},{"$f":"(AK262*'CTI INPUTS'!$C$6)/60","v":0},null,{"$f":"(N262*'CTI INPUTS'!$C$37)*(('CTI INPUTS'!$C$6)/60)","v":0},{"$f":"(AQ262/60)*'CTI INPUTS'!$C$6","v":0},{"$f":"(AR262/60)*'CTI INPUTS'!$C$6","v":0},null,{"$f":"(P262*('CTI INPUTS'!$D$17))+(R262*('CTI INPUTS'!$D$18))+(X262*('CTI INPUTS'!$D$12))+(Y262*('CTI INPUTS'!$D$13))+(Z262*('CTI INPUTS'!$D$14))","v":0},{"$f":"(N262*('CTI INPUTS'!$D$19))+(R262*('CTI INPUTS'!$D$18))+(Z262*('CTI INPUTS'!$D$14))","v":0},{"$f":"(U262*'CTI INPUTS'!$D$15)+(N262*'CTI INPUTS'!$D$16)","v":0},null,{"$f":"(X262*('CTI INPUTS'!$D$12))","v":0},{"$f":"(Y262*('CTI INPUTS'!$D$13))","v":0},{"$f":"(Z262*('CTI INPUTS'!$D$14))","v":0},null,{"$f":"AB262*'CTI INPUTS'!$D$42","v":0},{"$f":"AC262*'CTI INPUTS'!$D$43","v":0},{"$f":"AD262*'CTI INPUTS'!$D$44","v":0},{"$f":"AF262*'CTI INPUTS'!$D$45","v":0}]
[null,null,"10in",0,null,{"$f":"(D263/10)*20","v":0},null,0,{"$f":"(D263/10)*4","v":0},null,0,0,null,0,null,{"$f":"(14*N263)/12","v":0},null,{"$f":"N263*'CTI INPUTS'!$C$48","v":0},{"$f":"R263*('CTI INPUTS'!C223)","v":0},null,{"$f":"N263*'CTI INPUTS'!$C$51","v":0},{"$f":"U263*('CTI INPUTS'!C224)","v":0},null,0,0,0,null,0,0,0,null,0,null,{"$f":"AF263*'CTI INPUTS'!$C$36","v":0},null,{"$f":"(F263/4)*'CTI INPUTS'!$C$33","v":0},{"$f":"(H263*'CTI INPUTS'!$C$34)+(I263*'CTI INPUTS'!$C$33)","v":0},null,{"$f":"(D263/10)*'CTI INPUTS'!$C$55","v":0},{"$f":"(D263/10)*'CTI INPUTS'!C76","v":0},null,{"$f":"N263*'CTI INPUTS'!$C$37","v":0},{"$f":"N263*'CTI INPUTS'!$C$38","v":0},{"$f":"N263*'CTI INPUTS'!$C$39","v":0},null,{"$f":"(AJ263*'CTI INPUTS'!$C$6)/60","v":0},{"$f":"(AK263*'CTI INPUTS'!$C$6)/60","v":0},null,{"$f":"(N263*'CTI INPUTS'!$C$37)*(('CTI INPUTS'!$C$6)/60)","v":0},{"$f":"(AQ263/60)*'CTI INPUTS'!$C$6","v":0},{"$f":"(AR263/60)*'CTI INPUTS'!$C$6","v":0},null,{"$f":"(P263*('CTI INPUTS'!$D$17))+(R263*('CTI INPUTS'!$D$18))+(X263*('CTI INPUTS'!$D$12))+(Y263*('CTI INPUTS'!$D$13))+(Z263*('CTI INPUTS'!$D$14))","v":0},{"$f":"(N263*('CTI INPUTS'!$D$19))+(R263*('CTI INPUTS'!$D$18))+(Z263*('CTI INPUTS'!$D$14))","v":0},{"$f":"(U263*'CTI INPUTS'!$D$15)+(N263*'CTI INPUTS'!$D$16)","v":0},null,{"$f":"(X263*('CTI INPUTS'!$D$12))","v":0},{"$f":"(Y263*('CTI INPUTS'!$D$13))","v":0},{"$f":"(Z263*('CTI INPUTS'!$D$14))","v":0},null,{"$f":"AB263*'CTI INPUTS'!$D$42","v":0},{"$f":"AC263*'CTI INPUTS'!$D$43","v":0},{"$f":"AD263*'CTI INPUTS'!$D$44","v":0},{"$f":"AF263*'CTI INPUTS'!$D$45","v":0}]
[null,null,"12in",15360,null,{"$f":"(D264/10)*24","v":36864},null,3072,{"$f":"(D264/10)*4","v":6144},null,55296,0,null,1536,null,{"$f":"(16*N264)/12","v":2048},null,{"$f":"N264*'CTI INPUTS'!$C$48","v":6144},{"$f":"R264*('CTI INPUTS'!C223)","v":0},null,{"$f":"N264*'CTI INPUTS'!$C$51","v":9216},{"$f":"U264*('CTI INPUTS'!C224)","v":0},null,6144,6144,6144,null,3072,3072,3072,null,3072,null,{"$f":"AF264*'CTI INPUTS'!$C$36","v":153.60000000000002},null,{"$f":"(F264/4)*'CTI INPUTS'!$C$33","v":4608},{"$f":"(H264*'CTI INPUTS'!$C$34)+(I264*'CTI INPUTS'!$C$33)","v":3686.4},null,{"$f":"(D264/10)*'CTI INPUTS'!$C$55","v":7680},{"$f":"(D264/10)*'CTI INPUTS'!C76","v":0},null,{"$f":"N264*'CTI INPUTS'!$C$37","v":6144},{"$f":"N264*'CTI INPUTS'!$C$38","v":4608},{"$f":"N264*'CTI INPUTS'!$C$39","v":3072},null,{"$f":"(AJ264*'CTI INPUTS'!$C$6)/60","v":7680},{"$f":"(AK264*'CTI INPUTS'!$C$6)/60","v":6144},null,{"$f":"(N264*'CTI INPUTS'!$C$37)*(('CTI INPUTS'!$C$6)/60)","v":10240},{"$f":"(AQ264/60)*'CTI INPUTS'!$C$6","v":7680},{"$f":"(AR264/60)*'CTI INPUTS'!$C$6","v":5120},null,{"$f":"(P264*('CTI INPUTS'!$D$17))+(R264*('CTI INPUTS'!$D$18))+(X264*('CTI INPUTS'!$D$12))+(Y264*('CTI INPUTS'!$D$13))+(Z264*('CTI INPUTS'!$D$14))","v":28262.399999999998},{"$f":"(N264*('CTI INPUTS'!$D$19))+(R264*('CTI INPUTS'!$D$18))+(Z264*('CTI INPUTS'!$D$14))","v":19645.439999999999},{"$f":"(U264*'CTI INPUTS'!$D$15)+(N264*'CTI INPUTS'!$D$16)","v":15360},null,{"$f":"(X264*('CTI INPUTS'!$D$12))","v":6144},{"$f":"(Y264*('CTI INPUTS'!$D$13))","v":921.59999999999991},{"$f":"(Z264*('CTI INPUTS'!$D$14))","v":1536},null,{"$f":"AB264*'CTI INPUTS'!$D$42","v":6174.7199999999993},{"$f":"AC264*'CTI INPUTS'!$D$43","v":2150.3999999999996},{"$f":"AD264*'CTI INPUTS'!$D$44","v":2764.8},{"$f":"AF264*'CTI INPUTS'!$D$45","v":8448}]
[null,null,"16in",0,null,{"$f":"(D265/10)*24","v":0},null,0,{"$f":"(D265/10)*8","v":0},null,0,0,null,0,null,{"$f":"(20*N265)/12","v":0},null,{"$f":"N265*'CTI INPUTS'!$C$48","v":0},{"$f":"R265*('CTI INPUTS'!C223)","v":0},null,{"$f":"N265*'CTI INPUTS'!$C$51","v":0},{"$f":"U265*('CTI INPUTS'!C224)","v":0},null,0,0,0,null,0,0,0,null,0,null,{"$f":"AF265*'CTI INPUTS'!$C$36","v":0},null,{"$f":"(F265/4)*'CTI INPUTS'!$C$33","v":0},{"$f":"(H265*'CTI INPUTS'!$C$34)+(I265*'CTI INPUTS'!$C$33)","v":0},null,{"$f":"(D265/10)*'CTI INPUTS'!$C$55","v":0},{"$f":"(D265/10)*'CTI INPUTS'!C76","v":0},null,{"$f":"N265*'CTI INPUTS'!$C$37","v":0},{"$f":"N265*'CTI INPUTS'!$C$38","v":0},{"$f":"N265*'CTI INPUTS'!$C$39","v":0},null,{"$f":"(AJ265*'CTI INPUTS'!$C$6)/60","v":0},{"$f":"(AK265*'CTI INPUTS'!$C$6)/60","v":0},null,{"$f":"(N265*'CTI INPUTS'!$C$37)*(('CTI INPUTS'!$C$6)/60)","v":0},{"$f":"(AQ265/60)*'CTI INPUTS'!$C$6","v":0},{"$f":"(AR265/60)*'CTI INPUTS'!$C$6","v":0},null,{"$f":"(P265*('CTI INPUTS'!$D$17))+(R265*('CTI INPUTS'!$D$18))+(X265*('CTI INPUTS'!$D$12))+(Y265*('CTI INPUTS'!$D$13))+(Z265*('CTI INPUTS'!$D$14))","v":0},{"$f":"(N265*('CTI INPUTS'!$D$19))+(R265*('CTI INPUTS'!$D$18))+(Z265*('CTI INPUTS'!$D$14))","v":0},{"$f":"(U265*'CTI INPUTS'!$D$15)+(N265*'CTI INPUTS'!$D$16)","v":0},null,{"$f":"(X265*('CTI INPUTS'!$D$12))","v":0},{"$f":"(Y265*('CTI INPUTS'!$D$13))","v":0},{"$f":"(Z265*('CTI INPUTS'!$D$14))","v":0},null,{"$f":"AB265*'CTI INPUTS'!$D$42","v":0},{"$f":"AC265*'CTI INPUTS'!$D$43","v":0},{"$f":"AD265*'CTI INPUTS'!$D$44","v":0},{"$f":"AF265*'CTI INPUTS'!$D$45","v":0}]
[null,null,"18in",4880,null,{"$f":"(D266/10)*24","v":11712},null,976,{"$f":"(D266/10)*8","v":3904},null,17568,0,null,488,null,{"$f":"(22*N266)/12","v":894.66666666666663},null,{"$f":"N266*'CTI INPUTS'!$C$48","v":1952},{"$f":"R266*('CTI INPUTS'!C223)","v":0},null,{"$f":"N266*'CTI INPUTS'!$C$51","v":2928},{"$f":"U266*('CTI INPUTS'!C224)","v":0},null,1952,1952,1952,null,976,976,976,null,976,null,{"$f":"AF266*'CTI INPUTS'!$C$36","v":48.800000000000004},null,{"$f":"(F266/4)*'CTI INPUTS'!$C$33","v":1464},{"$f":"(H266*'CTI INPUTS'!$C$34)+(I266*'CTI INPUTS'!$C$33)","v":2147.1999999999998},null,{"$f":"(D266/10)*'CTI INPUTS'!$C$55","v":2440},{"$f":"(D266/10)*'CTI INPUTS'!C76","v":0},null,{"$f":"N266*'CTI INPUTS'!$C$37","v":1952},{"$f":"N266*'CTI INPUTS'!$C$38","v":1464},{"$f":"N266*'CTI INPUTS'!$C$39","v":976},null,{"$f":"(AJ266*'CTI INPUTS'!$C$6)/60","v":2440},{"$f":"(AK266*'CTI INPUTS'!$C$6)/60","v":3578.6666666666661},null,{"$f":"(N266*'CTI INPUTS'!$C$37)*(('CTI INPUTS'!$C$6)/60)","v":3253.3333333333335},{"$f":"(AQ266/60)*'CTI INPUTS'!$C$6","v":2440},{"$f":"(AR266/60)*'CTI INPUTS'!$C$6","v":1626.6666666666665},null,{"$f":"(P266*('CTI INPUTS'!$D$17))+(R266*('CTI INPUTS'!$D$18))+(X266*('CTI INPUTS'!$D$12))+(Y266*('CTI INPUTS'!$D$13))+(Z266*('CTI INPUTS'!$D$14))","v":10077.199999999999},{"$f":"(N266*('CTI INPUTS'!$D$19))+(R266*('CTI INPUTS'!$D$18))+(Z266*('CTI INPUTS'!$D$14))","v":6241.52},{"$f":"(U266*'CTI INPUTS'!$D$15)+(N266*'CTI INPUTS'!$D$16)","v":4880},null,{"$f":"(X266*('CTI INPUTS'!$D$12))","v":1952},{"$f":"(Y266*('CTI INPUTS'!$D$13))","v":292.8},{"$f":"(Z266*('CTI INPUTS'!$D$14))","v":488},null,{"$f":"AB266*'CTI INPUTS'!$D$42","v":1961.7599999999998},{"$f":"AC266*'CTI INPUTS'!$D$43","v":683.19999999999993},{"$f":"AD266*'CTI INPUTS'!$D$44","v":878.4},{"$f":"AF266*'CTI INPUTS'!$D$45","v":2684}]
[null,null,"20in",0,null,{"$f":"(D267/10)*28","v":0},null,0,{"$f":"(D267/10)*8","v":0},null,0,0,null,0,null,{"$f":"(24*N267)/12","v":0},null,{"$f":"N267*'CTI INPUTS'!$C$48","v":0},{"$f":"R267*('CTI INPUTS'!C223)","v":0},null,{"$f":"N267*'CTI INPUTS'!$C$51","v":0},{"$f":"U267*('CTI INPUTS'!C224)","v":0},null,0,0,0,null,0,0,0,null,0,null,{"$f":"AF267*'CTI INPUTS'!$C$36","v":0},null,{"$f":"(F267/4)*'CTI INPUTS'!$C$33","v":0},{"$f":"(H267*'CTI INPUTS'!$C$34)+(I267*'CTI INPUTS'!$C$33)","v":0},null,{"$f":"(D267/10)*'CTI INPUTS'!$C$55","v":0},{"$f":"(D267/10)*'CTI INPUTS'!C76","v":0},null,{"$f":"N267*'CTI INPUTS'!$C$37","v":0},{"$f":"N267*'CTI INPUTS'!$C$38","v":0},{"$f":"N267*'CTI INPUTS'!$C$39","v":0},null,{"$f":"(AJ267*'CTI INPUTS'!$C$6)/60","v":0},{"$f":"(AK267*'CTI INPUTS'!$C$6)/60","v":0},null,{"$f":"(N267*'CTI INPUTS'!$C$37)*(('CTI INPUTS'!$C$6)/60)","v":0},{"$f":"(AQ267/60)*'CTI INPUTS'!$C$6","v":0},{"$f":"(AR267/60)*'CTI INPUTS'!$C$6","v":0},null,{"$f":"(P267*('CTI INPUTS'!$D$17))+(R267*('CTI INPUTS'!$D$18))+(X267*('CTI INPUTS'!$D$12))+(Y267*('CTI INPUTS'!$D$13))+(Z267*('CTI INPUTS'!$D$14))","v":0},{"$f":"(N267*('CTI INPUTS'!$D$19))+(R267*('CTI INPUTS'!$D$18))+(Z267*('CTI INPUTS'!$D$14))","v":0},{"$f":"(U267*'CTI INPUTS'!$D$15)+(N267*'CTI INPUTS'!$D$16)","v":0},null,{"$f":"(X267*('CTI INPUTS'!$D$12))","v":0},{"$f":"(Y267*('CTI INPUTS'!$D$13))","v":0},{"$f":"(Z267*('CTI INPUTS'!$D$14))","v":0},null,{"$f":"AB267*'CTI INPUTS'!$D$42","v":0},{"$f":"AC267*'CTI INPUTS'!$D$43","v":0},{"$f":"AD267*'CTI INPUTS'!$D$44","v":0},{"$f":"AF267*'CTI INPUTS'!$D$45","v":0}]
[null,null,"24in",0,null,{"$f":"(D268/10)*28","v":0},null,0,{"$f":"(D268/10)*8","v":0},null,0,0,null,0,null,{"$f":"(28*N268)/12","v":0},null,{"$f":"N268*'CTI INPUTS'!$C$48","v":0},{"$f":"R268*('CTI INPUTS'!C223)","v":0},null,{"$f":"N268*'CTI INPUTS'!$C$51","v":0},{"$f":"U268*('CTI INPUTS'!C224)","v":0},null,0,0,0,null,0,0,0,null,0,null,{"$f":"AF268*'CTI INPUTS'!$C$36","v":0},null,{"$f":"(F268/4)*'CTI INPUTS'!$C$33","v":0},{"$f":"(H268*'CTI INPUTS'!$C$34)+(I268*'CTI INPUTS'!$C$33)","v":0},null,{"$f":"(D268/10)*'CTI INPUTS'!$C$55","v":0},{"$f":"(D268/10)*'CTI INPUTS'!C76","v":0},null,{"$f":"N268*'CTI INPUTS'!$C$37","v":0},{"$f":"N268*'CTI INPUTS'!$C$38","v":0},{"$f":"N268*'CTI INPUTS'!$C$39","v":0},null,{"$f":"(AJ268*'CTI INPUTS'!$C$6)/60","v":0},{"$f":"(AK268*'CTI INPUTS'!$C$6)/60","v":0},null,{"$f":"(N268*'CTI INPUTS'!$C$37)*(('CTI INPUTS'!$C$6)/60)","v":0},{"$f":"(AQ268/60)*'CTI INPUTS'!$C$6","v":0},{"$f":"(AR268/60)*'CTI INPUTS'!$C$6","v":0},null,{"$f":"(P268*('CTI INPUTS'!$D$17))+(R268*('CTI INPUTS'!$D$18))+(X268*('CTI INPUTS'!$D$12))+(Y268*('CTI INPUTS'!$D$13))+(Z268*('CTI INPUTS'!$D$14))","v":0},{"$f":"(N268*('CTI INPUTS'!$D$19))+(R268*('CTI INPUTS'!$D$18))+(Z268*('CTI INPUTS'!$D$14))","v":0},{"$f":"(U268*'CTI INPUTS'!$D$15)+(N268*'CTI INPUTS'!$D$16)","v":0},null,{"$f":"(X268*('CTI INPUTS'!$D$12))","v":0},{"$f":"(Y268*('CTI INPUTS'!$D$13))","v":0},{"$f":"(Z268*('CTI INPUTS'!$D$14))","v":0},null,{"$f":"AB268*'CTI INPUTS'!$D$42","v":0},{"$f":"AC268*'CTI INPUTS'!$D$43","v":0},{"$f":"AD268*'CTI INPUTS'!$D$44","v":0},{"$f":"AF268*'CTI INPUTS'!$D$45","v":0}]
[null,null,"30in",0,null,{"$f":"(D269/10)*32","v":0},null,0,{"$f":"(D269/10)*12","v":0},null,0,0,null,0,null,{"$f":"(34*N269)/12","v":0},null,{"$f":"N269*'CTI INPUTS'!$C$48","v":0},{"$f":"R269*('CTI INPUTS'!C223)","v":0},null,{"$f":"N269*'CTI INPUTS'!$C$51","v":0},{"$f":"U269*('CTI INPUTS'!C224)","v":0},null,0,0,0,null,0,0,0,null,0,null,{"$f":"AF269*'CTI INPUTS'!$C$36","v":0},null,{"$f":"(F269/4)*'CTI INPUTS'!$C$33","v":0},{"$f":"(H269*'CTI INPUTS'!$C$34)+(I269*'CTI INPUTS'!$C$33)","v":0},null,{"$f":"(D269/10)*'CTI INPUTS'!$C$55","v":0},{"$f":"(D269/10)*'CTI INPUTS'!C76","v":0},null,{"$f":"N269*'CTI INPUTS'!$C$37","v":0},{"$f":"N269*'CTI INPUTS'!$C$38","v":0},{"$f":"N269*'CTI INPUTS'!$C$39","v":0},null,{"$f":"(AJ269*'CTI INPUTS'!$C$6)/60","v":0},{"$f":"(AK269*'CTI INPUTS'!$C$6)/60","v":0},null,{"$f":"(N269*'CTI INPUTS'!$C$37)*(('CTI INPUTS'!$C$6)/60)","v":0},{"$f":"(AQ269/60)*'CTI INPUTS'!$C$6","v":0},{"$f":"(AR269/60)*'CTI INPUTS'!$C$6","v":0},null,{"$f":"(P269*('CTI INPUTS'!$D$17))+(R269*('CTI INPUTS'!$D$18))+(X269*('CTI INPUTS'!$D$12))+(Y269*('CTI INPUTS'!$D$13))+(Z269*('CTI INPUTS'!$D$14))","v":0},{"$f":"(N269*('CTI INPUTS'!$D$19))+(R269*('CTI INPUTS'!$D$18))+(Z269*('CTI INPUTS'!$D$14))","v":0},{"$f":"(U269*'CTI INPUTS'!$D$15)+(N269*'CTI INPUTS'!$D$16)","v":0},null,{"$f":"(X269*('CTI INPUTS'!$D$12))","v":0},{"$f":"(Y269*('CTI INPUTS'!$D$13))","v":0},{"$f":"(Z269*('CTI INPUTS'!$D$14))","v":0},null,{"$f":"AB269*'CTI INPUTS'!$D$42","v":0},{"$f":"AC269*'CTI INPUTS'!$D$43","v":0},{"$f":"AD269*'CTI INPUTS'!$D$44","v":0},{"$f":"AF269*'CTI INPUTS'!$D$45","v":0}]
[null,null,"36in",0,null,{"$f":"(D270/10)*32","v":0},null,0,{"$f":"(D270/10)*12","v":0},null,0,0,null,0,null,{"$f":"(40*N270)/12","v":0},null,{"$f":"N270*'CTI INPUTS'!$C$48","v":0},{"$f":"R270*('CTI INPUTS'!C223)","v":0},null,{"$f":"N270*'CTI INPUTS'!$C$51","v":0},{"$f":"U270*('CTI INPUTS'!C224)","v":0},null,0,0,0,null,0,0,0,null,0,null,{"$f":"AF270*'CTI INPUTS'!$C$36","v":0},null,{"$f":"(F270/4)*'CTI INPUTS'!$C$33","v":0},{"$f":"(H270*'CTI INPUTS'!$C$34)+(I270*'CTI INPUTS'!$C$33)","v":0},null,{"$f":"(D270/10)*'CTI INPUTS'!$C$55","v":0},{"$f":"(D270/10)*'CTI INPUTS'!C76","v":0},null,{"$f":"N270*'CTI INPUTS'!$C$37","v":0},{"$f":"N270*'CTI INPUTS'!$C$38","v":0},{"$f":"N270*'CTI INPUTS'!$C$39","v":0},null,{"$f":"(AJ270*'CTI INPUTS'!$C$6)/60","v":0},{"$f":"(AK270*'CTI INPUTS'!$C$6)/60","v":0},null,{"$f":"(N270*'CTI INPUTS'!$C$37)*(('CTI INPUTS'!$C$6)/60)","v":0},{"$f":"(AQ270/60)*'CTI INPUTS'!$C$6","v":0},{"$f":"(AR270/60)*'CTI INPUTS'!$C$6","v":0},null,{"$f":"(P270*('CTI INPUTS'!$D$17))+(R270*('CTI INPUTS'!$D$18))+(X270*('CTI INPUTS'!$D$12))+(Y270*('CTI INPUTS'!$D$13))+(Z270*('CTI INPUTS'!$D$14))","v":0},{"$f":"(N270*('CTI INPUTS'!$D$19))+(R270*('CTI INPUTS'!$D$18))+(Z270*('CTI INPUTS'!$D$14))","v":0},{"$f":"(U270*'CTI INPUTS'!$D$15)+(N270*'CTI INPUTS'!$D$16)","v":0},null,{"$f":"(X270*('CTI INPUTS'!$D$12))","v":0},{"$f":"(Y270*('CTI INPUTS'!$D$13))","v":0},{"$f":"(Z270*('CTI INPUTS'!$D$14))","v":0},null,{"$f":"AB270*'CTI INPUTS'!$D$42","v":0},{"$f":"AC270*'CTI INPUTS'!$D$43","v":0},{"$f":"AD270*'CTI INPUTS'!$D$44","v":0},{"$f":"AF270*'CTI INPUTS'!$D$45","v":0}]
[null,null,null,null,null,{"$f":"SUM(F259:F270)","v":48576},null,{"$f":"SUM((H259:H270)+(I259:I270))","v":14096},null,null,{"$f":"SUM(K259:K270)","v":72864},{"$f":"SUM(L259:L270)","v":0},null,{"$f":"SUM(N259:N270)","v":2024},null,{"$f":"SUM(P259:P270)","v":2942.6666666666665},null,{"$f":"SUM(R259:R270)","v":8096},{"$f":"SUM(S259:S270)","v":0},null,{"$f":"SUM(U259:U270)","v":12144},{"$f":"SUM(V259:V270)","v":0},null,{"$f":"SUM((X259:X270)+(Y259:Y270)+(Z259:Z270))","v":24288},null,null,null,{"$f":"SUM((AB259:AB270)+(AC259:AC270)+(AD259:AD270))","v":12144},null,null,null,{"$f":"SUM(AF259:AF270)","v":4048},null,{"$f":"SUM(AH259:AH270)","v":202.40000000000003},null,{"$f":"SUM(AJ259:AJ270)","v":6072},{"$f":"SUM(AK259:AK270)","v":5833.6},null,{"$f":"SUM(AM259:AM270)","v":10120},{"$f":"SUM(AN259:AN270)","v":0},null,{"$f":"SUM(AP259:AP270)","v":8096},{"$f":"SUM(AQ259:AQ270)","v":6072},{"$f":"SUM(AR259:AR270)","v":4048},null,{"$f":"SUM(AT259:AT270)","v":10120},{"$f":"SUM(AU259:AU270)","v":9722.6666666666661},null,{"$f":"SUM(AW259:AW270)","v":13493.333333333334},{"$f":"SUM(AX259:AX270)","v":10120},{"$f":"SUM(AY259:AY270)","v":6746.6666666666661},null,{"$f":"SUM(BA259:BA270)","v":38339.599999999999},{"$f":"SUM(BB259:BB270)","v":25886.959999999999},{"$f":"SUM(BC259:BC270)","v":20240},null,{"$f":"SUM((BE259:BE270)+(BF259:BF270)+(BG259:BG270))","v":11334.400000000001},null,null,null,{"$f":"SUM((BI259:BI270)+(BJ259:BJ270)+(BK259:BK270))","v":14613.279999999999},null,null,{"$f":"SUM(BL259:BL270)","v":11132},null,{"$f":"SUM(BN259:BN270)","v":0},{"$f":"SUM(BO259:BO270)","v":0},{"$f":"SUM(BP259:BP270)","v":0}]
[]
[null,"Customer Input GENERAL CALCULATIONS (DO NOT DELETE)",null,null,null,null,null,"TSS 8ft GENERAL CALCULATIONS (DO NOT DELETE)",null,null,null,null,"TSS 10ft GENERAL CALCULATIONS (DO NOT DELETE)"]
[null,"TIME COSTS",null,null,null,"MIN",{"$f":"D127-H19","v":2402},"TIME COSTS",null,null,null,null,"TIME COSTS",null,null,null,"MIN"]
[null,"STRUT SUPPORT INSTALLATION TIME COST:",null,null,{"$f":"(N113*'CTI INPUTS'!C6)/60","v":29726.666666666668},{"$f":"N113","v":17836},{"$f":"F275/60","v":297.26666666666665},"URH SUPPORT INSTALLATION TIME COST:",null,null,{"$f":"(L178*'CTI INPUTS'!$C$6)/60","v":14595},{"$f":"F275/60","v":297.26666666666665},"URH SUPPORT INSTALLATION TIME COST:",null,null,{"$f":"(L179*'CTI INPUTS'!$C$6)/60","v":12065},{"$f":"L179","v":7239}]
[null,"FABRICATED FITTINGS TIME COST:",null,null,{"$f":"((N131+N133)*'CTI INPUTS'!C6)/60","v":474.33333333333337},{"$f":"N131+N133","v":284.60000000000002},{"$f":"F276/60","v":4.7433333333333341},"C2G + FABRICATED FITTINGS TIME COST:",null,null,{"$f":"(L161-N135)*('CTI INPUTS'!$C$6)/60","v":409.33333333333337},{"$f":"F276/60","v":4.7433333333333341},"C2G + FABRICATED FITTINGS TIME COST:",null,null,{"$f":"(L161-N135)*('CTI INPUTS'!$C$6)/60","v":409.33333333333337},{"$f":"(L161-N135)","v":245.60000000000002},{"$f":"I127-H19","v":2282}]
[null,"WSKIT SPLICE INSTALLATION TIME COST",null,null,{"$f":"(N121*'CTI INPUTS'!C6)/60","v":44986.666666666664},{"$f":"N121","v":26992},{"$f":"F277/60","v":449.86666666666667},"PLOK + WSKIT SPLICE INSTALLATION TIME COST:",null,null,{"$f":"(L169*'CTI INPUTS'!$C$6)/60","v":5459.3333333333339},{"$f":"F277/60","v":449.86666666666667},"PLOK + WSKIT SPLICE INSTALLATION TIME COST:",null,null,{"$f":"(L170*'CTI INPUTS'!$C$6)/60","v":5459.3333333333339},{"$f":"(L170)","v":3275.6000000000004}]
[null,"FLXW + HDWR INSTALLATION TIME COST:",null,null,{"$f":"(N123*'CTI INPUTS'!C6)/60","v":22295},{"$f":"N123","v":13377},{"$f":"F278/60","v":222.95},"URH TAB BENDING INSTALLATION TIME COST:",null,null,{"$f":"(D158*'CTI INPUTS'!$C$59)*('CTI INPUTS'!$C$6/60)","v":486.50000000000006},{"$f":"F278/60","v":222.95},"URH TAB BENDING INSTALLATION TIME COST:",null,null,{"$f":"(D159*'CTI INPUTS'!$C$59)*('CTI INPUTS'!$C$6/60)","v":402.16666666666669},{"$f":"D159","v":2413},0]
[null,null,null,null,null,{"$f":"SUM(F275:F278)/60","v":974.8266666666666},"TOTAL TIME:",null,null,null,null,null,null,null,null,null,{"$f":"SUM(Q275:Q278)/60","v":219.55333333333334},"TOTAL TIME:"]
[null,"MATERIAL COSTS",null,null,null,"QTY (PCS)",null,"MATERIAL COSTS",null,null,null,null,"MATERIAL COSTS",null,null,null,"QTY (PCS)"]
[null,"STRUT SUPPORT CHANNEL QUANTITY COST:",null,null,{"$f":"D115*'CTI INPUTS'!D17","v":28950},{"$f":"D113","v":4459},null,"URH SUPPORT CHANNEL QUANTITY COST:",null,null,{"$f":"D174*'CTI INPUTS'!$C$69","v":29672.79},null,"URH SUPPORT CHANNEL QUANTITY COST:",null,null,{"$f":"D175*'CTI INPUTS'!$C$69","v":24471.626666666667},{"$f":"I113","v":2413}]
[null,"ATR QUANTITY COST:",null,null,{"$f":"(D121)*'CTI INPUTS'!D18","v":30321.200000000001},{"$f":"F281*2","v":8918},null,"ATR QUANTITY COST:",null,null,{"$f":"D166*'CTI INPUTS'!$D$18","v":19849.2},null,"ATR QUANTITY COST:",null,null,{"$f":"D167*'CTI INPUTS'!$D$18","v":16408.399999999998},{"$f":"I113*2","v":4826}]
[null,"ATR HARDWARE QUANTITY COST:",null,null,{"$f":"(D123)*('CTI INPUTS'!D12+'CTI INPUTS'!D13+'CTI INPUTS'!D14)","v":74911.199999999997},{"$f":"D123","v":53508},null,"ATR HARDWARE QUANTITY COST:",null,null,{"$f":"D180*('CTI INPUTS'!$D$13+'CTI INPUTS'!$D$14)","v":10150.400000000001},null,"ATR HARDWARE QUANTITY COST:",null,null,{"$f":"D181*('CTI INPUTS'!$D$13+'CTI INPUTS'!$D$14)","v":7721.6},{"$f":"D181","v":19304}]
[null,"WSKIT SPLICE KIT QUANTITY COST:",null,null,{"$f":"(D129*'CTI INPUTS'!C62)/4","v":13496},{"$f":"D129","v":53984},null,"PLOK + WSKIT SPLICE KIT QUANTITY COST:",null,null,{"$f":"SUM((((H7:H18)+(H26:H37)+(H43:H54)+(H60:H71)+(H77:H88)+(H94:H105))*'CTI INPUTS'!$C$63)+(((I7:I18)+(I26:I37)+(I43:I54)+(I60:I71)+(I77:I88)+(I94:I105))*'CTI INPUTS'!$C$62/4))","v":30241.780000000002},null,"PLOK + WSKIT SPLICE KIT QUANTITY COST:",null,null,{"$f":"SUM((((H7:H18)+(H26:H37)+(H43:H54)+(H60:H71)+(H77:H88)+(H94:H105))*'CTI INPUTS'!$C$63)+(((I7:I18)+(I26:I37)+(I43:I54)+(I60:I71)+(I77:I88)+(I94:I105))*'CTI INPUTS'!$C$62/4))","v":30241.780000000002},{"$f":"SUM((((H7:H18)+(H26:H37)+(H43:H54)+(H60:H71)+(H77:H88)+(H94:H105)))+(((I7:I18)+(I26:I37)+(I43:I54)+(I60:I71)+(I77:I88)+(I94:I105))))","v":15098}]
[null,"FLXW + HDWR QUANTITY COST:",null,null,{"$f":"(D131*'CTI INPUTS'!C64)/3","v":40131},{"$f":"D131","v":26754},null,null,null,"TOTAL COST:",{"$f":"SUM(K275:K284)","v":110864.33666666667},null,null,null,"TOTAL COST:",{"$f":"SUM(P275:P284)","v":97179.24},{"$f":"SUM(Q281:Q284)","v":41641},"TOTAL QTY:"]
[null,null,null,"TOTAL COST:",{"$f":"SUM(E275:E285)","v":285292.06666666665},{"$f":"SUM(F281:F285)","v":147623},"TOTAL QTY:"]
[null,null,null,null,null,null,null,"TSS 8ft GENERAL CALCULATIONS (DO NOT DELETE)",null,null,null,null,"TSS 10ft GENERAL CALCULATIONS (DO NOT DELETE)"]
[null,null,null,null,null,null,null,"TIME COSTS",null,null,null,null,"TIME COSTS"]
[null,null,null,null,null,null,null,"CABLE SUPPORT INSTALLATION TIME COST:",null,null,{"$f":"(L180*'CTI INPUTS'!$C$6)/60","v":9730},null,"CABLE SUPPORT INSTALLATION TIME COST:",null,null,{"$f":"(L181*'CTI INPUTS'!$C$6)/60","v":8043.333333333333}]
[null,null,null,null,null,null,null,"C2G + FABRICATED FITTINGS TIME COST:",null,null,{"$f":"(L161-N135)*('CTI INPUTS'!$C$6)/60","v":409.33333333333337},null,"C2G + FABRICATED FITTINGS TIME COST:",null,null,{"$f":"(L161-N135)*('CTI INPUTS'!$C$6)/60","v":409.33333333333337}]
[null,null,null,null,null,null,null,"PLOK + WSKIT SPLICE INSTALLATION TIME COST:",null,null,{"$f":"(L169*'CTI INPUTS'!$C$6)/60","v":5459.3333333333339},null,"PLOK + WSKIT SPLICE INSTALLATION TIME COST:",null,null,{"$f":"(L170*'CTI INPUTS'!$C$6)/60","v":5459.3333333333339}]
[]
[null,null,null,null,null,null,null,"MATERIAL COSTS",null,null,null,null,"MATERIAL COSTS"]
[null,null,null,null,null,null,null,"CABLE SUPPORT CABLE QUANTITY COST:",null,null,{"$f":"D185*'CTI INPUTS'!$D$15","v":17514},null,"CABLE SUPPORT CABLE QUANTITY COST:",null,null,{"$f":"D186*'CTI INPUTS'!$D$15","v":14478}]
[null,null,null,null,null,null,null,"CABLE SUPPORT CABLE CLAMP COST:",null,null,{"$f":"D158*'CTI INPUTS'!$D$16","v":11676},null,"CABLE SUPPORT CABLE CLAMP COST:",null,null,{"$f":"D159*'CTI INPUTS'!$D$16","v":9652}]
[null,null,null,null,null,null,null,"PLOK + WSKIT SPLICE KIT QUANTITY COST:",null,null,{"$f":"SUM((((H7:H18)+(H26:H37)+(H43:H54)+(H60:H71)+(H77:H88)+(H94:H105))*'CTI INPUTS'!$C$63)+(((I7:I18)+(I26:I37)+(I43:I54)+(I60:I71)+(I77:I88)+(I94:I105))*'CTI INPUTS'!$C$62/4))","v":30241.780000000002},null,"PLOK + WSKIT SPLICE KIT QUANTITY COST:",null,null,{"$f":"SUM((((H7:H18)+(H26:H37)+(H43:H54)+(H60:H71)+(H77:H88)+(H94:H105))*'CTI INPUTS'!$C$63)+(((I7:I18)+(I26:I37)+(I43:I54)+(I60:I71)+(I77:I88)+(I94:I105))*'CTI INPUTS'!$C$62/4))","v":30241.780000000002}]
[null,null,null,null,null,null,null,null,null,"TOTAL COST:",{"$f":"SUM(K289:K296)","v":75030.44666666667},null,null,null,"TOTAL COST:",{"$f":"SUM(P289:P296)","v":68283.78}]

{"sheet":"Summary","index":4,"n_rows":339,"n_cols":20,"rows_kept":339,"cut":false,"hidden":false,"merged":[[343,11,345,12],[347,11,350,12],[312,11,317,12],[334,11,336,12],[338,11,340,12],[319,11,321,12],[323,11,325,12],[327,11,328,12],[330,11,332,12],[94,14,94,16],[95,14,95,16],[96,14,96,16],[97,14,97,16],[0,0,42,8]]}
[null,null,null,null,null,null,null,null,null,null,{"$f":"TODAY()","v":"2024-07-30"}]
[]
[]
[]
[]
[]
[]
[]
[]
[]
[]
[]
[]
[]
[]
[]
[]
[]
[]
[]
[]
[]
[]
[]
[]
[]
[]
[]
[]
[]
[]
[]
[]
[]
[]
[]
[]
[]
[]
[]
[]
[]
[]
[]
[]
[]
[]
[]
[]
[]
[]
[]
[]
[]
[]
[]
[]
[]
[]
[]
[null,null,null,null,null,null,null,null,null,null,"Supports Savings","(Pieces)","($ USD)","(Hours)"]
[null,null,null,null,null,null,null,null,null,null,"TSS:",{"$f":"L117+M117+L128+M128","v":43923},{"$f":"L142+M142+M152+L152","v":97179.239999999991},{"$f":"L96+M96+M107+L107","v":219.55333333333334}]
[null,null,null,null,null,null,null,null,null,null,"NEMA:",{"$f":"L118+M118+L129+M129","v":150025},{"$f":"M143+L143+L153+M153","v":285292.06666666665},{"$f":"L97+M97+M108+L108","v":974.82666666666671}]
[null,null,null,null,null,null,null,null,null,null,"Delta",{"$f":"L63-L62","v":106102},{"$f":"M63-M62","v":188112.82666666666},{"$f":"N63-N62","v":755.27333333333331}]
[null,null,null,null,null,null,null,null,null,null,null,{"$f":"(L63-L62)/L63","v":0.70722879520079984},{"$f":"(M63-M62)/M63","v":0.65936928728710997},{"$f":"(N63-N62)/N63","v":0.77477705438231748}]
[]
[]
[]
[]
[]
[]
[]
[]
[]
[]
[]
[]
[]
[]
[]
[]
[]
[]
[]
[]
[]
[]
[]
[]
[]
[]
[]
[]
[null,null,null,null,null,null,null,null,null,null,null,"Support Installation","Fitting Fabrication"]
[null,null,null,null,null,null,null,null,null,null,null,"(Hours)","(Hours)",null,"STRUT SUPPORT INSTALLATION TIME COST:"]
[null,null,null,null,null,null,null,null,null,null,"TSS:",{"$f":"'DATA CALCULATIONS'!Q275/60","v":120.65},{"$f":"'DATA CALCULATIONS'!Q276/60","v":4.0933333333333337},null,"FABRICATED FITTINGS TIME COST:"]
[null,null,null,null,null,null,null,null,null,null,"NEMA:",{"$f":"'DATA CALCULATIONS'!F275/60","v":297.26666666666665},{"$f":"'DATA CALCULATIONS'!F276/60","v":4.7433333333333341},null,"WSKIT SPLICE INSTALLATION TIME COST"]
[null,null,null,null,null,null,null,null,null,null,"Delta",{"$f":"L97-L96","v":176.61666666666665},{"$f":"M97-M96","v":0.65000000000000036},null,"FLXW + HDWR INSTALLATION TIME COST:"]
[null,null,null,null,null,null,null,null,null,null,"Notes:","Calculated Hours Saved","Calculated Hours Saved"]
[null,null,null,null,null,null,null,null,null,null,null,"Ref. Chart 1A","Ref. Chart 1B"]
[]
[]
[]
[]
[null,null,null,null,null,null,null,null,null,null,null,"Splicing Installation","Restraint Installation"]
[null,null,null,null,null,null,null,null,null,null,null,"(Hours)","(Hours)"]
[null,null,null,null,null,null,null,null,null,null,"TSS:",{"$f":"'DATA CALCULATIONS'!Q277/60","v":54.593333333333341},{"$f":"'DATA CALCULATIONS'!Q278/60","v":40.216666666666669}]
[null,null,null,null,null,null,null,null,null,null,"NEMA:",{"$f":"'DATA CALCULATIONS'!F277/60","v":449.86666666666667},{"$f":"'DATA CALCULATIONS'!F278/60","v":222.95}]
[null,null,null,null,null,null,null,null,null,null,"Delta",{"$f":"L108-L107","v":395.27333333333331},{"$f":"M108-M107","v":182.73333333333332}]
[null,null,null,null,null,null,null,null,null,null,"Notes:","Calculated Hours Saved","Calculated Hours Saved"]
[null,null,null,null,null,null,null,null,null,null,null,"Ref. Chart 2A","Ref. Chart 2B"]
[]
[]
[]
[null,null,null,null,null,null,null,null,null,null,null,"Support Installation","Fitting Fabrication"]
[null,null,null,null,null,null,null,null,null,null,null,"(Pieces)","(Pieces)"]
[null,null,null,null,null,null,null,null,null,null,"TSS:",{"$f":"'DATA CALCULATIONS'!Q281+'DATA CALCULATIONS'!Q282+'DATA CALCULATIONS'!Q283","v":26543},{"$f":"'DATA CALCULATIONS'!R276","v":2282}]
[null,null,null,null,null,null,null,null,null,null,"NEMA:",{"$f":"'DATA CALCULATIONS'!F281+'DATA CALCULATIONS'!F282+'DATA CALCULATIONS'!F283","v":66885},{"$f":"'DATA CALCULATIONS'!G274","v":2402}]
[null,null,null,null,null,null,null,null,null,null,"Delta",{"$f":"L118-L117","v":40342},{"$f":"M118-M117","v":120}]
[null,null,null,null,null,null,null,null,null,null,"Notes:","Calculated Pieces Saved","Calculated Pieces Saved"]
[null,null,null,null,null,null,null,null,null,null,null,"Ref. Chart 3A","Ref. Chart 3B"]
[]
[]
[]
[]
[null,null,null,null,null,null,null,null,null,null,null,"Splicing Installation","Restraint Installation"]
[null,null,null,null,null,null,null,null,null,null,null,"(Pieces)","(Pieces)"]
[null,null,null,null,null,null,null,null,null,null,"TSS:",{"$f":"'DATA CALCULATIONS'!Q284","v":15098},{"$f":"'DATA CALCULATIONS'!R278","v":0}]
[null,null,null,null,null,null,null,null,null,null,"NEMA:",{"$f":"'DATA CALCULATIONS'!F284","v":53984},{"$f":"'DATA CALCULATIONS'!F285","v":26754}]
[null,null,null,null,null,null,null,null,null,null,"Delta",{"$f":"L129-L128","v":38886},{"$f":"M129-M128","v":26754}]
[null,null,null,null,null,null,null,null,null,null,"Notes:","Calculated Pieces Saved","Calculated Pieces Saved"]
[null,null,null,null,null,null,null,null,null,null,null,"Ref. Chart 4A","Ref. Chart 4B"]
[]
[]
[]
[]
[]
[]
[]
[null,null,null,null,null,null,null,null,null,null,null,"Support Installation","Fitting Fabrication"]
[null,null,null,null,null,null,null,null,null,null,null,"($USD)","($USD)"]
[null,null,null,null,null,null,null,null,null,null,"TSS:",{"$f":"'DATA CALCULATIONS'!P275+'DATA CALCULATIONS'!P281+'DATA CALCULATIONS'!P282+'DATA CALCULATIONS'!P283","v":60666.626666666656},{"$f":"'DATA CALCULATIONS'!P276","v":409.33333333333337}]
[null,null,null,null,null,null,null,null,null,null,"NEMA:",{"$f":"'DATA CALCULATIONS'!E275+'DATA CALCULATIONS'!E281+'DATA CALCULATIONS'!E282+'DATA CALCULATIONS'!E283","v":163909.06666666665},{"$f":"'DATA CALCULATIONS'!E276","v":474.33333333333337}]
[null,null,null,null,null,null,null,null,null,null,"Delta",{"$f":"L143-L142","v":103242.44},{"$f":"M143-M142","v":65}]
[null,null,null,null,null,null,null,null,null,null,"Notes:","Calculated Dollars Saved","Calculated Dollars Saved"]
[null,null,null,null,null,null,null,null,null,null,null,"Ref. Chart 5A","Ref. Chart 5B"]
[]
[]
[]
[null,null,null,null,null,null,null,null,null,null,null,"Splicing Installation","Restraint Installation"]
[null,null,null,null,null,null,null,null,null,null,null,"($USD)","($USD)"]
[null,null,null,null,null,null,null,null,null,null,"TSS:",{"$f":"'DATA CALCULATIONS'!P277+'DATA CALCULATIONS'!P284","v":35701.113333333335},{"$f":"'DATA CALCULATIONS'!P278","v":402.16666666666669}]
[null,null,null,null,null,null,null,null,null,null,"NEMA:",{"$f":"'DATA CALCULATIONS'!E277+'DATA CALCULATIONS'!E284","v":58482.666666666664},{"$f":"'DATA CALCULATIONS'!E278+'DATA CALCULATIONS'!E285","v":62426}]
[null,null,null,null,null,null,null,null,null,null,"Delta",{"$f":"L153-L152","v":22781.55333333333},{"$f":"M153-M152","v":62023.833333333336}]
[null,null,null,null,null,null,null,null,null,null,"Notes:","Calculated Dollars Saved","Calculated Dollars Saved"]
[null,null,null,null,null,null,null,null,null,null,null,"Ref. Chart 6A","Ref. Chart 6B"]
[]
[]
[]
[]
[]
[]
[null,null,null,null,null,null,null,null,null,null,"TSS: Value Chart","Supports Required (QTY)","Supports Installation  (HRS)","Supports Cost         (USD)","Splicing Required (QTY)","Splicing Installation (Hrs)","Splicing Cost              (USD)","Restraints Required (QTY)","Restraints Installation  (HRS)","Restraints Cost              (USD)"]
[null,null,null,null,null,null,null,null,null,null,"TSS:",{"$f":"'DATA CALCULATIONS'!D159","v":2413},{"$f":"'DATA CALCULATIONS'!L179/60","v":120.65},{"$f":"L142","v":60666.626666666656},{"$f":"'DATA CALCULATIONS'!D209","v":16378},{"$f":"'DATA CALCULATIONS'!L170/60","v":54.593333333333341},{"$f":"L152","v":35701.113333333335},{"$f":"'DATA CALCULATIONS'!R278","v":0},{"$f":"'DATA CALCULATIONS'!Q278/60","v":40.216666666666669},{"$f":"M152","v":402.16666666666669}]
[null,null,null,null,null,null,null,null,null,null,"NEMA:",{"$f":"'DATA CALCULATIONS'!D157","v":4459},{"$f":"'DATA CALCULATIONS'!L173/60","v":297.26666666666665},{"$f":"L143","v":163909.06666666665},{"$f":"'DATA CALCULATIONS'!D204","v":53984},{"$f":"'DATA CALCULATIONS'!L165/60","v":449.86666666666667},{"$f":"L153","v":58482.666666666664},{"$f":"'DATA CALCULATIONS'!F285","v":26754},{"$f":"'DATA CALCULATIONS'!F278/60","v":222.95},{"$f":"M153","v":62426}]
[null,null,null,null,null,null,null,null,null,null,"Savings",{"$f":"(L165-L164)/L165","v":0.4588472751738058},0.59413545638035425,0.62987632166778662,0.69661381149970358,0.87864552459988143,0.38954368245862014,1,0.81961575839126855,0.9935577056568311]
[]
[]
[]
[]
[]
[]
[]
[]
[]
[]
[]
[]
[]
[]
[null,null,null,null,null,null,null,null,null,null,"Hours (HRS)","Supports","Splicing","Restraints","Fittings","Totals"]
[null,null,null,null,null,null,null,null,null,null,"TSS:",{"$f":"L96","v":120.65},{"$f":"L107","v":54.593333333333341},{"$f":"M107","v":40.216666666666669},{"$f":"M96","v":4.0933333333333337},{"$f":"SUM(L182:O182)","v":219.55333333333334}]
[null,null,null,null,null,null,null,null,null,null,"NEMA:",{"$f":"L97","v":297.26666666666665},{"$f":"L108","v":449.86666666666667},{"$f":"M108","v":222.95},{"$f":"M97","v":4.7433333333333341},{"$f":"SUM(L183:O183)","v":974.8266666666666}]
[]
[null,null,null,null,null,null,null,null,null,null,"Hours Savings %","Supports","Splicing","Restraints","Fittings"]
[null,null,null,null,null,null,null,null,null,null,"% Savings",{"$f":"(L183-L182)/L183","v":0.59413545638035425},{"$f":"(M183-M182)/M183","v":0.87864552459988143},{"$f":"(N183-N182)/N183","v":0.81961575839126855},{"$f":"(O183-O182)/O183","v":0.13703443429374565},{"$f":"P183-P182","v":755.27333333333331}]
[]
[]
[]
[]
[]
[]
[]
[]
[]
[null,null,null,null,null,null,null,null,null,null,"Cost (USD)","Supports","Splicing","Restraints","Fittings","Totals"]
[null,null,null,null,null,null,null,null,null,null,"TSS:",{"$f":"N164","v":60666.626666666656},{"$f":"Q164","v":35701.113333333335},{"$f":"T164","v":402.16666666666669},{"$f":"'DATA CALCULATIONS'!P276","v":409.33333333333337},{"$f":"SUM(L197:O197)","v":97179.239999999991}]
[null,null,null,null,null,null,null,null,null,null,"NEMA:",{"$f":"N165","v":163909.06666666665},{"$f":"Q165","v":58482.666666666664},{"$f":"T165","v":62426},{"$f":"'DATA CALCULATIONS'!E276","v":474.33333333333337},{"$f":"SUM(L198:O198)","v":285292.06666666659}]
[]
[null,null,null,null,null,null,null,null,null,null,"Cost QTY","Supports","Splicing","Restraints","Fittings"]
[null,null,null,null,null,null,null,null,null,null,"%\nSavings",{"$f":"(L198-L197)/L198","v":0.62987632166778662},{"$f":"(M198-M197)/M198","v":0.38954368245862014},{"$f":"(N198-N197)/N198","v":0.9935577056568311},{"$f":"(O198-O197)/O198","v":0.13703443429374559},{"$f":"P198-P197","v":188112.8266666666}]
[]
[]
[]
[]
[]
[]
[]
[]
[]
[]
[null,null,null,null,null,null,null,null,null,null,"Components (QTY)","Hardware","Splicing","Restraints","ATR","Totals"]
[null,null,null,null,null,null,null,null,null,null,"TSS:",{"$f":"'DATA CALCULATIONS'!D170","v":28956},{"$f":"'DATA CALCULATIONS'!D209","v":16378},{"$f":"'DATA CALCULATIONS'!D197","v":4826},{"$f":"'DATA CALCULATIONS'!D178","v":9652},{"$f":"SUM(L213:O213)","v":59812}]
[null,null,null,null,null,null,null,null,null,null,"NEMA:",{"$f":"'DATA CALCULATIONS'!D168","v":53508},{"$f":"'DATA CALCULATIONS'!D204","v":53984},{"$f":"'DATA CALCULATIONS'!D192","v":26754},{"$f":"'DATA CALCULATIONS'!D176","v":17836},{"$f":"SUM(L214:O214)","v":152082}]
[]
[null,null,null,null,null,null,null,null,null,null,"Components (HRS)","Hardware","Splicing","Restraints",null,"Totals"]
[null,null,null,null,null,null,null,null,null,null,"TSS:",{"$f":"'DATA CALCULATIONS'!L179/60","v":120.65},{"$f":"'DATA CALCULATIONS'!L170/60","v":54.593333333333341},{"$f":"'DATA CALCULATIONS'!L190/60","v":4.0216666666666665},null,{"$f":"SUM(L217:O217)","v":179.26500000000001}]
[null,null,null,null,null,null,null,null,null,null,"NEMA:",{"$f":"'DATA CALCULATIONS'!L173/60","v":297.26666666666665},{"$f":"'DATA CALCULATIONS'!L165/60","v":449.86666666666667},{"$f":"'DATA CALCULATIONS'!L184/60","v":222.95},null,{"$f":"SUM(L218:O218)","v":970.08333333333326}]
[null,null,null,null,null,null,null,null,null,null,"Hours Saved",{"$f":"L218-L217","v":176.61666666666665},{"$f":"M218-M217","v":395.27333333333331},{"$f":"N218-N217","v":218.92833333333331},{"$f":"SUM(L219:N219)","v":790.81833333333327}]
[null,null,null,null,null,null,null,null,null,null,null,{"$f":"M164","v":120.65},{"$f":"P164","v":54.593333333333341},{"$f":"S164","v":40.216666666666669},null,{"$f":"SUM(L220:O220)","v":215.46}]
[]
[]
[]
[]
[null,null,null,null,null,null,null,null,null,null,{"$f":"ProjectData!F17","v":"Not Required"},{"$f":"IF(K225=\"Not Required\", 0,\"1\")","v":0}]
[null,null,null,null,null,null,null,null,null,null,"Covers (QTY)","Pieces Saved","Hours Saved"]
[null,null,null,null,null,null,null,null,null,null,"TSS:",{"$f":"'DATA CALCULATIONS'!D19*L225","v":0},{"$f":"'DATA CALCULATIONS'!L154/60*L225","v":0}]
[null,null,null,null,null,null,null,null,null,null,"NEMA:",{"$f":"L227*24*L225","v":0},{"$f":"'DATA CALCULATIONS'!L153/60*L225","v":0}]
[null,null,null,null,null,null,null,null,null,null,"TSS Recommendation",{"$f":"L228-L227","v":0},{"$f":"M228-M227","v":0}]
[]
[null,null,null,null,null,null,null,null,null,null,"HB Fabrication","Cut Edges Saved","Hours Saved"]
[null,null,null,null,null,null,null,null,null,null,"TSS Recommendation",{"$f":"'DATA CALCULATIONS'!T149","v":0},{"$f":"'DATA CALCULATIONS'!L158/60","v":0}]
[null,null,null,null,null,null,null,null,null,null,"NEMA:",{"$f":"'DATA CALCULATIONS'!T148","v":480},{"$f":"'DATA CALCULATIONS'!L157/60","v":0.65}]
[null,null,null,null,null,null,null,null,null,null,"TSS Recommendation",{"$f":"L233-L232","v":480},{"$f":"M233-M232","v":0.65}]
[]
[]
[]
[]
[]
[]
[]
[null,null,null,null,null,null,null,null,null,null,"Supports","QTY","Cost (USD)","Totals"]
[null,null,null,null,null,null,null,null,null,null,"TSS:",{"$f":"'DATA CALCULATIONS'!I113","v":2413},{"$f":"'DATA CALCULATIONS'!D164*'CTI INPUTS'!D17","v":15575.999999999998},{"$f":"M244-M243","v":13374.000000000002}]
[null,null,null,null,null,null,null,null,null,null,"NEMA:",{"$f":"'DATA CALCULATIONS'!D113","v":4459},{"$f":"'DATA CALCULATIONS'!D162*'CTI INPUTS'!D17","v":28950}]
[null,null,null,null,null,null,null,null,null,null,null,{"$f":"(L244-L243)/L244","v":0.4588472751738058},{"$f":"(M244-M243)/M244","v":0.46196891191709849}]
[]
[null,null,null,null,null,null,null,null,null,null,"Linear Ft","Supports (ft)","ATR (ft)","Totals"]
[null,null,null,null,null,null,null,null,null,null,"TSS:",{"$f":"'DATA CALCULATIONS'!T158","v":3461.333333333333},{"$f":"'DATA CALCULATIONS'!D167","v":9652},{"$f":"M248+L248","v":13113.333333333332}]
[null,null,null,null,null,null,null,null,null,null,"NEMA:",{"$f":"'DATA CALCULATIONS'!T156","v":6433.333333333333},{"$f":"'DATA CALCULATIONS'!D165","v":17836},{"$f":"M249+L249","v":24269.333333333332}]
[null,null,null,null,null,null,null,null,null,null,null,{"$f":"(L249-L248)/L249","v":0.46196891191709849},{"$f":"(M249-M248)/M249","v":0.4588472751738058},{"$f":"N249-N248","v":11156}]
[]
[]
[]
[]
[]
[null,null,null,null,null,null,null,null,null,null,"Critical Path","Labor Schedule (hrs)"]
[null,null,null,null,null,null,null,null,null,null,"TSS:",{"$f":"'DATA CALCULATIONS'!T186/60","v":183.35833333333332}]
[null,null,null,null,null,null,null,null,null,null,"NEMA:",{"$f":"'DATA CALCULATIONS'!T184/60","v":974.8266666666666}]
[null,null,null,null,null,null,null,null,null,null,"Savings (QTY)",{"$f":"L258-L257","v":791.46833333333325}]
[null,null,null,null,null,null,null,null,null,null,"Savings (%)",{"$f":"(L258-L257)/L258","v":0.81190673213699527}]
[]
[null,null,null,null,null,null,null,null,null,null,"Critical Path","Pieces  (QTY)"]
[null,null,null,null,null,null,null,null,null,null,"TSS:",{"$f":"'DATA CALCULATIONS'!T158+'DATA CALCULATIONS'!T167+'DATA CALCULATIONS'!T172","v":60347.333333333328}]
[null,null,null,null,null,null,null,null,null,null,"NEMA:",{"$f":"'DATA CALCULATIONS'!T156+'DATA CALCULATIONS'!T165+'DATA CALCULATIONS'!T170","v":194663.33333333334}]
[null,null,null,null,null,null,null,null,null,null,"Savings (QTY)",{"$f":"L264-L263","v":134316}]
[null,null,null,null,null,null,null,null,null,null,"Savings (%)",{"$f":"(L264-L263)/L264","v":0.68999126697374946}]
[]
[]
[]
[]
[]
[]
[]
[]
[]
[]
[]
[]
[]
[]
[]
[]
[]
[]
[]
[]
[]
[]
[]
[]
[]
[]
[]
[]
[]
[]
[]
[]
[]
[]
[]
[]
[]
[]
[]
[]
[]
[]
[]
[]
[]
[]
[null,null,null,null,null,null,null,null,null,null,null,{"$f":"IFERROR(\"Maximize project returns by eliminating structure, increasing installation efficiency, and removing complexitity. By applying TSS advantages, your next project could yeild $\"&TEXT(M64,\"#,###\")&\" or more in project savings.\",\"Please enter values for all of the inputs to view the completed analysis.\")","v":"Maximize project returns by eliminating structure, increasing installation efficiency, and removing complexitity. By applying TSS advantages, your next project could yeild $188,113 or more in project savings."}]
[]
[]
[]
[]
[]
[]
[null,null,null,null,null,null,null,null,null,null,null,{"$f":"IFERROR(\"Exceed project schedules by decreasing critical path & skilled labor hours.  With intuitive design and simplicstic fixing methods, more than \"&TEXT(N64,\"#,###0.0\")&\" hours can be eliminated.\",\"Please enter values for all of the inputs to view the completed analysis.\")","v":"Exceed project schedules by decreasing critical path & skilled labor hours.  With intuitive design and simplicstic fixing methods, more than 755.3 hours can be eliminated."}]
[]
[]
[]
[null,null,null,null,null,null,null,null,null,null,null,{"$f":"IFERROR(\"Errors and unwanted expenses often stem from jobsite complexities.  CTI's TOUGHMesh system can eliminate as much as \"&TEXT(L64,\"#,###\")&\" pieces of hardware and accessores from this project.\",\"Please enter values for all of the inputs to view the completed analysis.\")","v":"Errors and unwanted expenses often stem from jobsite complexities.  CTI's TOUGHMesh system can eliminate as much as 106,102 pieces of hardware and accessores from this project."}]
[]
[]
[]
[]
[]
[]
[null,null,null,null,null,null,null,null,null,null,null,{"$f":"IFERROR(\"A typical NEMA installation of this size would require a \"&TEXT(M65,\"#,##0.0%\")&\" reduction in material prices to meet the $ value of TSS while still requiring an extra \"&TEXT(N64,\"#,##0.0\")&\" hours of additional labor.\",\"Please enter values for all of the inputs to view the completed analysis.\")","v":"A typical NEMA installation of this size would require a 65.9% reduction in material prices to meet the $ value of TSS while still requiring an extra 755.3 hours of additional labor."}]
[]
[]
[]
[null,null,null,null,null,null,null,null,null,null,null,{"$f":"\"TOUGH Support Savings:\n(The ability to minimize project expenses and maximize project ROI):\"","v":"TOUGH Support Savings:\n(The ability to minimize project expenses and maximize project ROI):"}]
[]
[]
[]
[null,null,null,null,null,null,null,null,null,null,null,{"$f":"\"1. Support Optimization - Eliminate Unnecessary Tray Supports\n2. Speed of Installation - Simplify & Reduce Complexity \n3. Advanced Protection - Guard Against Long Lead Times & Sharp Edges\"","v":"1. Support Optimization - Eliminate Unnecessary Tray Supports\n2. Speed of Installation - Simplify & Reduce Complexity \n3. Advanced Protection - Guard Against Long Lead Times & Sharp Edges"}]